BEGIN:VCALENDAR
VERSION:2.0
PRODID:VSD-Portal-www.volley.de
METHOD:PUBLISH
BEGIN:VEVENT
UID:330571-0b1cb5f82de24c98f11e829bddb1f0f9
X-WR-RELCALID:330571-0b1cb5f82de24c98f11e829bddb1f0f9
ORGANIZER:Volleyball
SEQUENCE:261142108
SUMMARY:U14 KL 4 m: FC Kirchweidach - TSV Mühldorf III
CLASS:PUBLIC
DTSTART;VALUE=DATE:20230924
DTSTAMP:20231109T082300Z
DTEND;VALUE=DATE:20230925
END:VEVENT
BEGIN:VEVENT
UID:330574-0b1cb5f82de24c98f11e829bddb1f0f9
X-WR-RELCALID:330574-0b1cb5f82de24c98f11e829bddb1f0f9
ORGANIZER:Volleyball
SEQUENCE:261142108
SUMMARY:U14 KL 4 m: SV W.-Burghausen - FC Kirchweidach
CLASS:PUBLIC
DTSTART;VALUE=DATE:20230924
DTSTAMP:20231109T082300Z
DTEND;VALUE=DATE:20230925
END:VEVENT
BEGIN:VEVENT
UID:330581-0b1cb5f82de24c98f11e829bddb1f0f9
X-WR-RELCALID:330581-0b1cb5f82de24c98f11e829bddb1f0f9
ORGANIZER:Volleyball
SEQUENCE:261142108
SUMMARY:U14 KL 4 m: FC Kirchweidach - SV Aschau
CLASS:PUBLIC
DTSTART;VALUE=DATE:20230924
DTSTAMP:20231109T082400Z
DTEND;VALUE=DATE:20230925
END:VEVENT
BEGIN:VEVENT
UID:330583-0b1cb5f82de24c98f11e829bddb1f0f9
X-WR-RELCALID:330583-0b1cb5f82de24c98f11e829bddb1f0f9
ORGANIZER:Volleyball
SEQUENCE:261142108
SUMMARY:U14 KL 4 m: FC Kirchweidach - TSV Gars II
CLASS:PUBLIC
DTSTART;VALUE=DATE:20230924
DTSTAMP:20231109T082300Z
DTEND;VALUE=DATE:20230925
END:VEVENT
BEGIN:VEVENT
UID:330584-0b1cb5f82de24c98f11e829bddb1f0f9
X-WR-RELCALID:330584-0b1cb5f82de24c98f11e829bddb1f0f9
ORGANIZER:Volleyball
SEQUENCE:261142108
SUMMARY:U14 KL 4 m: FC Kirchweidach - FC Kirchweidach II
CLASS:PUBLIC
DTSTART;VALUE=DATE:20230924
DTSTAMP:20231109T082200Z
DTEND;VALUE=DATE:20230925
END:VEVENT
END:VCALENDAR