BEGIN:VCALENDAR
VERSION:2.0
PRODID:VSD-Portal-www.volley.de
METHOD:PUBLISH
BEGIN:VEVENT
UID:335513-0b1cb5f82de24c98f11e829bddb1f0f9
X-WR-RELCALID:335513-0b1cb5f82de24c98f11e829bddb1f0f9
ORGANIZER:Volleyball
SEQUENCE:261130953
LOCATION:Heinrich-Heine-Gymnasium, Max-Reinhardt-Weg 27, 81739 München
 
GEO:48.09171109083896000000;11.63939044952394400000
SUMMARY:U16 SL 3_2 m: TSV Waldtrudering - MTV Pfaffenhofen
CLASS:PUBLIC
DTSTART:20231119T090000Z
DTSTAMP:20231119T100800Z
END:VEVENT
BEGIN:VEVENT
UID:335518-0b1cb5f82de24c98f11e829bddb1f0f9
X-WR-RELCALID:335518-0b1cb5f82de24c98f11e829bddb1f0f9
ORGANIZER:Volleyball
SEQUENCE:261130953
LOCATION:Heinrich-Heine-Gymnasium, Max-Reinhardt-Weg 27, 81739 München
 
GEO:48.09171109083896000000;11.63939044952394400000
SUMMARY:U16 SL 3_2 m: MTV Pfaffenhofen - VfB Hallbergmoos
CLASS:PUBLIC
DTSTART:20231119T113000Z
DTSTAMP:20231119T145000Z
END:VEVENT
BEGIN:VEVENT
UID:335520-0b1cb5f82de24c98f11e829bddb1f0f9
X-WR-RELCALID:335520-0b1cb5f82de24c98f11e829bddb1f0f9
ORGANIZER:Volleyball
SEQUENCE:261130953
LOCATION:Heinrich-Heine-Gymnasium, Max-Reinhardt-Weg 27, 81739 München
 
GEO:48.09171109083896000000;11.63939044952394400000
SUMMARY:U16 SL 3_2 m: TSV Hohenb.-Riemerling - MTV Pfaffenhofen
CLASS:PUBLIC
DTSTART:20231119T130000Z
DTSTAMP:20231119T145400Z
END:VEVENT
BEGIN:VEVENT
UID:335521-0b1cb5f82de24c98f11e829bddb1f0f9
X-WR-RELCALID:335521-0b1cb5f82de24c98f11e829bddb1f0f9
ORGANIZER:Volleyball
SEQUENCE:261130953
LOCATION:Heinrich-Heine-Gymnasium, Max-Reinhardt-Weg 27, 81739 München
 
GEO:48.09171109083896000000;11.63939044952394400000
SUMMARY:U16 SL 3_2 m: MTV Pfaffenhofen - VC DJK München-Ost-Herrsching
  II
CLASS:PUBLIC
DTSTART:20231119T141500Z
DTSTAMP:20231119T155500Z
END:VEVENT
END:VCALENDAR