BEGIN:VCALENDAR
VERSION:2.0
PRODID:VSD-Portal-www.volley.de
METHOD:PUBLISH
BEGIN:VEVENT
UID:334793-0b1cb5f82de24c98f11e829bddb1f0f9
X-WR-RELCALID:334793-0b1cb5f82de24c98f11e829bddb1f0f9
ORGANIZER:Volleyball
SEQUENCE:261110340
SUMMARY:U14 BZL w: TSV Mühldorf - SV Lohhof
CLASS:PUBLIC
DTSTART;VALUE=DATE:20231126
DTSTAMP:20231126T141200Z
DTEND;VALUE=DATE:20231127
END:VEVENT
BEGIN:VEVENT
UID:334794-0b1cb5f82de24c98f11e829bddb1f0f9
X-WR-RELCALID:334794-0b1cb5f82de24c98f11e829bddb1f0f9
ORGANIZER:Volleyball
SEQUENCE:261110340
SUMMARY:U14 BZL w: TSV Mühldorf - ASV Dachau
CLASS:PUBLIC
DTSTART;VALUE=DATE:20231126
DTSTAMP:20231126T125900Z
DTEND;VALUE=DATE:20231127
END:VEVENT
END:VCALENDAR