BEGIN:VCALENDAR
VERSION:2.0
PRODID:VSD-Portal-www.volley.de
METHOD:PUBLISH
BEGIN:VEVENT
UID:127028-2da69939ed67427dc6bf3daba21059e9
X-WR-RELCALID:127028-2da69939ed67427dc6bf3daba21059e9
ORGANIZER:Volleyball
SEQUENCE:261111045
SUMMARY:RL SO Fr.: BSV Bayreuth - TV Dingolfing
CLASS:PUBLIC
DTSTART:20060930T133000Z
DTSTAMP:20140607T181500Z
END:VEVENT
BEGIN:VEVENT
UID:127024-2da69939ed67427dc6bf3daba21059e9
X-WR-RELCALID:127024-2da69939ed67427dc6bf3daba21059e9
ORGANIZER:Volleyball
SEQUENCE:261111045
SUMMARY:RL SO Fr.: TV Dingolfing - SV Lohhof II
CLASS:PUBLIC
DTSTART:20061001T130000Z
DTSTAMP:20140607T181500Z
END:VEVENT
BEGIN:VEVENT
UID:127030-2da69939ed67427dc6bf3daba21059e9
X-WR-RELCALID:127030-2da69939ed67427dc6bf3daba21059e9
ORGANIZER:Volleyball
SEQUENCE:261111045
SUMMARY:RL SO Fr.: VG Sulzbach-Rosenberg - TV Dingolfing
CLASS:PUBLIC
DTSTART:20061007T170000Z
DTSTAMP:20140607T181500Z
END:VEVENT
BEGIN:VEVENT
UID:127033-2da69939ed67427dc6bf3daba21059e9
X-WR-RELCALID:127033-2da69939ed67427dc6bf3daba21059e9
ORGANIZER:Volleyball
SEQUENCE:261111045
SUMMARY:RL SO Fr.: TV Dingolfing - FTSV Straubing
CLASS:PUBLIC
DTSTART:20061008T130000Z
DTSTAMP:20140607T181500Z
END:VEVENT
BEGIN:VEVENT
UID:127042-2da69939ed67427dc6bf3daba21059e9
X-WR-RELCALID:127042-2da69939ed67427dc6bf3daba21059e9
ORGANIZER:Volleyball
SEQUENCE:261111045
SUMMARY:RL SO Fr.: SV Mauerstetten - TV Dingolfing
CLASS:PUBLIC
DTSTART:20061021T170000Z
DTSTAMP:20140607T181500Z
END:VEVENT
BEGIN:VEVENT
UID:127043-2da69939ed67427dc6bf3daba21059e9
X-WR-RELCALID:127043-2da69939ed67427dc6bf3daba21059e9
ORGANIZER:Volleyball
SEQUENCE:261111045
SUMMARY:RL SO Fr.: TV Dingolfing - DJK Augsburg Hochzoll
CLASS:PUBLIC
DTSTART:20061105T140000Z
DTSTAMP:20140607T181500Z
END:VEVENT
BEGIN:VEVENT
UID:127051-2da69939ed67427dc6bf3daba21059e9
X-WR-RELCALID:127051-2da69939ed67427dc6bf3daba21059e9
ORGANIZER:Volleyball
SEQUENCE:261111045
SUMMARY:RL SO Fr.: TV Dingolfing - TV Planegg Krailling
CLASS:PUBLIC
DTSTART:20061119T120000Z
DTSTAMP:20140607T181500Z
END:VEVENT
BEGIN:VEVENT
UID:127060-2da69939ed67427dc6bf3daba21059e9
X-WR-RELCALID:127060-2da69939ed67427dc6bf3daba21059e9
ORGANIZER:Volleyball
SEQUENCE:261111045
SUMMARY:RL SO Fr.: ASV Dachau - TV Dingolfing
CLASS:PUBLIC
DTSTART:20061203T100000Z
DTSTAMP:20140607T181500Z
END:VEVENT
BEGIN:VEVENT
UID:127063-2da69939ed67427dc6bf3daba21059e9
X-WR-RELCALID:127063-2da69939ed67427dc6bf3daba21059e9
ORGANIZER:Volleyball
SEQUENCE:261111045
SUMMARY:RL SO Fr.: TV Dingolfing - TSV Rottenberg
CLASS:PUBLIC
DTSTART:20061209T190000Z
DTSTAMP:20140607T181500Z
END:VEVENT
BEGIN:VEVENT
UID:127066-2da69939ed67427dc6bf3daba21059e9
X-WR-RELCALID:127066-2da69939ed67427dc6bf3daba21059e9
ORGANIZER:Volleyball
SEQUENCE:261111045
SUMMARY:RL SO Fr.: TV Dingolfing - BSV Bayreuth
CLASS:PUBLIC
DTSTART:20061216T183000Z
DTSTAMP:20140607T181500Z
END:VEVENT
BEGIN:VEVENT
UID:127072-2da69939ed67427dc6bf3daba21059e9
X-WR-RELCALID:127072-2da69939ed67427dc6bf3daba21059e9
ORGANIZER:Volleyball
SEQUENCE:261111045
SUMMARY:RL SO Fr.: SV Lohhof II - TV Dingolfing
CLASS:PUBLIC
DTSTART:20061217T140000Z
DTSTAMP:20140607T181500Z
END:VEVENT
BEGIN:VEVENT
UID:127065-2da69939ed67427dc6bf3daba21059e9
X-WR-RELCALID:127065-2da69939ed67427dc6bf3daba21059e9
ORGANIZER:Volleyball
SEQUENCE:261111045
SUMMARY:RL SO Fr.: TV Dingolfing - VG Sulzbach-Rosenberg
CLASS:PUBLIC
DTSTART:20070120T190000Z
DTSTAMP:20140607T181500Z
END:VEVENT
BEGIN:VEVENT
UID:127087-2da69939ed67427dc6bf3daba21059e9
X-WR-RELCALID:127087-2da69939ed67427dc6bf3daba21059e9
ORGANIZER:Volleyball
SEQUENCE:261111045
SUMMARY:RL SO Fr.: FTSV Straubing - TV Dingolfing
CLASS:PUBLIC
DTSTART:20070127T180000Z
DTSTAMP:20140607T181500Z
END:VEVENT
BEGIN:VEVENT
UID:127093-2da69939ed67427dc6bf3daba21059e9
X-WR-RELCALID:127093-2da69939ed67427dc6bf3daba21059e9
ORGANIZER:Volleyball
SEQUENCE:261111045
SUMMARY:RL SO Fr.: TV Dingolfing - SV Mauerstetten
CLASS:PUBLIC
DTSTART:20070204T140000Z
DTSTAMP:20140607T181500Z
END:VEVENT
BEGIN:VEVENT
UID:127097-2da69939ed67427dc6bf3daba21059e9
X-WR-RELCALID:127097-2da69939ed67427dc6bf3daba21059e9
ORGANIZER:Volleyball
SEQUENCE:261111045
SUMMARY:RL SO Fr.: DJK Augsburg Hochzoll - TV Dingolfing
CLASS:PUBLIC
DTSTART:20070224T170000Z
DTSTAMP:20140607T181500Z
END:VEVENT
BEGIN:VEVENT
UID:127098-2da69939ed67427dc6bf3daba21059e9
X-WR-RELCALID:127098-2da69939ed67427dc6bf3daba21059e9
ORGANIZER:Volleyball
SEQUENCE:261111045
SUMMARY:RL SO Fr.: TV Dingolfing - ASV Dachau
CLASS:PUBLIC
DTSTART:20070225T120000Z
DTSTAMP:20140607T181500Z
END:VEVENT
BEGIN:VEVENT
UID:127092-2da69939ed67427dc6bf3daba21059e9
X-WR-RELCALID:127092-2da69939ed67427dc6bf3daba21059e9
ORGANIZER:Volleyball
SEQUENCE:261111045
SUMMARY:RL SO Fr.: TV Planegg Krailling - TV Dingolfing
CLASS:PUBLIC
DTSTART:20070309T193000Z
DTSTAMP:20140607T181500Z
END:VEVENT
BEGIN:VEVENT
UID:127106-2da69939ed67427dc6bf3daba21059e9
X-WR-RELCALID:127106-2da69939ed67427dc6bf3daba21059e9
ORGANIZER:Volleyball
SEQUENCE:261111045
SUMMARY:RL SO Fr.: TSV Rottenberg - TV Dingolfing
CLASS:PUBLIC
DTSTART:20070310T170000Z
DTSTAMP:20140607T181500Z
END:VEVENT
END:VCALENDAR