BEGIN:VCALENDAR
VERSION:2.0
PRODID:VSD-Portal-www.volley.de
METHOD:PUBLISH
BEGIN:VEVENT
UID:321000-0b1cb5f82de24c98f11e829bddb1f0f9
X-WR-RELCALID:321000-0b1cb5f82de24c98f11e829bddb1f0f9
ORGANIZER:Volleyball
SEQUENCE:261112128
LOCATION:Hallberghalle, Freiherr-von-Hallberg-Platz 3, 85399 Hallbergm
 oos
GEO:48.31780859619098600000;11.74739157519844400000
SUMMARY:KL O m: VfB Hallbergmoos - VfB Hallbergmoos II
CLASS:PUBLIC
DTSTART:20240204T090000Z
DTSTAMP:20240204T123500Z
END:VEVENT
BEGIN:VEVENT
UID:321001-0b1cb5f82de24c98f11e829bddb1f0f9
X-WR-RELCALID:321001-0b1cb5f82de24c98f11e829bddb1f0f9
ORGANIZER:Volleyball
SEQUENCE:261112128
LOCATION:Hallberghalle, Freiherr-von-Hallberg-Platz 3, 85399 Hallbergm
 oos
GEO:48.31780859619098600000;11.74739157519844400000
SUMMARY:KL O m: VfB Hallbergmoos - TV Markt Schwaben
CLASS:PUBLIC
DTSTART:20240204T090000Z
DTSTAMP:20240204T123600Z
END:VEVENT
BEGIN:VEVENT
UID:320992-0b1cb5f82de24c98f11e829bddb1f0f9
X-WR-RELCALID:320992-0b1cb5f82de24c98f11e829bddb1f0f9
ORGANIZER:Volleyball
SEQUENCE:261112128
LOCATION:Hallberghalle, Freiherr-von-Hallberg-Platz 3, 85399 Hallbergm
 oos
GEO:48.31780859619098600000;11.74739157519844400000
SUMMARY:KL O m: VfB Hallbergmoos - TSV Grafing
CLASS:PUBLIC
DTSTART:20240303T090000Z
DTSTAMP:20240317T153300Z
END:VEVENT
BEGIN:VEVENT
UID:320994-0b1cb5f82de24c98f11e829bddb1f0f9
X-WR-RELCALID:320994-0b1cb5f82de24c98f11e829bddb1f0f9
ORGANIZER:Volleyball
SEQUENCE:261112128
LOCATION:Hallberghalle, Freiherr-von-Hallberg-Platz 3, 85399 Hallbergm
 oos
GEO:48.31780859619098600000;11.74739157519844400000
SUMMARY:KL O m: VfB Hallbergmoos - TSV Vaterstetten
CLASS:PUBLIC
DTSTART:20240303T090000Z
DTSTAMP:20240317T153300Z
END:VEVENT
BEGIN:VEVENT
UID:320999-0b1cb5f82de24c98f11e829bddb1f0f9
X-WR-RELCALID:320999-0b1cb5f82de24c98f11e829bddb1f0f9
ORGANIZER:Volleyball
SEQUENCE:261112128
LOCATION:Hallberghalle, Freiherr-von-Hallberg-Platz 3, 85399 Hallbergm
 oos
GEO:48.31780859619098600000;11.74739157519844400000
SUMMARY:KL O m: VfB Hallbergmoos - TSV Unterhaching
CLASS:PUBLIC
DTSTART:20240303T090000Z
DTSTAMP:20240317T153400Z
END:VEVENT
BEGIN:VEVENT
UID:321007-0b1cb5f82de24c98f11e829bddb1f0f9
X-WR-RELCALID:321007-0b1cb5f82de24c98f11e829bddb1f0f9
ORGANIZER:Volleyball
SEQUENCE:261112128
LOCATION:Lena Christ Realschule, Habererweg 17, 85570 Markt Schwaben
GEO:48.18903551919357400000;11.86394446130748300000
SUMMARY:KL O m: TV Markt Schwaben - VfB Hallbergmoos
CLASS:PUBLIC
DTSTART:20240317T090000Z
DTSTAMP:20240317T153500Z
END:VEVENT
BEGIN:VEVENT
UID:321008-0b1cb5f82de24c98f11e829bddb1f0f9
X-WR-RELCALID:321008-0b1cb5f82de24c98f11e829bddb1f0f9
ORGANIZER:Volleyball
SEQUENCE:261112128
LOCATION:Lena Christ Realschule, Habererweg 17, 85570 Markt Schwaben
GEO:48.18903551919357400000;11.86394446130748300000
SUMMARY:KL O m: VfB Hallbergmoos - TSV Grafing
CLASS:PUBLIC
DTSTART:20240317T090000Z
DTSTAMP:20240317T153500Z
END:VEVENT
BEGIN:VEVENT
UID:321015-0b1cb5f82de24c98f11e829bddb1f0f9
X-WR-RELCALID:321015-0b1cb5f82de24c98f11e829bddb1f0f9
ORGANIZER:Volleyball
SEQUENCE:261112128
LOCATION:Gymnasium, Jahnstraße 17, 85567 Grafing
GEO:48.04461780143573400000;11.96064935714719000000
SUMMARY:KL O m: VfB Hallbergmoos - TSV Vaterstetten
CLASS:PUBLIC
DTSTART:20240421T080000Z
DTSTAMP:20240421T154800Z
END:VEVENT
BEGIN:VEVENT
UID:321017-0b1cb5f82de24c98f11e829bddb1f0f9
X-WR-RELCALID:321017-0b1cb5f82de24c98f11e829bddb1f0f9
ORGANIZER:Volleyball
SEQUENCE:261112128
LOCATION:Gymnasium, Jahnstraße 17, 85567 Grafing
GEO:48.04461780143573400000;11.96064935714719000000
SUMMARY:KL O m: VfB Hallbergmoos - VfB Hallbergmoos II
CLASS:PUBLIC
DTSTART:20240421T080000Z
DTSTAMP:20240421T154800Z
END:VEVENT
BEGIN:VEVENT
UID:321021-0b1cb5f82de24c98f11e829bddb1f0f9
X-WR-RELCALID:321021-0b1cb5f82de24c98f11e829bddb1f0f9
ORGANIZER:Volleyball
SEQUENCE:261112128
LOCATION:Gymnasium, Jahnstraße 17, 85567 Grafing
GEO:48.04461780143573400000;11.96064935714719000000
SUMMARY:KL O m: VfB Hallbergmoos - TSV Unterhaching
CLASS:PUBLIC
DTSTART:20240421T080000Z
DTSTAMP:20240421T154900Z
END:VEVENT
END:VCALENDAR