BEGIN:VCALENDAR
VERSION:2.0
PRODID:VSD-Portal-www.volley.de
METHOD:PUBLISH
BEGIN:VEVENT
UID:329671-0b1cb5f82de24c98f11e829bddb1f0f9
X-WR-RELCALID:329671-0b1cb5f82de24c98f11e829bddb1f0f9
ORGANIZER:Volleyball
SEQUENCE:261130234
SUMMARY:KL O1 m: TSV Grafing - TSV Unterhaching II
CLASS:PUBLIC
DTSTART:20230924T073000Z
DTSTAMP:20230924T105100Z
END:VEVENT
BEGIN:VEVENT
UID:329673-0b1cb5f82de24c98f11e829bddb1f0f9
X-WR-RELCALID:329673-0b1cb5f82de24c98f11e829bddb1f0f9
ORGANIZER:Volleyball
SEQUENCE:261130234
SUMMARY:KL O1 m: TSV Grafing - VfB Hallbergmoos
CLASS:PUBLIC
DTSTART:20230924T073000Z
DTSTAMP:20230924T105100Z
END:VEVENT
BEGIN:VEVENT
UID:329674-0b1cb5f82de24c98f11e829bddb1f0f9
X-WR-RELCALID:329674-0b1cb5f82de24c98f11e829bddb1f0f9
ORGANIZER:Volleyball
SEQUENCE:261130234
SUMMARY:KL O1 m: SV Lohhof II - TSV Grafing
CLASS:PUBLIC
DTSTART:20230924T073000Z
DTSTAMP:20230924T105100Z
END:VEVENT
BEGIN:VEVENT
UID:334165-0b1cb5f82de24c98f11e829bddb1f0f9
X-WR-RELCALID:334165-0b1cb5f82de24c98f11e829bddb1f0f9
ORGANIZER:Volleyball
SEQUENCE:261130234
SUMMARY:KL O1 m: SV Lohhof II - TSV Grafing
CLASS:PUBLIC
DTSTART:20231008T080000Z
DTSTAMP:20231008T193500Z
END:VEVENT
BEGIN:VEVENT
UID:334166-0b1cb5f82de24c98f11e829bddb1f0f9
X-WR-RELCALID:334166-0b1cb5f82de24c98f11e829bddb1f0f9
ORGANIZER:Volleyball
SEQUENCE:261130234
SUMMARY:KL O1 m: TSV Grafing - VfB Hallbergmoos
CLASS:PUBLIC
DTSTART:20231008T080000Z
DTSTAMP:20231008T193500Z
END:VEVENT
BEGIN:VEVENT
UID:334168-0b1cb5f82de24c98f11e829bddb1f0f9
X-WR-RELCALID:334168-0b1cb5f82de24c98f11e829bddb1f0f9
ORGANIZER:Volleyball
SEQUENCE:261130234
SUMMARY:KL O1 m: TSV Grafing - TSV Unterhaching II
CLASS:PUBLIC
DTSTART:20231008T080000Z
DTSTAMP:20231008T193400Z
END:VEVENT
END:VCALENDAR