BEGIN:VCALENDAR
VERSION:2.0
PRODID:VSD-Portal-www.volley.de
METHOD:PUBLISH
BEGIN:VEVENT
UID:130634-2da69939ed67427dc6bf3daba21059e9
X-WR-RELCALID:130634-2da69939ed67427dc6bf3daba21059e9
ORGANIZER:Volleyball
SEQUENCE:261091544
SUMMARY:OL NB 2 Fr.: SV SW Garbsen - MTV Salzgitter
CLASS:PUBLIC
DTSTART;VALUE=DATE:20060923
DTSTAMP:20140607T181500Z
DTEND;VALUE=DATE:20060924
END:VEVENT
BEGIN:VEVENT
UID:130630-2da69939ed67427dc6bf3daba21059e9
X-WR-RELCALID:130630-2da69939ed67427dc6bf3daba21059e9
ORGANIZER:Volleyball
SEQUENCE:261091544
SUMMARY:OL NB 2 Fr.: MTV Salzgitter - SV Nienhagen
CLASS:PUBLIC
DTSTART;VALUE=DATE:20061008
DTSTAMP:20140607T181500Z
DTEND;VALUE=DATE:20061009
END:VEVENT
BEGIN:VEVENT
UID:130628-2da69939ed67427dc6bf3daba21059e9
X-WR-RELCALID:130628-2da69939ed67427dc6bf3daba21059e9
ORGANIZER:Volleyball
SEQUENCE:261091544
SUMMARY:OL NB 2 Fr.: MTV Salzgitter - VG Ilsede
CLASS:PUBLIC
DTSTART;VALUE=DATE:20061008
DTSTAMP:20140607T181500Z
DTEND;VALUE=DATE:20061009
END:VEVENT
BEGIN:VEVENT
UID:130621-2da69939ed67427dc6bf3daba21059e9
X-WR-RELCALID:130621-2da69939ed67427dc6bf3daba21059e9
ORGANIZER:Volleyball
SEQUENCE:261091544
SUMMARY:OL NB 2 Fr.: MTV Grone - MTV Salzgitter
CLASS:PUBLIC
DTSTART;VALUE=DATE:20061021
DTSTAMP:20140607T181500Z
DTEND;VALUE=DATE:20061022
END:VEVENT
BEGIN:VEVENT
UID:130612-2da69939ed67427dc6bf3daba21059e9
X-WR-RELCALID:130612-2da69939ed67427dc6bf3daba21059e9
ORGANIZER:Volleyball
SEQUENCE:261091544
SUMMARY:OL NB 2 Fr.: MTV Salzdahlum - MTV Salzgitter
CLASS:PUBLIC
DTSTART;VALUE=DATE:20061105
DTSTAMP:20140607T181500Z
DTEND;VALUE=DATE:20061106
END:VEVENT
BEGIN:VEVENT
UID:130608-2da69939ed67427dc6bf3daba21059e9
X-WR-RELCALID:130608-2da69939ed67427dc6bf3daba21059e9
ORGANIZER:Volleyball
SEQUENCE:261091544
SUMMARY:OL NB 2 Fr.: MTV Salzgitter - VC Nienburg
CLASS:PUBLIC
DTSTART;VALUE=DATE:20061118
DTSTAMP:20140607T181500Z
DTEND;VALUE=DATE:20061119
END:VEVENT
BEGIN:VEVENT
UID:130607-2da69939ed67427dc6bf3daba21059e9
X-WR-RELCALID:130607-2da69939ed67427dc6bf3daba21059e9
ORGANIZER:Volleyball
SEQUENCE:261091544
SUMMARY:OL NB 2 Fr.: MTV Salzgitter - MTV Gifhorn
CLASS:PUBLIC
DTSTART;VALUE=DATE:20061118
DTSTAMP:20140607T181500Z
DTEND;VALUE=DATE:20061119
END:VEVENT
BEGIN:VEVENT
UID:130601-2da69939ed67427dc6bf3daba21059e9
X-WR-RELCALID:130601-2da69939ed67427dc6bf3daba21059e9
ORGANIZER:Volleyball
SEQUENCE:261091544
SUMMARY:OL NB 2 Fr.: MTV Treubund Lüneburg - MTV Salzgitter
CLASS:PUBLIC
DTSTART;VALUE=DATE:20061202
DTSTAMP:20140607T181500Z
DTEND;VALUE=DATE:20061203
END:VEVENT
BEGIN:VEVENT
UID:130595-2da69939ed67427dc6bf3daba21059e9
X-WR-RELCALID:130595-2da69939ed67427dc6bf3daba21059e9
ORGANIZER:Volleyball
SEQUENCE:261091544
SUMMARY:OL NB 2 Fr.: MTV Salzgitter - MTV Salzdahlum
CLASS:PUBLIC
DTSTART;VALUE=DATE:20061216
DTSTAMP:20140607T181500Z
DTEND;VALUE=DATE:20061217
END:VEVENT
BEGIN:VEVENT
UID:130596-2da69939ed67427dc6bf3daba21059e9
X-WR-RELCALID:130596-2da69939ed67427dc6bf3daba21059e9
ORGANIZER:Volleyball
SEQUENCE:261091544
SUMMARY:OL NB 2 Fr.: MTV Salzgitter - SV SW Garbsen
CLASS:PUBLIC
DTSTART;VALUE=DATE:20061216
DTSTAMP:20140607T181500Z
DTEND;VALUE=DATE:20061217
END:VEVENT
BEGIN:VEVENT
UID:130588-2da69939ed67427dc6bf3daba21059e9
X-WR-RELCALID:130588-2da69939ed67427dc6bf3daba21059e9
ORGANIZER:Volleyball
SEQUENCE:261091544
SUMMARY:OL NB 2 Fr.: VG Ilsede - MTV Salzgitter
CLASS:PUBLIC
DTSTART;VALUE=DATE:20070113
DTSTAMP:20140607T181500Z
DTEND;VALUE=DATE:20070114
END:VEVENT
BEGIN:VEVENT
UID:130581-2da69939ed67427dc6bf3daba21059e9
X-WR-RELCALID:130581-2da69939ed67427dc6bf3daba21059e9
ORGANIZER:Volleyball
SEQUENCE:261091544
SUMMARY:OL NB 2 Fr.: MTV Gifhorn - MTV Salzgitter
CLASS:PUBLIC
DTSTART;VALUE=DATE:20070128
DTSTAMP:20140607T181500Z
DTEND;VALUE=DATE:20070129
END:VEVENT
BEGIN:VEVENT
UID:130576-2da69939ed67427dc6bf3daba21059e9
X-WR-RELCALID:130576-2da69939ed67427dc6bf3daba21059e9
ORGANIZER:Volleyball
SEQUENCE:261091544
SUMMARY:OL NB 2 Fr.: SV Nienhagen - MTV Salzgitter
CLASS:PUBLIC
DTSTART;VALUE=DATE:20070204
DTSTAMP:20140607T181500Z
DTEND;VALUE=DATE:20070205
END:VEVENT
BEGIN:VEVENT
UID:130574-2da69939ed67427dc6bf3daba21059e9
X-WR-RELCALID:130574-2da69939ed67427dc6bf3daba21059e9
ORGANIZER:Volleyball
SEQUENCE:261091544
SUMMARY:OL NB 2 Fr.: VC Nienburg - MTV Salzgitter
CLASS:PUBLIC
DTSTART;VALUE=DATE:20070210
DTSTAMP:20140607T181500Z
DTEND;VALUE=DATE:20070211
END:VEVENT
BEGIN:VEVENT
UID:130568-2da69939ed67427dc6bf3daba21059e9
X-WR-RELCALID:130568-2da69939ed67427dc6bf3daba21059e9
ORGANIZER:Volleyball
SEQUENCE:261091544
SUMMARY:OL NB 2 Fr.: MTV Salzgitter - MTV Grone
CLASS:PUBLIC
DTSTART;VALUE=DATE:20070303
DTSTAMP:20140607T181500Z
DTEND;VALUE=DATE:20070304
END:VEVENT
BEGIN:VEVENT
UID:130567-2da69939ed67427dc6bf3daba21059e9
X-WR-RELCALID:130567-2da69939ed67427dc6bf3daba21059e9
ORGANIZER:Volleyball
SEQUENCE:261091544
SUMMARY:OL NB 2 Fr.: MTV Salzgitter - MTV Treubund Lüneburg
CLASS:PUBLIC
DTSTART;VALUE=DATE:20070303
DTSTAMP:20140607T181500Z
DTEND;VALUE=DATE:20070304
END:VEVENT
END:VCALENDAR