BEGIN:VCALENDAR
VERSION:2.0
PRODID:VSD-Portal-www.volley.de
METHOD:PUBLISH
BEGIN:VEVENT
UID:338275-0b1cb5f82de24c98f11e829bddb1f0f9
X-WR-RELCALID:338275-0b1cb5f82de24c98f11e829bddb1f0f9
ORGANIZER:Volleyball
SEQUENCE:261131641
LOCATION:Sporthalle Realschule, Münchener Straße 19, 91567 Herrieden
GEO:49.23555307371720600000;10.49653583068845800000
SUMMARY:BM U20 w: SV Mauerstetten - TSV Eiselfing
CLASS:PUBLIC
DTSTART;VALUE=DATE:20240317
DTSTAMP:20240317T145700Z
DTEND;VALUE=DATE:20240318
END:VEVENT
END:VCALENDAR