BEGIN:VCALENDAR
VERSION:2.0
PRODID:VSD-Portal-www.volley.de
METHOD:PUBLISH
BEGIN:VEVENT
UID:132099-2da69939ed67427dc6bf3daba21059e9
X-WR-RELCALID:132099-2da69939ed67427dc6bf3daba21059e9
ORGANIZER:Volleyball
SEQUENCE:261100847
SUMMARY:BL 4 Mä.: FC Schüttorf 09 IV - TG 68 Wersen-Büren
CLASS:PUBLIC
DTSTART;VALUE=DATE:20060924
DTSTAMP:20140607T181500Z
DTEND;VALUE=DATE:20060925
END:VEVENT
BEGIN:VEVENT
UID:132086-2da69939ed67427dc6bf3daba21059e9
X-WR-RELCALID:132086-2da69939ed67427dc6bf3daba21059e9
ORGANIZER:Volleyball
SEQUENCE:261100847
SUMMARY:BL 4 Mä.: SV Alemannia Salzbergen - TG 68 Wersen-Büren
CLASS:PUBLIC
DTSTART;VALUE=DATE:20061014
DTSTAMP:20140607T181500Z
DTEND;VALUE=DATE:20061015
END:VEVENT
BEGIN:VEVENT
UID:132088-2da69939ed67427dc6bf3daba21059e9
X-WR-RELCALID:132088-2da69939ed67427dc6bf3daba21059e9
ORGANIZER:Volleyball
SEQUENCE:261100847
SUMMARY:BL 4 Mä.: Hagener SV - TG 68 Wersen-Büren
CLASS:PUBLIC
DTSTART;VALUE=DATE:20061021
DTSTAMP:20140607T181500Z
DTEND;VALUE=DATE:20061022
END:VEVENT
BEGIN:VEVENT
UID:132081-2da69939ed67427dc6bf3daba21059e9
X-WR-RELCALID:132081-2da69939ed67427dc6bf3daba21059e9
ORGANIZER:Volleyball
SEQUENCE:261100847
SUMMARY:BL 4 Mä.: TG 68 Wersen-Büren - SV Veldhausen 07
CLASS:PUBLIC
DTSTART;VALUE=DATE:20061111
DTSTAMP:20140607T181500Z
DTEND;VALUE=DATE:20061112
END:VEVENT
BEGIN:VEVENT
UID:132079-2da69939ed67427dc6bf3daba21059e9
X-WR-RELCALID:132079-2da69939ed67427dc6bf3daba21059e9
ORGANIZER:Volleyball
SEQUENCE:261100847
SUMMARY:BL 4 Mä.: TG 68 Wersen-Büren - SV Olympia Uelsen
CLASS:PUBLIC
DTSTART;VALUE=DATE:20061111
DTSTAMP:20140607T181500Z
DTEND;VALUE=DATE:20061112
END:VEVENT
BEGIN:VEVENT
UID:132078-2da69939ed67427dc6bf3daba21059e9
X-WR-RELCALID:132078-2da69939ed67427dc6bf3daba21059e9
ORGANIZER:Volleyball
SEQUENCE:261100847
SUMMARY:BL 4 Mä.: VCB Tecklenb.Land IV - TG 68 Wersen-Büren
CLASS:PUBLIC
DTSTART;VALUE=DATE:20061118
DTSTAMP:20140607T181500Z
DTEND;VALUE=DATE:20061119
END:VEVENT
BEGIN:VEVENT
UID:132050-2da69939ed67427dc6bf3daba21059e9
X-WR-RELCALID:132050-2da69939ed67427dc6bf3daba21059e9
ORGANIZER:Volleyball
SEQUENCE:261100847
SUMMARY:BL 4 Mä.: SV Olympia Uelsen - TG 68 Wersen-Büren
CLASS:PUBLIC
DTSTART;VALUE=DATE:20061216
DTSTAMP:20140607T181500Z
DTEND;VALUE=DATE:20061217
END:VEVENT
BEGIN:VEVENT
UID:132053-2da69939ed67427dc6bf3daba21059e9
X-WR-RELCALID:132053-2da69939ed67427dc6bf3daba21059e9
ORGANIZER:Volleyball
SEQUENCE:261100847
SUMMARY:BL 4 Mä.: SV Veldhausen 07 - TG 68 Wersen-Büren
CLASS:PUBLIC
DTSTART;VALUE=DATE:20070113
DTSTAMP:20140607T181500Z
DTEND;VALUE=DATE:20070114
END:VEVENT
BEGIN:VEVENT
UID:132070-2da69939ed67427dc6bf3daba21059e9
X-WR-RELCALID:132070-2da69939ed67427dc6bf3daba21059e9
ORGANIZER:Volleyball
SEQUENCE:261100847
SUMMARY:BL 4 Mä.: MTV Lingen II - TG 68 Wersen-Büren
CLASS:PUBLIC
DTSTART;VALUE=DATE:20070120
DTSTAMP:20140607T181500Z
DTEND;VALUE=DATE:20070121
END:VEVENT
BEGIN:VEVENT
UID:132065-2da69939ed67427dc6bf3daba21059e9
X-WR-RELCALID:132065-2da69939ed67427dc6bf3daba21059e9
ORGANIZER:Volleyball
SEQUENCE:261100847
SUMMARY:BL 4 Mä.: TG 68 Wersen-Büren - Hagener SV
CLASS:PUBLIC
DTSTART;VALUE=DATE:20070203
DTSTAMP:20140607T181500Z
DTEND;VALUE=DATE:20070204
END:VEVENT
BEGIN:VEVENT
UID:132064-2da69939ed67427dc6bf3daba21059e9
X-WR-RELCALID:132064-2da69939ed67427dc6bf3daba21059e9
ORGANIZER:Volleyball
SEQUENCE:261100847
SUMMARY:BL 4 Mä.: TG 68 Wersen-Büren - FC Schüttorf 09 IV
CLASS:PUBLIC
DTSTART;VALUE=DATE:20070203
DTSTAMP:20140607T181500Z
DTEND;VALUE=DATE:20070204
END:VEVENT
BEGIN:VEVENT
UID:132061-2da69939ed67427dc6bf3daba21059e9
X-WR-RELCALID:132061-2da69939ed67427dc6bf3daba21059e9
ORGANIZER:Volleyball
SEQUENCE:261100847
SUMMARY:BL 4 Mä.: MTV Lingen II - TG 68 Wersen-Büren
CLASS:PUBLIC
DTSTART;VALUE=DATE:20070217
DTSTAMP:20140607T181500Z
DTEND;VALUE=DATE:20070218
END:VEVENT
BEGIN:VEVENT
UID:132057-2da69939ed67427dc6bf3daba21059e9
X-WR-RELCALID:132057-2da69939ed67427dc6bf3daba21059e9
ORGANIZER:Volleyball
SEQUENCE:261100847
SUMMARY:BL 4 Mä.: TG 68 Wersen-Büren - SV Alemannia Salzbergen
CLASS:PUBLIC
DTSTART;VALUE=DATE:20070224
DTSTAMP:20140607T181500Z
DTEND;VALUE=DATE:20070225
END:VEVENT
BEGIN:VEVENT
UID:132090-2da69939ed67427dc6bf3daba21059e9
X-WR-RELCALID:132090-2da69939ed67427dc6bf3daba21059e9
ORGANIZER:Volleyball
SEQUENCE:261100847
SUMMARY:BL 4 Mä.: TG 68 Wersen-Büren - VCB Tecklenb.Land IV
CLASS:PUBLIC
DTSTART;VALUE=DATE:20070224
DTSTAMP:20140607T181500Z
DTEND;VALUE=DATE:20070225
END:VEVENT
END:VCALENDAR