BEGIN:VCALENDAR
VERSION:2.0
PRODID:VSD-Portal-www.volley.de
METHOD:PUBLISH
BEGIN:VEVENT
UID:134316-2da69939ed67427dc6bf3daba21059e9
X-WR-RELCALID:134316-2da69939ed67427dc6bf3daba21059e9
ORGANIZER:Volleyball
SEQUENCE:261141543
SUMMARY:BKl 16 Fr.: FCH Lütgenade/Warbs. - MTV Holzminden
CLASS:PUBLIC
DTSTART;VALUE=DATE:20040306
DTSTAMP:20140607T181500Z
DTEND;VALUE=DATE:20040307
END:VEVENT
END:VCALENDAR