BEGIN:VCALENDAR
VERSION:2.0
PRODID:VSD-Portal-www.volley.de
METHOD:PUBLISH
BEGIN:VEVENT
UID:341132-0b1cb5f82de24c98f11e829bddb1f0f9
X-WR-RELCALID:341132-0b1cb5f82de24c98f11e829bddb1f0f9
ORGANIZER:Volleyball
SEQUENCE:261100545
LOCATION:Berufsschulhalle, Heinrich-Neumaier-Platz 1, 85221 Dachau
GEO:48.25206250259904600000;11.45241818518064700000
SUMMARY:U13 BZL 1 m: ASV Dachau - TSV Mühldorf II
CLASS:PUBLIC
DTSTART;VALUE=DATE:20240204
DTSTAMP:20240204T125700Z
DTEND;VALUE=DATE:20240205
END:VEVENT
END:VCALENDAR