BEGIN:VCALENDAR
VERSION:2.0
PRODID:VSD-Portal-www.volley.de
METHOD:PUBLISH
BEGIN:VEVENT
UID:340247-0b1cb5f82de24c98f11e829bddb1f0f9
X-WR-RELCALID:340247-0b1cb5f82de24c98f11e829bddb1f0f9
ORGANIZER:Volleyball
SEQUENCE:261130334
SUMMARY:OBB U20/1 m: TUS Holzkirchen - SV Lohhof
CLASS:PUBLIC
DTSTART;VALUE=DATE:20240128
DTSTAMP:20240128T094600Z
DTEND;VALUE=DATE:20240129
END:VEVENT
BEGIN:VEVENT
UID:340248-0b1cb5f82de24c98f11e829bddb1f0f9
X-WR-RELCALID:340248-0b1cb5f82de24c98f11e829bddb1f0f9
ORGANIZER:Volleyball
SEQUENCE:261130334
SUMMARY:OBB U20/1 m: TUS Holzkirchen - TUSC Obermenzing
CLASS:PUBLIC
DTSTART;VALUE=DATE:20240128
DTSTAMP:20240128T114100Z
DTEND;VALUE=DATE:20240129
END:VEVENT
BEGIN:VEVENT
UID:340249-0b1cb5f82de24c98f11e829bddb1f0f9
X-WR-RELCALID:340249-0b1cb5f82de24c98f11e829bddb1f0f9
ORGANIZER:Volleyball
SEQUENCE:261130334
SUMMARY:OBB U20/1 m: TS Jahn München - SV Lohhof
CLASS:PUBLIC
DTSTART;VALUE=DATE:20240128
DTSTAMP:20240128T113400Z
DTEND;VALUE=DATE:20240129
END:VEVENT
BEGIN:VEVENT
UID:340250-0b1cb5f82de24c98f11e829bddb1f0f9
X-WR-RELCALID:340250-0b1cb5f82de24c98f11e829bddb1f0f9
ORGANIZER:Volleyball
SEQUENCE:261130334
SUMMARY:OBB U20/1 m: TS Jahn München - TUSC Obermenzing
CLASS:PUBLIC
DTSTART;VALUE=DATE:20240128
DTSTAMP:20240128T130000Z
DTEND;VALUE=DATE:20240129
END:VEVENT
BEGIN:VEVENT
UID:340251-0b1cb5f82de24c98f11e829bddb1f0f9
X-WR-RELCALID:340251-0b1cb5f82de24c98f11e829bddb1f0f9
ORGANIZER:Volleyball
SEQUENCE:261130334
SUMMARY:OBB U20/1 m: TUS Holzkirchen - TS Jahn München
CLASS:PUBLIC
DTSTART;VALUE=DATE:20240128
DTSTAMP:20240128T141900Z
DTEND;VALUE=DATE:20240129
END:VEVENT
BEGIN:VEVENT
UID:340252-0b1cb5f82de24c98f11e829bddb1f0f9
X-WR-RELCALID:340252-0b1cb5f82de24c98f11e829bddb1f0f9
ORGANIZER:Volleyball
SEQUENCE:261130334
SUMMARY:OBB U20/1 m: TUSC Obermenzing - SV Lohhof
CLASS:PUBLIC
DTSTART;VALUE=DATE:20240128
DTSTAMP:20240128T142900Z
DTEND;VALUE=DATE:20240129
END:VEVENT
END:VCALENDAR