BEGIN:VCALENDAR
VERSION:2.0
PRODID:VSD-Portal-www.volley.de
METHOD:PUBLISH
BEGIN:VEVENT
UID:143372-2da69939ed67427dc6bf3daba21059e9
X-WR-RELCALID:143372-2da69939ed67427dc6bf3daba21059e9
ORGANIZER:Volleyball
SEQUENCE:261132026
SUMMARY:LL S Mä.: SC Weiler/F. - TSV Bad Saulgau 2
CLASS:PUBLIC
DTSTART;VALUE=DATE:20061029
DTSTAMP:20140607T181500Z
DTEND;VALUE=DATE:20061030
END:VEVENT
END:VCALENDAR