BEGIN:VCALENDAR
VERSION:2.0
PRODID:VSD-Portal-www.volley.de
METHOD:PUBLISH
BEGIN:VEVENT
UID:342415-0b1cb5f82de24c98f11e829bddb1f0f9
X-WR-RELCALID:342415-0b1cb5f82de24c98f11e829bddb1f0f9
ORGANIZER:Volleyball
SEQUENCE:261141047
LOCATION:Gymnasiumhalle, Jörg-Hube-Straße 4, 83607 Holzkirchen
GEO:47.88775676620160500000;11.70464832275388300000
SUMMARY:U18 RT C2 w: Lechrain Volleys - ESV Neuaubing
CLASS:PUBLIC
DTSTART;VALUE=DATE:20240310
DTSTAMP:20240310T100500Z
DTEND;VALUE=DATE:20240311
END:VEVENT
BEGIN:VEVENT
UID:342417-0b1cb5f82de24c98f11e829bddb1f0f9
X-WR-RELCALID:342417-0b1cb5f82de24c98f11e829bddb1f0f9
ORGANIZER:Volleyball
SEQUENCE:261141047
LOCATION:Gymnasiumhalle, Jörg-Hube-Straße 4, 83607 Holzkirchen
GEO:47.88775676620160500000;11.70464832275388300000
SUMMARY:U18 RT C2 w: TUS Holzkirchen - Lechrain Volleys
CLASS:PUBLIC
DTSTART;VALUE=DATE:20240310
DTSTAMP:20240310T112900Z
DTEND;VALUE=DATE:20240311
END:VEVENT
BEGIN:VEVENT
UID:342420-0b1cb5f82de24c98f11e829bddb1f0f9
X-WR-RELCALID:342420-0b1cb5f82de24c98f11e829bddb1f0f9
ORGANIZER:Volleyball
SEQUENCE:261141047
LOCATION:Gymnasiumhalle, Jörg-Hube-Straße 4, 83607 Holzkirchen
GEO:47.88775676620160500000;11.70464832275388300000
SUMMARY:U18 RT C2 w: TV Planegg Krailling II - Lechrain Volleys
CLASS:PUBLIC
DTSTART;VALUE=DATE:20240310
DTSTAMP:20240310T145700Z
DTEND;VALUE=DATE:20240311
END:VEVENT
BEGIN:VEVENT
UID:342422-0b1cb5f82de24c98f11e829bddb1f0f9
X-WR-RELCALID:342422-0b1cb5f82de24c98f11e829bddb1f0f9
ORGANIZER:Volleyball
SEQUENCE:261141047
LOCATION:Gymnasiumhalle, Jörg-Hube-Straße 4, 83607 Holzkirchen
GEO:47.88775676620160500000;11.70464832275388300000
SUMMARY:U18 RT C2 w: Lechrain Volleys - TSV Siegsdorf II
CLASS:PUBLIC
DTSTART;VALUE=DATE:20240310
DTSTAMP:20240310T164200Z
DTEND;VALUE=DATE:20240311
END:VEVENT
END:VCALENDAR