BEGIN:VCALENDAR
VERSION:2.0
PRODID:VSD-Portal-www.volley.de
METHOD:PUBLISH
BEGIN:VEVENT
UID:343125-0b1cb5f82de24c98f11e829bddb1f0f9
X-WR-RELCALID:343125-0b1cb5f82de24c98f11e829bddb1f0f9
ORGANIZER:Volleyball
SEQUENCE:261130215
LOCATION:Berufsschulhalle, Heinrich-Neumaier-Platz 1, 85221 Dachau
GEO:48.25206250259904600000;11.45241818518064700000
SUMMARY:U13 QQ 2A m: ASV Dachau III - SV Wettstetten
CLASS:PUBLIC
DTSTART;VALUE=DATE:20240317
DTSTAMP:20240317T094700Z
DTEND;VALUE=DATE:20240318
END:VEVENT
BEGIN:VEVENT
UID:343128-0b1cb5f82de24c98f11e829bddb1f0f9
X-WR-RELCALID:343128-0b1cb5f82de24c98f11e829bddb1f0f9
ORGANIZER:Volleyball
SEQUENCE:261130215
LOCATION:Berufsschulhalle, Heinrich-Neumaier-Platz 1, 85221 Dachau
GEO:48.25206250259904600000;11.45241818518064700000
SUMMARY:U13 QQ 2A m: SV Wettstetten - TSV Mühldorf II
CLASS:PUBLIC
DTSTART;VALUE=DATE:20240317
DTSTAMP:20240317T103900Z
DTEND;VALUE=DATE:20240318
END:VEVENT
BEGIN:VEVENT
UID:343130-0b1cb5f82de24c98f11e829bddb1f0f9
X-WR-RELCALID:343130-0b1cb5f82de24c98f11e829bddb1f0f9
ORGANIZER:Volleyball
SEQUENCE:261130215
LOCATION:Berufsschulhalle, Heinrich-Neumaier-Platz 1, 85221 Dachau
GEO:48.25206250259904600000;11.45241818518064700000
SUMMARY:U13 QQ 2A m: SV Wettstetten - VC DJK München-Ost-Herrsching
CLASS:PUBLIC
DTSTART;VALUE=DATE:20240317
DTSTAMP:20240317T114800Z
DTEND;VALUE=DATE:20240318
END:VEVENT
BEGIN:VEVENT
UID:343134-0b1cb5f82de24c98f11e829bddb1f0f9
X-WR-RELCALID:343134-0b1cb5f82de24c98f11e829bddb1f0f9
ORGANIZER:Volleyball
SEQUENCE:261130215
LOCATION:Berufsschulhalle, Heinrich-Neumaier-Platz 1, 85221 Dachau
GEO:48.25206250259904600000;11.45241818518064700000
SUMMARY:U13 QQ 2A m: SV Wettstetten - TSV Tutzing
CLASS:PUBLIC
DTSTART;VALUE=DATE:20240317
DTSTAMP:20240317T133000Z
DTEND;VALUE=DATE:20240318
END:VEVENT
END:VCALENDAR