BEGIN:VCALENDAR
VERSION:2.0
PRODID:VSD-Portal-www.volley.de
METHOD:PUBLISH
BEGIN:VEVENT
UID:343005-0b1cb5f82de24c98f11e829bddb1f0f9
X-WR-RELCALID:343005-0b1cb5f82de24c98f11e829bddb1f0f9
ORGANIZER:Volleyball
SEQUENCE:261102356
LOCATION:Berufsschulen Schleißheimer Str., Schleißheimer Str. 510, 809
 33 München
GEO:48.21381937752041000000;11.56387387766267200000
SUMMARY:U15 RT C1 w: FTM Schwabing - TSV Eint. Karlsfeld
CLASS:PUBLIC
DTSTART;VALUE=DATE:20240317
DTSTAMP:20240317T154900Z
DTEND;VALUE=DATE:20240318
END:VEVENT
BEGIN:VEVENT
UID:343008-0b1cb5f82de24c98f11e829bddb1f0f9
X-WR-RELCALID:343008-0b1cb5f82de24c98f11e829bddb1f0f9
ORGANIZER:Volleyball
SEQUENCE:261102356
LOCATION:Berufsschulen Schleißheimer Str., Schleißheimer Str. 510, 809
 33 München
GEO:48.21381937752041000000;11.56387387766267200000
SUMMARY:U15 RT C1 w: TSV Eint. Karlsfeld - ESV München
CLASS:PUBLIC
DTSTART;VALUE=DATE:20240317
DTSTAMP:20240317T154700Z
DTEND;VALUE=DATE:20240318
END:VEVENT
BEGIN:VEVENT
UID:343010-0b1cb5f82de24c98f11e829bddb1f0f9
X-WR-RELCALID:343010-0b1cb5f82de24c98f11e829bddb1f0f9
ORGANIZER:Volleyball
SEQUENCE:261102356
LOCATION:Berufsschulen Schleißheimer Str., Schleißheimer Str. 510, 809
 33 München
GEO:48.21381937752041000000;11.56387387766267200000
SUMMARY:U15 RT C1 w: TSV Eint. Karlsfeld - TSV TB München
CLASS:PUBLIC
DTSTART;VALUE=DATE:20240317
DTSTAMP:20240317T154700Z
DTEND;VALUE=DATE:20240318
END:VEVENT
END:VCALENDAR