BEGIN:VCALENDAR
VERSION:2.0
PRODID:VSD-Portal-www.volley.de
METHOD:PUBLISH
BEGIN:VEVENT
UID:20951-2da69939ed67427dc6bf3daba21059e9
X-WR-RELCALID:20951-2da69939ed67427dc6bf3daba21059e9
ORGANIZER:Volleyball
SEQUENCE:261111142
SUMMARY:BK15         Mä.: Erkelenzer VV II - Haaner TV II
CLASS:PUBLIC
DTSTART:20130929T090000Z
DTSTAMP:20140410T162000Z
END:VEVENT
BEGIN:VEVENT
UID:20961-2da69939ed67427dc6bf3daba21059e9
X-WR-RELCALID:20961-2da69939ed67427dc6bf3daba21059e9
ORGANIZER:Volleyball
SEQUENCE:261111142
SUMMARY:BK15         Mä.: Erkelenzer VV II - SG Langenfeld II
CLASS:PUBLIC
DTSTART:20131109T140000Z
DTSTAMP:20140410T162000Z
END:VEVENT
BEGIN:VEVENT
UID:20972-2da69939ed67427dc6bf3daba21059e9
X-WR-RELCALID:20972-2da69939ed67427dc6bf3daba21059e9
ORGANIZER:Volleyball
SEQUENCE:261111142
SUMMARY:BK15         Mä.: Erkelenzer VV II - ART Düsseldorf III
CLASS:PUBLIC
DTSTART:20131123T140000Z
DTSTAMP:20140410T162000Z
END:VEVENT
BEGIN:VEVENT
UID:20982-2da69939ed67427dc6bf3daba21059e9
X-WR-RELCALID:20982-2da69939ed67427dc6bf3daba21059e9
ORGANIZER:Volleyball
SEQUENCE:261111142
SUMMARY:BK15         Mä.: Erkelenzer VV II - TSV Norf
CLASS:PUBLIC
DTSTART:20140111T140000Z
DTSTAMP:20140410T162000Z
END:VEVENT
BEGIN:VEVENT
UID:20989-2da69939ed67427dc6bf3daba21059e9
X-WR-RELCALID:20989-2da69939ed67427dc6bf3daba21059e9
ORGANIZER:Volleyball
SEQUENCE:261111142
SUMMARY:BK15         Mä.: Erkelenzer VV II - TuS Waldniel
CLASS:PUBLIC
DTSTART:20140125T150000Z
DTSTAMP:20140410T162000Z
END:VEVENT
BEGIN:VEVENT
UID:20994-2da69939ed67427dc6bf3daba21059e9
X-WR-RELCALID:20994-2da69939ed67427dc6bf3daba21059e9
ORGANIZER:Volleyball
SEQUENCE:261111142
SUMMARY:BK15         Mä.: Erkelenzer VV II - SG Düsseldorf-Süd
CLASS:PUBLIC
DTSTART:20140201T170000Z
DTSTAMP:20140410T162000Z
END:VEVENT
BEGIN:VEVENT
UID:21015-2da69939ed67427dc6bf3daba21059e9
X-WR-RELCALID:21015-2da69939ed67427dc6bf3daba21059e9
ORGANIZER:Volleyball
SEQUENCE:261111142
SUMMARY:BK15         Mä.: Erkelenzer VV II - TSV Bayer Dormagen III
CLASS:PUBLIC
DTSTART:20140322T140000Z
DTSTAMP:20140410T162000Z
END:VEVENT
BEGIN:VEVENT
UID:21004-2da69939ed67427dc6bf3daba21059e9
X-WR-RELCALID:21004-2da69939ed67427dc6bf3daba21059e9
ORGANIZER:Volleyball
SEQUENCE:261111142
SUMMARY:BK15         Mä.: Erkelenzer VV II - VSC Grevenbroich II
CLASS:PUBLIC
DTSTART:20140331T173000Z
DTSTAMP:20140410T162000Z
END:VEVENT
END:VCALENDAR