BEGIN:VCALENDAR
VERSION:2.0
PRODID:VSD-Portal-www.volley.de
METHOD:PUBLISH
BEGIN:VEVENT
UID:152418-2da69939ed67427dc6bf3daba21059e9
X-WR-RELCALID:152418-2da69939ed67427dc6bf3daba21059e9
ORGANIZER:Volleyball
SEQUENCE:261111031
SUMMARY:BKl 14 Fr.: VC Misburg II - TuS Altwarmbüchen II
CLASS:PUBLIC
DTSTART;VALUE=DATE:20030920
DTSTAMP:20140607T181500Z
DTEND;VALUE=DATE:20030921
END:VEVENT
BEGIN:VEVENT
UID:152488-2da69939ed67427dc6bf3daba21059e9
X-WR-RELCALID:152488-2da69939ed67427dc6bf3daba21059e9
ORGANIZER:Volleyball
SEQUENCE:261111031
SUMMARY:BKl 14 Fr.: VC Misburg II - MTV Ilten
CLASS:PUBLIC
DTSTART;VALUE=DATE:20030920
DTSTAMP:20140607T181500Z
DTEND;VALUE=DATE:20030921
END:VEVENT
BEGIN:VEVENT
UID:152483-2da69939ed67427dc6bf3daba21059e9
X-WR-RELCALID:152483-2da69939ed67427dc6bf3daba21059e9
ORGANIZER:Volleyball
SEQUENCE:261111031
SUMMARY:BKl 14 Fr.: TB Stöcken - VC Misburg II
CLASS:PUBLIC
DTSTART;VALUE=DATE:20031004
DTSTAMP:20140607T181500Z
DTEND;VALUE=DATE:20031005
END:VEVENT
BEGIN:VEVENT
UID:152474-2da69939ed67427dc6bf3daba21059e9
X-WR-RELCALID:152474-2da69939ed67427dc6bf3daba21059e9
ORGANIZER:Volleyball
SEQUENCE:261111031
SUMMARY:BKl 14 Fr.: SpVg Laatzen - VC Misburg II
CLASS:PUBLIC
DTSTART;VALUE=DATE:20031018
DTSTAMP:20140607T181500Z
DTEND;VALUE=DATE:20031019
END:VEVENT
BEGIN:VEVENT
UID:152466-2da69939ed67427dc6bf3daba21059e9
X-WR-RELCALID:152466-2da69939ed67427dc6bf3daba21059e9
ORGANIZER:Volleyball
SEQUENCE:261111031
SUMMARY:BKl 14 Fr.: VC Misburg II - MTV Groß Buchholz
CLASS:PUBLIC
DTSTART;VALUE=DATE:20031101
DTSTAMP:20140607T181500Z
DTEND;VALUE=DATE:20031102
END:VEVENT
BEGIN:VEVENT
UID:152467-2da69939ed67427dc6bf3daba21059e9
X-WR-RELCALID:152467-2da69939ed67427dc6bf3daba21059e9
ORGANIZER:Volleyball
SEQUENCE:261111031
SUMMARY:BKl 14 Fr.: VC Misburg II - SC Langenhagen III
CLASS:PUBLIC
DTSTART;VALUE=DATE:20031101
DTSTAMP:20140607T181500Z
DTEND;VALUE=DATE:20031102
END:VEVENT
BEGIN:VEVENT
UID:152458-2da69939ed67427dc6bf3daba21059e9
X-WR-RELCALID:152458-2da69939ed67427dc6bf3daba21059e9
ORGANIZER:Volleyball
SEQUENCE:261111031
SUMMARY:BKl 14 Fr.: PSV Hannover - VC Misburg II
CLASS:PUBLIC
DTSTART;VALUE=DATE:20031115
DTSTAMP:20140607T181500Z
DTEND;VALUE=DATE:20031116
END:VEVENT
BEGIN:VEVENT
UID:152456-2da69939ed67427dc6bf3daba21059e9
X-WR-RELCALID:152456-2da69939ed67427dc6bf3daba21059e9
ORGANIZER:Volleyball
SEQUENCE:261111031
SUMMARY:BKl 14 Fr.: VC Misburg II - SpVg Laatzen
CLASS:PUBLIC
DTSTART;VALUE=DATE:20031206
DTSTAMP:20140607T181500Z
DTEND;VALUE=DATE:20031207
END:VEVENT
BEGIN:VEVENT
UID:152455-2da69939ed67427dc6bf3daba21059e9
X-WR-RELCALID:152455-2da69939ed67427dc6bf3daba21059e9
ORGANIZER:Volleyball
SEQUENCE:261111031
SUMMARY:BKl 14 Fr.: VC Misburg II - GfL Hannover III
CLASS:PUBLIC
DTSTART;VALUE=DATE:20031206
DTSTAMP:20140607T181500Z
DTEND;VALUE=DATE:20031207
END:VEVENT
BEGIN:VEVENT
UID:152447-2da69939ed67427dc6bf3daba21059e9
X-WR-RELCALID:152447-2da69939ed67427dc6bf3daba21059e9
ORGANIZER:Volleyball
SEQUENCE:261111031
SUMMARY:BKl 14 Fr.: TuS Altwarmbüchen II - VC Misburg II
CLASS:PUBLIC
DTSTART;VALUE=DATE:20040110
DTSTAMP:20140607T181500Z
DTEND;VALUE=DATE:20040111
END:VEVENT
BEGIN:VEVENT
UID:152441-2da69939ed67427dc6bf3daba21059e9
X-WR-RELCALID:152441-2da69939ed67427dc6bf3daba21059e9
ORGANIZER:Volleyball
SEQUENCE:261111031
SUMMARY:BKl 14 Fr.: MTV Ilten - VC Misburg II
CLASS:PUBLIC
DTSTART;VALUE=DATE:20040117
DTSTAMP:20140607T181500Z
DTEND;VALUE=DATE:20040118
END:VEVENT
BEGIN:VEVENT
UID:152440-2da69939ed67427dc6bf3daba21059e9
X-WR-RELCALID:152440-2da69939ed67427dc6bf3daba21059e9
ORGANIZER:Volleyball
SEQUENCE:261111031
SUMMARY:BKl 14 Fr.: GfL Hannover III - VC Misburg II
CLASS:PUBLIC
DTSTART;VALUE=DATE:20040125
DTSTAMP:20140607T181500Z
DTEND;VALUE=DATE:20040126
END:VEVENT
BEGIN:VEVENT
UID:152438-2da69939ed67427dc6bf3daba21059e9
X-WR-RELCALID:152438-2da69939ed67427dc6bf3daba21059e9
ORGANIZER:Volleyball
SEQUENCE:261111031
SUMMARY:BKl 14 Fr.: VC Misburg II - TB Stöcken
CLASS:PUBLIC
DTSTART;VALUE=DATE:20040131
DTSTAMP:20140607T181500Z
DTEND;VALUE=DATE:20040201
END:VEVENT
BEGIN:VEVENT
UID:152437-2da69939ed67427dc6bf3daba21059e9
X-WR-RELCALID:152437-2da69939ed67427dc6bf3daba21059e9
ORGANIZER:Volleyball
SEQUENCE:261111031
SUMMARY:BKl 14 Fr.: VC Misburg II - PSV Hannover
CLASS:PUBLIC
DTSTART;VALUE=DATE:20040131
DTSTAMP:20140607T181500Z
DTEND;VALUE=DATE:20040201
END:VEVENT
BEGIN:VEVENT
UID:152430-2da69939ed67427dc6bf3daba21059e9
X-WR-RELCALID:152430-2da69939ed67427dc6bf3daba21059e9
ORGANIZER:Volleyball
SEQUENCE:261111031
SUMMARY:BKl 14 Fr.: SC Langenhagen III - VC Misburg II
CLASS:PUBLIC
DTSTART;VALUE=DATE:20040214
DTSTAMP:20140607T181500Z
DTEND;VALUE=DATE:20040215
END:VEVENT
BEGIN:VEVENT
UID:152422-2da69939ed67427dc6bf3daba21059e9
X-WR-RELCALID:152422-2da69939ed67427dc6bf3daba21059e9
ORGANIZER:Volleyball
SEQUENCE:261111031
SUMMARY:BKl 14 Fr.: MTV Groß Buchholz - VC Misburg II
CLASS:PUBLIC
DTSTART;VALUE=DATE:20040306
DTSTAMP:20140607T181500Z
DTEND;VALUE=DATE:20040307
END:VEVENT
END:VCALENDAR