BEGIN:VCALENDAR
VERSION:2.0
PRODID:VSD-Portal-www.volley.de
METHOD:PUBLISH
BEGIN:VEVENT
UID:343857-0b1cb5f82de24c98f11e829bddb1f0f9
X-WR-RELCALID:343857-0b1cb5f82de24c98f11e829bddb1f0f9
ORGANIZER:Volleyball
SEQUENCE:261140312
SUMMARY:U13NordTu w: TSV Neuburg 2 - TSV Kösching 2
CLASS:PUBLIC
DTSTART;VALUE=DATE:20240414
DTSTAMP:20240414T202000Z
DTEND;VALUE=DATE:20240415
END:VEVENT
END:VCALENDAR