BEGIN:VCALENDAR
VERSION:2.0
PRODID:VSD-Portal-www.volley.de
METHOD:PUBLISH
BEGIN:VEVENT
UID:350583-0b1cb5f82de24c98f11e829bddb1f0f9
X-WR-RELCALID:350583-0b1cb5f82de24c98f11e829bddb1f0f9
ORGANIZER:Volleyball
SEQUENCE:261121819
LOCATION:Schulturnhalle, Schulstraße 11, 84419 Schwindegg
GEO:48.27049293765392000000;12.25357128570556100000
SUMMARY:KL7 Fr.: SV Schwindegg II - ASV Eggstätt
CLASS:PUBLIC
DTSTART:20241019T120000Z
DTSTAMP:20241019T152100Z
END:VEVENT
BEGIN:VEVENT
UID:350584-0b1cb5f82de24c98f11e829bddb1f0f9
X-WR-RELCALID:350584-0b1cb5f82de24c98f11e829bddb1f0f9
ORGANIZER:Volleyball
SEQUENCE:261121819
LOCATION:Schulturnhalle, Schulstraße 11, 84419 Schwindegg
GEO:48.27049293765392000000;12.25357128570556100000
SUMMARY:KL7 Fr.: SV Aschau - ASV Eggstätt
CLASS:PUBLIC
DTSTART:20241019T120000Z
DTSTAMP:20241019T172300Z
END:VEVENT
BEGIN:VEVENT
UID:350573-0b1cb5f82de24c98f11e829bddb1f0f9
X-WR-RELCALID:350573-0b1cb5f82de24c98f11e829bddb1f0f9
ORGANIZER:Volleyball
SEQUENCE:261121819
LOCATION:Sporthalle, Schulstraße 2, 83539 Pfaffing
GEO:48.05750300000000000000;12.11258000000000000000
SUMMARY:KL7 Fr.: SV Forsting-Pfaffing II - ASV Eggstätt
CLASS:PUBLIC
DTSTART:20241102T110100Z
DTSTAMP:20241102T152800Z
END:VEVENT
BEGIN:VEVENT
UID:350575-0b1cb5f82de24c98f11e829bddb1f0f9
X-WR-RELCALID:350575-0b1cb5f82de24c98f11e829bddb1f0f9
ORGANIZER:Volleyball
SEQUENCE:261121819
LOCATION:Sporthalle, Schulstraße 2, 83539 Pfaffing
GEO:48.05750300000000000000;12.11258000000000000000
SUMMARY:KL7 Fr.: ASV Eggstätt - TSV Eiselfing III
CLASS:PUBLIC
DTSTART:20241102T110200Z
DTSTAMP:20241102T173300Z
END:VEVENT
BEGIN:VEVENT
UID:350586-0b1cb5f82de24c98f11e829bddb1f0f9
X-WR-RELCALID:350586-0b1cb5f82de24c98f11e829bddb1f0f9
ORGANIZER:Volleyball
SEQUENCE:261121819
LOCATION:NUTZ-Arena an der Mittelschule, Europastr. 3, 84453 Mühldorf
GEO:48.25503000000000000000;12.51489000000000000000
SUMMARY:KL7 Fr.: TSV Mühldorf IV - ASV Eggstätt
CLASS:PUBLIC
DTSTART:20241109T110000Z
DTSTAMP:20241109T145900Z
END:VEVENT
BEGIN:VEVENT
UID:350587-0b1cb5f82de24c98f11e829bddb1f0f9
X-WR-RELCALID:350587-0b1cb5f82de24c98f11e829bddb1f0f9
ORGANIZER:Volleyball
SEQUENCE:261121819
LOCATION:NUTZ-Arena an der Mittelschule, Europastr. 3, 84453 Mühldorf
GEO:48.25503000000000000000;12.51489000000000000000
SUMMARY:KL7 Fr.: TSV Schnaitsee II - ASV Eggstätt
CLASS:PUBLIC
DTSTART:20241109T110000Z
DTSTAMP:20241109T164200Z
END:VEVENT
BEGIN:VEVENT
UID:350733-0b1cb5f82de24c98f11e829bddb1f0f9
X-WR-RELCALID:350733-0b1cb5f82de24c98f11e829bddb1f0f9
ORGANIZER:Volleyball
SEQUENCE:261121819
LOCATION:Schulsporthalle, Brunnerweg 7, 83119 Obing
GEO:47.99841000000000000000;12.40847000000000000000
SUMMARY:KL7 Fr.: TV Obing 09 II - ASV Eggstätt
CLASS:PUBLIC
DTSTART:20241123T110000Z
DTSTAMP:20241123T135500Z
END:VEVENT
BEGIN:VEVENT
UID:350734-0b1cb5f82de24c98f11e829bddb1f0f9
X-WR-RELCALID:350734-0b1cb5f82de24c98f11e829bddb1f0f9
ORGANIZER:Volleyball
SEQUENCE:261121819
LOCATION:Schulsporthalle, Brunnerweg 7, 83119 Obing
GEO:47.99841000000000000000;12.40847000000000000000
SUMMARY:KL7 Fr.: TSV Schnaitsee - ASV Eggstätt
CLASS:PUBLIC
DTSTART:20241123T110000Z
DTSTAMP:20241123T162800Z
END:VEVENT
BEGIN:VEVENT
UID:350740-0b1cb5f82de24c98f11e829bddb1f0f9
X-WR-RELCALID:350740-0b1cb5f82de24c98f11e829bddb1f0f9
ORGANIZER:Volleyball
SEQUENCE:261121819
LOCATION:Gemeindehalle Eiselfing, Pfarrer-Mördel-Weg 3, 83549 Eiselfin
 g
GEO:48.04020480000000000000;12.24298470000000000000
SUMMARY:KL7 Fr.: TSV Eiselfing III - ASV Eggstätt
CLASS:PUBLIC
DTSTART:20241207T110000Z
DTSTAMP:20241207T142800Z
END:VEVENT
BEGIN:VEVENT
UID:350741-0b1cb5f82de24c98f11e829bddb1f0f9
X-WR-RELCALID:350741-0b1cb5f82de24c98f11e829bddb1f0f9
ORGANIZER:Volleyball
SEQUENCE:261121819
LOCATION:Gemeindehalle Eiselfing, Pfarrer-Mördel-Weg 3, 83549 Eiselfin
 g
GEO:48.04020480000000000000;12.24298470000000000000
SUMMARY:KL7 Fr.: TSV Mühldorf III - ASV Eggstätt
CLASS:PUBLIC
DTSTART:20241207T110000Z
DTSTAMP:20241207T165300Z
END:VEVENT
BEGIN:VEVENT
UID:350760-0b1cb5f82de24c98f11e829bddb1f0f9
X-WR-RELCALID:350760-0b1cb5f82de24c98f11e829bddb1f0f9
ORGANIZER:Volleyball
SEQUENCE:261121819
LOCATION:Schulturnhalle, Schulstraße 11, 84419 Schwindegg
GEO:48.27049293765392000000;12.25357128570556100000
SUMMARY:KL7 Fr.: SV Schwindegg II - ASV Eggstätt
CLASS:PUBLIC
DTSTART:20250125T130000Z
DTSTAMP:20250125T144800Z
END:VEVENT
BEGIN:VEVENT
UID:350762-0b1cb5f82de24c98f11e829bddb1f0f9
X-WR-RELCALID:350762-0b1cb5f82de24c98f11e829bddb1f0f9
ORGANIZER:Volleyball
SEQUENCE:261121819
LOCATION:Schulturnhalle, Schulstraße 11, 84419 Schwindegg
GEO:48.27049293765392000000;12.25357128570556100000
SUMMARY:KL7 Fr.: ASV Eggstätt - TSV Mühldorf IV
CLASS:PUBLIC
DTSTART:20250125T130000Z
DTSTAMP:20250125T192200Z
END:VEVENT
BEGIN:VEVENT
UID:350781-0b1cb5f82de24c98f11e829bddb1f0f9
X-WR-RELCALID:350781-0b1cb5f82de24c98f11e829bddb1f0f9
ORGANIZER:Volleyball
SEQUENCE:261121819
LOCATION:Sporthalle Eggstätt, Obingerstraße 5, 83125 Eggstätt
GEO:47.92736481090603500000;12.37782637301631900000
SUMMARY:KL7 Fr.: ASV Eggstätt - TV Obing 09 II
CLASS:PUBLIC
DTSTART:20250208T100000Z
DTSTAMP:20250208T111200Z
END:VEVENT
BEGIN:VEVENT
UID:350782-0b1cb5f82de24c98f11e829bddb1f0f9
X-WR-RELCALID:350782-0b1cb5f82de24c98f11e829bddb1f0f9
ORGANIZER:Volleyball
SEQUENCE:261121819
LOCATION:Sporthalle Eggstätt, Obingerstraße 5, 83125 Eggstätt
GEO:47.92736481090603500000;12.37782637301631900000
SUMMARY:KL7 Fr.: ASV Eggstätt - SV Aschau
CLASS:PUBLIC
DTSTART:20250208T100000Z
DTSTAMP:20250208T125800Z
END:VEVENT
BEGIN:VEVENT
UID:350784-0b1cb5f82de24c98f11e829bddb1f0f9
X-WR-RELCALID:350784-0b1cb5f82de24c98f11e829bddb1f0f9
ORGANIZER:Volleyball
SEQUENCE:261121819
LOCATION:Sporthalle Eggstätt, Obingerstraße 5, 83125 Eggstätt
GEO:47.92736481090603500000;12.37782637301631900000
SUMMARY:KL7 Fr.: ASV Eggstätt - SV Forsting-Pfaffing II
CLASS:PUBLIC
DTSTART:20250223T100000Z
DTSTAMP:20250223T110800Z
END:VEVENT
BEGIN:VEVENT
UID:350785-0b1cb5f82de24c98f11e829bddb1f0f9
X-WR-RELCALID:350785-0b1cb5f82de24c98f11e829bddb1f0f9
ORGANIZER:Volleyball
SEQUENCE:261121819
LOCATION:Sporthalle Eggstätt, Obingerstraße 5, 83125 Eggstätt
GEO:47.92736481090603500000;12.37782637301631900000
SUMMARY:KL7 Fr.: ASV Eggstätt - TSV Schnaitsee
CLASS:PUBLIC
DTSTART:20250223T100000Z
DTSTAMP:20250223T140900Z
END:VEVENT
BEGIN:VEVENT
UID:350767-0b1cb5f82de24c98f11e829bddb1f0f9
X-WR-RELCALID:350767-0b1cb5f82de24c98f11e829bddb1f0f9
ORGANIZER:Volleyball
SEQUENCE:261121819
LOCATION:TSV Halle, Friedrich-Ludwig-Jahn-Str. 1, 84453 Mühldorf
GEO:48.23910000000000000000;12.53121000000000000000
SUMMARY:KL7 Fr.: TSV Mühldorf III - ASV Eggstätt
CLASS:PUBLIC
DTSTART:20250322T130000Z
DTSTAMP:20250322T171700Z
END:VEVENT
BEGIN:VEVENT
UID:350768-0b1cb5f82de24c98f11e829bddb1f0f9
X-WR-RELCALID:350768-0b1cb5f82de24c98f11e829bddb1f0f9
ORGANIZER:Volleyball
SEQUENCE:261121819
LOCATION:TSV Halle, Friedrich-Ludwig-Jahn-Str. 1, 84453 Mühldorf
GEO:48.23910000000000000000;12.53121000000000000000
SUMMARY:KL7 Fr.: TSV Schnaitsee II - ASV Eggstätt
CLASS:PUBLIC
DTSTART:20250322T130000Z
DTSTAMP:20250322T191500Z
END:VEVENT
END:VCALENDAR