BEGIN:VCALENDAR
VERSION:2.0
PRODID:VSD-Portal-www.volley.de
METHOD:PUBLISH
BEGIN:VEVENT
UID:372334-0b1cb5f82de24c98f11e829bddb1f0f9
X-WR-RELCALID:372334-0b1cb5f82de24c98f11e829bddb1f0f9
ORGANIZER:Volleyball
SEQUENCE:261101016
SUMMARY:BZP OBB Fr.: MTV Pfaffenhofen - Lechrain Volleys II
CLASS:PUBLIC
DTSTART;VALUE=DATE:20250322
DTSTAMP:20250322T093400Z
DTEND;VALUE=DATE:20250323
END:VEVENT
BEGIN:VEVENT
UID:372335-0b1cb5f82de24c98f11e829bddb1f0f9
X-WR-RELCALID:372335-0b1cb5f82de24c98f11e829bddb1f0f9
ORGANIZER:Volleyball
SEQUENCE:261101016
SUMMARY:BZP OBB Fr.: Lechrain Volleys II - TSV Bad Endorf
CLASS:PUBLIC
DTSTART;VALUE=DATE:20250322
DTSTAMP:20250322T104300Z
DTEND;VALUE=DATE:20250323
END:VEVENT
BEGIN:VEVENT
UID:372336-0b1cb5f82de24c98f11e829bddb1f0f9
X-WR-RELCALID:372336-0b1cb5f82de24c98f11e829bddb1f0f9
ORGANIZER:Volleyball
SEQUENCE:261101016
SUMMARY:BZP OBB Fr.: TSV Winhöring - Lechrain Volleys II
CLASS:PUBLIC
DTSTART;VALUE=DATE:20250322
DTSTAMP:20250322T122800Z
DTEND;VALUE=DATE:20250323
END:VEVENT
END:VCALENDAR