BEGIN:VCALENDAR
VERSION:2.0
PRODID:VSD-Portal-www.volley.de
METHOD:PUBLISH
BEGIN:VEVENT
UID:372349-0b1cb5f82de24c98f11e829bddb1f0f9
X-WR-RELCALID:372349-0b1cb5f82de24c98f11e829bddb1f0f9
ORGANIZER:Volleyball
SEQUENCE:261100448
SUMMARY:BZP OBB Fr.: TUSC Obermenzing - Lechrain Volleys II
CLASS:PUBLIC
DTSTART;VALUE=DATE:20250322
DTSTAMP:20250322T164200Z
DTEND;VALUE=DATE:20250323
END:VEVENT
END:VCALENDAR