BEGIN:VCALENDAR
VERSION:2.0
PRODID:VSD-Portal-www.volley.de
METHOD:PUBLISH
BEGIN:VEVENT
UID:359735-0b1cb5f82de24c98f11e829bddb1f0f9
X-WR-RELCALID:359735-0b1cb5f82de24c98f11e829bddb1f0f9
ORGANIZER:Volleyball
SEQUENCE:261091413
LOCATION:Dreifachturnhalle im Schulzentrum, Sporthallenweg, 91438 Bad 
 Windsheim
GEO:49.50615784291917000000;10.42331996826169400000
SUMMARY:U16 V m: SV Rednitzhembach - TSV Neunkirchen a.B.
CLASS:PUBLIC
DTSTART:20241006T080000Z
DTSTAMP:20241006T090500Z
END:VEVENT
BEGIN:VEVENT
UID:362004-0b1cb5f82de24c98f11e829bddb1f0f9
X-WR-RELCALID:362004-0b1cb5f82de24c98f11e829bddb1f0f9
ORGANIZER:Volleyball
SEQUENCE:261091413
LOCATION:Dreifachturnhalle im Schulzentrum, Sporthallenweg, 91438 Bad 
 Windsheim
GEO:49.50615784291917000000;10.42331996826169400000
SUMMARY:U16 V m: SV Rednitzhembach - TSV Zirndorf
CLASS:PUBLIC
DTSTART:20241006T080000Z
DTSTAMP:20241006T104000Z
END:VEVENT
END:VCALENDAR