BEGIN:VCALENDAR
VERSION:2.0
PRODID:VSD-Portal-www.volley.de
METHOD:PUBLISH
BEGIN:VEVENT
UID:357482-0b1cb5f82de24c98f11e829bddb1f0f9
X-WR-RELCALID:357482-0b1cb5f82de24c98f11e829bddb1f0f9
ORGANIZER:Volleyball
SEQUENCE:261110244
LOCATION:Schulturnhalle am Sachsenbau, Amberger Str. 32, 92253 Schnait
 tenbach
GEO:49.54691300000000000000;11.99386700000000000000
SUMMARY:KR U12 N w: DJK Ursensollen - TV Vohenstrauß II - a.K.
CLASS:PUBLIC
DTSTART:20241020T080000Z
DTSTAMP:20241021T075700Z
END:VEVENT
BEGIN:VEVENT
UID:357485-0b1cb5f82de24c98f11e829bddb1f0f9
X-WR-RELCALID:357485-0b1cb5f82de24c98f11e829bddb1f0f9
ORGANIZER:Volleyball
SEQUENCE:261110244
LOCATION:Schulturnhalle am Sachsenbau, Amberger Str. 32, 92253 Schnait
 tenbach
GEO:49.54691300000000000000;11.99386700000000000000
SUMMARY:KR U12 N w: SV Hahnbach - TV Vohenstrauß II - a.K.
CLASS:PUBLIC
DTSTART:20241020T080000Z
DTSTAMP:20241021T075900Z
END:VEVENT
BEGIN:VEVENT
UID:357496-0b1cb5f82de24c98f11e829bddb1f0f9
X-WR-RELCALID:357496-0b1cb5f82de24c98f11e829bddb1f0f9
ORGANIZER:Volleyball
SEQUENCE:261110244
LOCATION:Schulturnhalle am Sachsenbau, Amberger Str. 32, 92253 Schnait
 tenbach
GEO:49.54691300000000000000;11.99386700000000000000
SUMMARY:KR U12 N w: SV TUS/DJK Grafenwöhr - TV Vohenstrauß II - a.K.
CLASS:PUBLIC
DTSTART:20241020T080000Z
DTSTAMP:20241021T080800Z
END:VEVENT
BEGIN:VEVENT
UID:360476-0b1cb5f82de24c98f11e829bddb1f0f9
X-WR-RELCALID:360476-0b1cb5f82de24c98f11e829bddb1f0f9
ORGANIZER:Volleyball
SEQUENCE:261110244
LOCATION:Dreifachturnhalle, Hinterm Schloss 1, 92648 Vohenstrauß
GEO:49.61900300000000000000;12.34026050000000000000
SUMMARY:KR U12 N w: TUS Schnaittenbach - a.K. - TV Vohenstrauß II - a.
 K.
CLASS:PUBLIC
DTSTART:20241110T090000Z
DTSTAMP:20241110T124400Z
END:VEVENT
BEGIN:VEVENT
UID:360481-0b1cb5f82de24c98f11e829bddb1f0f9
X-WR-RELCALID:360481-0b1cb5f82de24c98f11e829bddb1f0f9
ORGANIZER:Volleyball
SEQUENCE:261110244
LOCATION:Dreifachturnhalle, Hinterm Schloss 1, 92648 Vohenstrauß
GEO:49.61900300000000000000;12.34026050000000000000
SUMMARY:KR U12 N w: TV Vohenstrauß II - a.K. - ASV Schwend II - a.K.
CLASS:PUBLIC
DTSTART:20241110T090000Z
DTSTAMP:20241110T124800Z
END:VEVENT
BEGIN:VEVENT
UID:360483-0b1cb5f82de24c98f11e829bddb1f0f9
X-WR-RELCALID:360483-0b1cb5f82de24c98f11e829bddb1f0f9
ORGANIZER:Volleyball
SEQUENCE:261110244
LOCATION:Dreifachturnhalle, Hinterm Schloss 1, 92648 Vohenstrauß
GEO:49.61900300000000000000;12.34026050000000000000
SUMMARY:KR U12 N w: TV Vohenstrauß - a.K. - TV Vohenstrauß II - a.K.
CLASS:PUBLIC
DTSTART:20241110T090000Z
DTSTAMP:20241110T124300Z
END:VEVENT
BEGIN:VEVENT
UID:360493-0b1cb5f82de24c98f11e829bddb1f0f9
X-WR-RELCALID:360493-0b1cb5f82de24c98f11e829bddb1f0f9
ORGANIZER:Volleyball
SEQUENCE:261110244
LOCATION:Dreifaltigkeitsschule, Krumbacher Straße 2, 92224 Amberg
GEO:49.44434885183887000000;11.88019667724609000000
SUMMARY:KR U12 N w: TV Vohenstrauß II - a.K. - VC DJK Amberg - a.K.
CLASS:PUBLIC
DTSTART:20241208T090000Z
DTSTAMP:20241208T152900Z
END:VEVENT
BEGIN:VEVENT
UID:360496-0b1cb5f82de24c98f11e829bddb1f0f9
X-WR-RELCALID:360496-0b1cb5f82de24c98f11e829bddb1f0f9
ORGANIZER:Volleyball
SEQUENCE:261110244
LOCATION:Dreifaltigkeitsschule, Krumbacher Straße 2, 92224 Amberg
GEO:49.44434885183887000000;11.88019667724609000000
SUMMARY:KR U12 N w: ASV Schwend - a.K. - TV Vohenstrauß II - a.K.
CLASS:PUBLIC
DTSTART:20241208T090000Z
DTSTAMP:20241208T153300Z
END:VEVENT
BEGIN:VEVENT
UID:360503-0b1cb5f82de24c98f11e829bddb1f0f9
X-WR-RELCALID:360503-0b1cb5f82de24c98f11e829bddb1f0f9
ORGANIZER:Volleyball
SEQUENCE:261110244
LOCATION:Dreifaltigkeitsschule, Krumbacher Straße 2, 92224 Amberg
GEO:49.44434885183887000000;11.88019667724609000000
SUMMARY:KR U12 N w: TV Vohenstrauß II - a.K. - DJK Ursensollen II - a.
 K.
CLASS:PUBLIC
DTSTART:20241208T090000Z
DTSTAMP:20241208T153200Z
END:VEVENT
BEGIN:VEVENT
UID:360511-0b1cb5f82de24c98f11e829bddb1f0f9
X-WR-RELCALID:360511-0b1cb5f82de24c98f11e829bddb1f0f9
ORGANIZER:Volleyball
SEQUENCE:261110244
LOCATION:Josef-Graf-Halle, Max-Prechtl-Str. 8, 92256 Hahnbach
GEO:49.53322000000000000000;11.80589000000000000000
SUMMARY:KR U12 N w: TV Vohenstrauß II - a.K. - SV Hahnbach II - a.K.
CLASS:PUBLIC
DTSTART:20250119T090000Z
DTSTAMP:20250119T095100Z
END:VEVENT
BEGIN:VEVENT
UID:360516-0b1cb5f82de24c98f11e829bddb1f0f9
X-WR-RELCALID:360516-0b1cb5f82de24c98f11e829bddb1f0f9
ORGANIZER:Volleyball
SEQUENCE:261110244
LOCATION:Josef-Graf-Halle, Max-Prechtl-Str. 8, 92256 Hahnbach
GEO:49.53322000000000000000;11.80589000000000000000
SUMMARY:KR U12 N w: TV Vohenstrauß II - a.K. - SV TUS/DJK Grafenwöhr I
 I
CLASS:PUBLIC
DTSTART:20250119T090000Z
DTSTAMP:20250119T130000Z
END:VEVENT
BEGIN:VEVENT
UID:360521-0b1cb5f82de24c98f11e829bddb1f0f9
X-WR-RELCALID:360521-0b1cb5f82de24c98f11e829bddb1f0f9
ORGANIZER:Volleyball
SEQUENCE:261110244
LOCATION:Josef-Graf-Halle, Max-Prechtl-Str. 8, 92256 Hahnbach
GEO:49.53322000000000000000;11.80589000000000000000
SUMMARY:KR U12 N w: TV Vohenstrauß II - a.K. - TUS Schnaittenbach II -
  a.K.
CLASS:PUBLIC
DTSTART:20250119T090000Z
DTSTAMP:20250119T122000Z
END:VEVENT
END:VCALENDAR