BEGIN:VCALENDAR
VERSION:2.0
PRODID:VSD-Portal-www.volley.de
METHOD:PUBLISH
BEGIN:VEVENT
UID:357514-0b1cb5f82de24c98f11e829bddb1f0f9
X-WR-RELCALID:357514-0b1cb5f82de24c98f11e829bddb1f0f9
ORGANIZER:Volleyball
SEQUENCE:261121642
LOCATION:Johann-Baptist-Laßleben-Schule, Schulweg 20, 93183 Kallmünz
GEO:49.16340906411669000000;11.96170043914799000000
SUMMARY:KR U14w NS w: VC Kallmünz-Burglengenfeld - a.K. - VC Schwandor
 f
CLASS:PUBLIC
DTSTART:20241006T080000Z
DTSTAMP:20241006T102500Z
END:VEVENT
BEGIN:VEVENT
UID:357515-0b1cb5f82de24c98f11e829bddb1f0f9
X-WR-RELCALID:357515-0b1cb5f82de24c98f11e829bddb1f0f9
ORGANIZER:Volleyball
SEQUENCE:261121642
LOCATION:Johann-Baptist-Laßleben-Schule, Schulweg 20, 93183 Kallmünz
GEO:49.16340906411669000000;11.96170043914799000000
SUMMARY:KR U14w NS w: VC Hohenfels-Parsberg - a.K. - VC Kallmünz-Burgl
 engenfeld - a.K.
CLASS:PUBLIC
DTSTART:20241006T080000Z
DTSTAMP:20241006T093100Z
END:VEVENT
END:VCALENDAR