BEGIN:VCALENDAR
VERSION:2.0
PRODID:VSD-Portal-www.volley.de
METHOD:PUBLISH
BEGIN:VEVENT
UID:16790-0b1cb5f82de24c98f11e829bddb1f0f9
X-WR-RELCALID:16790-0b1cb5f82de24c98f11e829bddb1f0f9
ORGANIZER:Volleyball
SEQUENCE:261141551
SUMMARY:U 14 w: TSV Rottendorf - TSV Karlstadt
CLASS:PUBLIC
DTSTART:20131110T090000Z
DTSTAMP:20131108T215500Z
END:VEVENT
END:VCALENDAR