BEGIN:VCALENDAR
VERSION:2.0
PRODID:VSD-Portal-www.volley.de
METHOD:PUBLISH
BEGIN:VEVENT
UID:2452-2da69939ed67427dc6bf3daba21059e9
X-WR-RELCALID:2452-2da69939ed67427dc6bf3daba21059e9
ORGANIZER:Volleyball
SEQUENCE:261121239
SUMMARY:BL Fr.: TSB Flensburg 3 - TSV Husum
CLASS:PUBLIC
DTSTART:20131026T120000Z
DTSTAMP:20140325T142000Z
END:VEVENT
BEGIN:VEVENT
UID:2453-2da69939ed67427dc6bf3daba21059e9
X-WR-RELCALID:2453-2da69939ed67427dc6bf3daba21059e9
ORGANIZER:Volleyball
SEQUENCE:261121239
SUMMARY:BL Fr.: TSB Flensburg 3 - TSB Flensburg 2
CLASS:PUBLIC
DTSTART:20131026T120000Z
DTSTAMP:20140325T142000Z
END:VEVENT
BEGIN:VEVENT
UID:2488-2da69939ed67427dc6bf3daba21059e9
X-WR-RELCALID:2488-2da69939ed67427dc6bf3daba21059e9
ORGANIZER:Volleyball
SEQUENCE:261121239
SUMMARY:BL Fr.: TSB Flensburg 3 - Kieler TV 5
CLASS:PUBLIC
DTSTART:20140118T130000Z
DTSTAMP:20140325T142000Z
END:VEVENT
BEGIN:VEVENT
UID:2489-2da69939ed67427dc6bf3daba21059e9
X-WR-RELCALID:2489-2da69939ed67427dc6bf3daba21059e9
ORGANIZER:Volleyball
SEQUENCE:261121239
SUMMARY:BL Fr.: TSB Flensburg 3 - Kieler TV 4
CLASS:PUBLIC
DTSTART:20140118T130000Z
DTSTAMP:20140325T142000Z
END:VEVENT
BEGIN:VEVENT
UID:2515-2da69939ed67427dc6bf3daba21059e9
X-WR-RELCALID:2515-2da69939ed67427dc6bf3daba21059e9
ORGANIZER:Volleyball
SEQUENCE:261121239
SUMMARY:BL Fr.: TSB Flensburg 3 - SpVg Eidertal Molfsee 2
CLASS:PUBLIC
DTSTART:20140315T130000Z
DTSTAMP:20140325T142000Z
END:VEVENT
BEGIN:VEVENT
UID:2516-2da69939ed67427dc6bf3daba21059e9
X-WR-RELCALID:2516-2da69939ed67427dc6bf3daba21059e9
ORGANIZER:Volleyball
SEQUENCE:261121239
SUMMARY:BL Fr.: TSB Flensburg 3 - SV Adelby
CLASS:PUBLIC
DTSTART:20140315T130000Z
DTSTAMP:20140325T142000Z
END:VEVENT
END:VCALENDAR