BEGIN:VCALENDAR
VERSION:2.0
PRODID:VSD-Portal-www.volley.de
METHOD:PUBLISH
BEGIN:VEVENT
UID:24978-2da69939ed67427dc6bf3daba21059e9
X-WR-RELCALID:24978-2da69939ed67427dc6bf3daba21059e9
ORGANIZER:Volleyball
SEQUENCE:261121126
SUMMARY:KL 4 Fr.: FT Forchheim - VC Kuppenheim2
CLASS:PUBLIC
DTSTART:20130928T130000Z
DTSTAMP:20140330T154000Z
END:VEVENT
BEGIN:VEVENT
UID:24979-2da69939ed67427dc6bf3daba21059e9
X-WR-RELCALID:24979-2da69939ed67427dc6bf3daba21059e9
ORGANIZER:Volleyball
SEQUENCE:261121126
SUMMARY:KL 4 Fr.: FT Forchheim - VSG Kleinsteinbach3
CLASS:PUBLIC
DTSTART:20130928T130000Z
DTSTAMP:20140330T154000Z
END:VEVENT
BEGIN:VEVENT
UID:24989-2da69939ed67427dc6bf3daba21059e9
X-WR-RELCALID:24989-2da69939ed67427dc6bf3daba21059e9
ORGANIZER:Volleyball
SEQUENCE:261121126
SUMMARY:KL 4 Fr.: TV Bühl3 - FT Forchheim
CLASS:PUBLIC
DTSTART:20131020T090000Z
DTSTAMP:20140330T154000Z
END:VEVENT
BEGIN:VEVENT
UID:24990-2da69939ed67427dc6bf3daba21059e9
X-WR-RELCALID:24990-2da69939ed67427dc6bf3daba21059e9
ORGANIZER:Volleyball
SEQUENCE:261121126
SUMMARY:KL 4 Fr.: FT Forchheim - Post Südstadt Karlsruhe
CLASS:PUBLIC
DTSTART:20131103T100000Z
DTSTAMP:20140330T154000Z
END:VEVENT
BEGIN:VEVENT
UID:24991-2da69939ed67427dc6bf3daba21059e9
X-WR-RELCALID:24991-2da69939ed67427dc6bf3daba21059e9
ORGANIZER:Volleyball
SEQUENCE:261121126
SUMMARY:KL 4 Fr.: FT Forchheim - VC Königsbach
CLASS:PUBLIC
DTSTART:20131103T100000Z
DTSTAMP:20140330T154000Z
END:VEVENT
BEGIN:VEVENT
UID:24998-2da69939ed67427dc6bf3daba21059e9
X-WR-RELCALID:24998-2da69939ed67427dc6bf3daba21059e9
ORGANIZER:Volleyball
SEQUENCE:261121126
SUMMARY:KL 4 Fr.:  Rastatter TV2 - FT Forchheim
CLASS:PUBLIC
DTSTART:20131130T140000Z
DTSTAMP:20140330T154000Z
END:VEVENT
BEGIN:VEVENT
UID:25003-2da69939ed67427dc6bf3daba21059e9
X-WR-RELCALID:25003-2da69939ed67427dc6bf3daba21059e9
ORGANIZER:Volleyball
SEQUENCE:261121126
SUMMARY:KL 4 Fr.: TG Ötigheim2 - FT Forchheim
CLASS:PUBLIC
DTSTART:20131214T140000Z
DTSTAMP:20140330T154000Z
END:VEVENT
BEGIN:VEVENT
UID:25007-2da69939ed67427dc6bf3daba21059e9
X-WR-RELCALID:25007-2da69939ed67427dc6bf3daba21059e9
ORGANIZER:Volleyball
SEQUENCE:261121126
SUMMARY:KL 4 Fr.:  Rastatter TV2 - FT Forchheim
CLASS:PUBLIC
DTSTART:20140118T140000Z
DTSTAMP:20140330T154000Z
END:VEVENT
BEGIN:VEVENT
UID:25010-2da69939ed67427dc6bf3daba21059e9
X-WR-RELCALID:25010-2da69939ed67427dc6bf3daba21059e9
ORGANIZER:Volleyball
SEQUENCE:261121126
SUMMARY:KL 4 Fr.: VC Kuppenheim2 - FT Forchheim
CLASS:PUBLIC
DTSTART:20140202T100000Z
DTSTAMP:20140330T154000Z
END:VEVENT
BEGIN:VEVENT
UID:25015-2da69939ed67427dc6bf3daba21059e9
X-WR-RELCALID:25015-2da69939ed67427dc6bf3daba21059e9
ORGANIZER:Volleyball
SEQUENCE:261121126
SUMMARY:KL 4 Fr.: TG Ötigheim2 - FT Forchheim
CLASS:PUBLIC
DTSTART:20140209T100000Z
DTSTAMP:20140330T154000Z
END:VEVENT
BEGIN:VEVENT
UID:25020-2da69939ed67427dc6bf3daba21059e9
X-WR-RELCALID:25020-2da69939ed67427dc6bf3daba21059e9
ORGANIZER:Volleyball
SEQUENCE:261121126
SUMMARY:KL 4 Fr.: Post Südstadt Karlsruhe - FT Forchheim
CLASS:PUBLIC
DTSTART:20140316T100000Z
DTSTAMP:20140330T154000Z
END:VEVENT
BEGIN:VEVENT
UID:25028-2da69939ed67427dc6bf3daba21059e9
X-WR-RELCALID:25028-2da69939ed67427dc6bf3daba21059e9
ORGANIZER:Volleyball
SEQUENCE:261121126
SUMMARY:KL 4 Fr.: FT Forchheim - VC Königsbach
CLASS:PUBLIC
DTSTART:20140323T100000Z
DTSTAMP:20140330T154000Z
END:VEVENT
BEGIN:VEVENT
UID:25029-2da69939ed67427dc6bf3daba21059e9
X-WR-RELCALID:25029-2da69939ed67427dc6bf3daba21059e9
ORGANIZER:Volleyball
SEQUENCE:261121126
SUMMARY:KL 4 Fr.: FT Forchheim - VSG Kleinsteinbach3
CLASS:PUBLIC
DTSTART:20140323T100000Z
DTSTAMP:20140330T154000Z
END:VEVENT
BEGIN:VEVENT
UID:25032-2da69939ed67427dc6bf3daba21059e9
X-WR-RELCALID:25032-2da69939ed67427dc6bf3daba21059e9
ORGANIZER:Volleyball
SEQUENCE:261121126
SUMMARY:KL 4 Fr.: TV Bühl3 - FT Forchheim
CLASS:PUBLIC
DTSTART:20140330T090000Z
DTSTAMP:20140330T154000Z
END:VEVENT
END:VCALENDAR