BEGIN:VCALENDAR
VERSION:2.0
PRODID:VSD-Portal-www.volley.de
METHOD:PUBLISH
BEGIN:VEVENT
UID:381912-0b1cb5f82de24c98f11e829bddb1f0f9
X-WR-RELCALID:381912-0b1cb5f82de24c98f11e829bddb1f0f9
ORGANIZER:Volleyball
SEQUENCE:261091633
LOCATION:Mehrzweckhalle, Raiffeisenstraße, 86748 Marktoffingen
GEO:48.92843200000000000000;10.47175400000000000000
SUMMARY:BZL Fr.: FSV Marktoffingen II - FC Ebenhofen
CLASS:PUBLIC
DTSTART:20260314T123000Z
DTSTAMP:20260314T170500Z
END:VEVENT
END:VCALENDAR