BEGIN:VCALENDAR
VERSION:2.0
PRODID:VSD-Portal-www.volley.de
METHOD:PUBLISH
BEGIN:VEVENT
UID:72936-2da69939ed67427dc6bf3daba21059e9
X-WR-RELCALID:72936-2da69939ed67427dc6bf3daba21059e9
ORGANIZER:Volleyball
SEQUENCE:261120738
SUMMARY:BL West Fr.: Bad Doberaner SV I - SV Hafen Rostock
CLASS:PUBLIC
DTSTART:20041009T093000Z
DTSTAMP:20140607T181300Z
END:VEVENT
BEGIN:VEVENT
UID:72935-2da69939ed67427dc6bf3daba21059e9
X-WR-RELCALID:72935-2da69939ed67427dc6bf3daba21059e9
ORGANIZER:Volleyball
SEQUENCE:261120738
SUMMARY:BL West Fr.: SV Warnow 90 I - SV Hafen Rostock
CLASS:PUBLIC
DTSTART:20041009T114500Z
DTSTAMP:20140607T181300Z
END:VEVENT
BEGIN:VEVENT
UID:72933-2da69939ed67427dc6bf3daba21059e9
X-WR-RELCALID:72933-2da69939ed67427dc6bf3daba21059e9
ORGANIZER:Volleyball
SEQUENCE:261120738
SUMMARY:BL West Fr.: MSV Pampow II - SV Hafen Rostock
CLASS:PUBLIC
DTSTART:20041030T080000Z
DTSTAMP:20140607T181300Z
END:VEVENT
BEGIN:VEVENT
UID:72932-2da69939ed67427dc6bf3daba21059e9
X-WR-RELCALID:72932-2da69939ed67427dc6bf3daba21059e9
ORGANIZER:Volleyball
SEQUENCE:261120738
SUMMARY:BL West Fr.: SV Hafen Rostock - SV Hagenow I
CLASS:PUBLIC
DTSTART:20041030T093000Z
DTSTAMP:20140607T181300Z
END:VEVENT
BEGIN:VEVENT
UID:72920-2da69939ed67427dc6bf3daba21059e9
X-WR-RELCALID:72920-2da69939ed67427dc6bf3daba21059e9
ORGANIZER:Volleyball
SEQUENCE:261120738
SUMMARY:BL West Fr.: TSG Warin - SV Hafen Rostock
CLASS:PUBLIC
DTSTART:20041120T090000Z
DTSTAMP:20140607T181300Z
END:VEVENT
BEGIN:VEVENT
UID:72915-2da69939ed67427dc6bf3daba21059e9
X-WR-RELCALID:72915-2da69939ed67427dc6bf3daba21059e9
ORGANIZER:Volleyball
SEQUENCE:261120738
SUMMARY:BL West Fr.: SV Hafen Rostock - Schweriner SC II
CLASS:PUBLIC
DTSTART:20041211T090000Z
DTSTAMP:20140607T181300Z
END:VEVENT
BEGIN:VEVENT
UID:72913-2da69939ed67427dc6bf3daba21059e9
X-WR-RELCALID:72913-2da69939ed67427dc6bf3daba21059e9
ORGANIZER:Volleyball
SEQUENCE:261120738
SUMMARY:BL West Fr.: SV Hafen Rostock - SV Warnemünde II
CLASS:PUBLIC
DTSTART:20041211T120000Z
DTSTAMP:20140607T181300Z
END:VEVENT
BEGIN:VEVENT
UID:72911-2da69939ed67427dc6bf3daba21059e9
X-WR-RELCALID:72911-2da69939ed67427dc6bf3daba21059e9
ORGANIZER:Volleyball
SEQUENCE:261120738
SUMMARY:BL West Fr.: MSV Pampow II - SV Hafen Rostock
CLASS:PUBLIC
DTSTART:20050108T103000Z
DTSTAMP:20140607T181300Z
END:VEVENT
BEGIN:VEVENT
UID:72910-2da69939ed67427dc6bf3daba21059e9
X-WR-RELCALID:72910-2da69939ed67427dc6bf3daba21059e9
ORGANIZER:Volleyball
SEQUENCE:261120738
SUMMARY:BL West Fr.: SV Hagenow I - SV Hafen Rostock
CLASS:PUBLIC
DTSTART:20050108T120000Z
DTSTAMP:20140607T181300Z
END:VEVENT
BEGIN:VEVENT
UID:72905-2da69939ed67427dc6bf3daba21059e9
X-WR-RELCALID:72905-2da69939ed67427dc6bf3daba21059e9
ORGANIZER:Volleyball
SEQUENCE:261120738
SUMMARY:BL West Fr.: SV Hafen Rostock - SV Warnow 90 I
CLASS:PUBLIC
DTSTART:20050122T090500Z
DTSTAMP:20140607T181300Z
END:VEVENT
BEGIN:VEVENT
UID:72903-2da69939ed67427dc6bf3daba21059e9
X-WR-RELCALID:72903-2da69939ed67427dc6bf3daba21059e9
ORGANIZER:Volleyball
SEQUENCE:261120738
SUMMARY:BL West Fr.: SV Hafen Rostock - Bad Doberaner SV I
CLASS:PUBLIC
DTSTART:20050122T134500Z
DTSTAMP:20140607T181300Z
END:VEVENT
BEGIN:VEVENT
UID:72894-2da69939ed67427dc6bf3daba21059e9
X-WR-RELCALID:72894-2da69939ed67427dc6bf3daba21059e9
ORGANIZER:Volleyball
SEQUENCE:261120738
SUMMARY:BL West Fr.: SV Warnemünde II - SV Hafen Rostock
CLASS:PUBLIC
DTSTART:20050219T090000Z
DTSTAMP:20140607T181300Z
END:VEVENT
BEGIN:VEVENT
UID:72893-2da69939ed67427dc6bf3daba21059e9
X-WR-RELCALID:72893-2da69939ed67427dc6bf3daba21059e9
ORGANIZER:Volleyball
SEQUENCE:261120738
SUMMARY:BL West Fr.: SV Hafen Rostock - Schweriner SC II
CLASS:PUBLIC
DTSTART:20050219T103000Z
DTSTAMP:20140607T181300Z
END:VEVENT
BEGIN:VEVENT
UID:72942-2da69939ed67427dc6bf3daba21059e9
X-WR-RELCALID:72942-2da69939ed67427dc6bf3daba21059e9
ORGANIZER:Volleyball
SEQUENCE:261120738
SUMMARY:BL West Fr.: TSG Warin - SV Hafen Rostock
CLASS:PUBLIC
DTSTART:20050312T090000Z
DTSTAMP:20140607T181300Z
END:VEVENT
END:VCALENDAR