BEGIN:VCALENDAR
VERSION:2.0
PRODID:VSD-Portal-www.volley.de
METHOD:PUBLISH
BEGIN:VEVENT
UID:394107-0b1cb5f82de24c98f11e829bddb1f0f9
X-WR-RELCALID:394107-0b1cb5f82de24c98f11e829bddb1f0f9
ORGANIZER:Volleyball
SEQUENCE:261110925
SUMMARY:Ch Nord 2 Mi.: SV Gendorf Burgkirchen - SV Tüßling
CLASS:PUBLIC
DTSTART:20251027T180000Z
DTSTAMP:20251028T114900Z
END:VEVENT
BEGIN:VEVENT
UID:394109-0b1cb5f82de24c98f11e829bddb1f0f9
X-WR-RELCALID:394109-0b1cb5f82de24c98f11e829bddb1f0f9
ORGANIZER:Volleyball
SEQUENCE:261110925
SUMMARY:Ch Nord 2 Mi.: TV Altötting - SV Gendorf Burgkirchen
CLASS:PUBLIC
DTSTART:20251113T183000Z
DTSTAMP:20251125T140500Z
END:VEVENT
BEGIN:VEVENT
UID:394112-0b1cb5f82de24c98f11e829bddb1f0f9
X-WR-RELCALID:394112-0b1cb5f82de24c98f11e829bddb1f0f9
ORGANIZER:Volleyball
SEQUENCE:261110925
SUMMARY:Ch Nord 2 Mi.: SV Gendorf Burgkirchen - TSV 1861 Tittmoning
CLASS:PUBLIC
DTSTART:20251124T180000Z
DTSTAMP:20251125T140500Z
END:VEVENT
BEGIN:VEVENT
UID:394116-0b1cb5f82de24c98f11e829bddb1f0f9
X-WR-RELCALID:394116-0b1cb5f82de24c98f11e829bddb1f0f9
ORGANIZER:Volleyball
SEQUENCE:261110925
SUMMARY:Ch Nord 2 Mi.: SV Gendorf Burgkirchen - SV W.-Burghausen
CLASS:PUBLIC
DTSTART:20251208T180000Z
DTSTAMP:20251209T155700Z
END:VEVENT
BEGIN:VEVENT
UID:394120-0b1cb5f82de24c98f11e829bddb1f0f9
X-WR-RELCALID:394120-0b1cb5f82de24c98f11e829bddb1f0f9
ORGANIZER:Volleyball
SEQUENCE:261110925
SUMMARY:Ch Nord 2 Mi.: SG Alzvolleys - SV Gendorf Burgkirchen
CLASS:PUBLIC
DTSTART:20260111T170000Z
DTSTAMP:20260203T145900Z
END:VEVENT
BEGIN:VEVENT
UID:394123-0b1cb5f82de24c98f11e829bddb1f0f9
X-WR-RELCALID:394123-0b1cb5f82de24c98f11e829bddb1f0f9
ORGANIZER:Volleyball
SEQUENCE:261110925
SUMMARY:Ch Nord 2 Mi.: SV Tüßling - SV Gendorf Burgkirchen
CLASS:PUBLIC
DTSTART:20260126T183000Z
DTSTAMP:20260203T150000Z
END:VEVENT
BEGIN:VEVENT
UID:394125-0b1cb5f82de24c98f11e829bddb1f0f9
X-WR-RELCALID:394125-0b1cb5f82de24c98f11e829bddb1f0f9
ORGANIZER:Volleyball
SEQUENCE:261110925
SUMMARY:Ch Nord 2 Mi.: SV Gendorf Burgkirchen - TV Altötting
CLASS:PUBLIC
DTSTART:20260202T180000Z
DTSTAMP:20260203T145900Z
END:VEVENT
BEGIN:VEVENT
UID:394129-0b1cb5f82de24c98f11e829bddb1f0f9
X-WR-RELCALID:394129-0b1cb5f82de24c98f11e829bddb1f0f9
ORGANIZER:Volleyball
SEQUENCE:261110925
SUMMARY:Ch Nord 2 Mi.: TSV 1861 Tittmoning - SV Gendorf Burgkirchen
CLASS:PUBLIC
DTSTART:20260301T170000Z
DTSTAMP:20260317T131800Z
END:VEVENT
BEGIN:VEVENT
UID:394131-0b1cb5f82de24c98f11e829bddb1f0f9
X-WR-RELCALID:394131-0b1cb5f82de24c98f11e829bddb1f0f9
ORGANIZER:Volleyball
SEQUENCE:261110925
SUMMARY:Ch Nord 2 Mi.: SV W.-Burghausen - SV Gendorf Burgkirchen
CLASS:PUBLIC
DTSTART:20260306T190000Z
DTSTAMP:20260317T131900Z
END:VEVENT
BEGIN:VEVENT
UID:394133-0b1cb5f82de24c98f11e829bddb1f0f9
X-WR-RELCALID:394133-0b1cb5f82de24c98f11e829bddb1f0f9
ORGANIZER:Volleyball
SEQUENCE:261110925
SUMMARY:Ch Nord 2 Mi.: SV Gendorf Burgkirchen - SG Alzvolleys
CLASS:PUBLIC
DTSTART:20260316T180000Z
DTSTAMP:20260317T131800Z
END:VEVENT
END:VCALENDAR