BEGIN:VCALENDAR
VERSION:2.0
PRODID:VSD-Portal-www.volley.de
METHOD:PUBLISH
BEGIN:VEVENT
UID:397445-0b1cb5f82de24c98f11e829bddb1f0f9
X-WR-RELCALID:397445-0b1cb5f82de24c98f11e829bddb1f0f9
ORGANIZER:Volleyball
SEQUENCE:261110134
LOCATION:Gemeindehalle Eiselfing, Pfarrer-Mördel-Weg 3, 83549 Eiselfin
 g
GEO:48.04020480000000000000;12.24298470000000000000
SUMMARY:U12 KL2 CH w: TSV Eiselfing III - SV Forsting-Pfaffing
CLASS:PUBLIC
DTSTART:20251116T090000Z
DTSTAMP:20251116T093400Z
END:VEVENT
BEGIN:VEVENT
UID:397447-0b1cb5f82de24c98f11e829bddb1f0f9
X-WR-RELCALID:397447-0b1cb5f82de24c98f11e829bddb1f0f9
ORGANIZER:Volleyball
SEQUENCE:261110134
LOCATION:Gemeindehalle Eiselfing, Pfarrer-Mördel-Weg 3, 83549 Eiselfin
 g
GEO:48.04020480000000000000;12.24298470000000000000
SUMMARY:U12 KL2 CH w: SV Forsting-Pfaffing - FC Kirchweidach
CLASS:PUBLIC
DTSTART:20251116T100000Z
DTSTAMP:20251116T102900Z
END:VEVENT
BEGIN:VEVENT
UID:397451-0b1cb5f82de24c98f11e829bddb1f0f9
X-WR-RELCALID:397451-0b1cb5f82de24c98f11e829bddb1f0f9
ORGANIZER:Volleyball
SEQUENCE:261110134
LOCATION:Sporthalle, Schulstraße, 84558 Kirchweidach
GEO:48.08788101307478000000;12.64368537301629700000
SUMMARY:U12 KL2 CH w: SV Forsting-Pfaffing - TSV Winhöring II
CLASS:PUBLIC
DTSTART:20251207T090000Z
DTSTAMP:20251207T093100Z
END:VEVENT
BEGIN:VEVENT
UID:397460-0b1cb5f82de24c98f11e829bddb1f0f9
X-WR-RELCALID:397460-0b1cb5f82de24c98f11e829bddb1f0f9
ORGANIZER:Volleyball
SEQUENCE:261110134
LOCATION:Sporthalle, Schulstraße, 84558 Kirchweidach
GEO:48.08788101307478000000;12.64368537301629700000
SUMMARY:U12 KL2 CH w: SV Forsting-Pfaffing - TSV Eiselfing II
CLASS:PUBLIC
DTSTART:20251207T110000Z
DTSTAMP:20251207T112200Z
END:VEVENT
BEGIN:VEVENT
UID:397455-0b1cb5f82de24c98f11e829bddb1f0f9
X-WR-RELCALID:397455-0b1cb5f82de24c98f11e829bddb1f0f9
ORGANIZER:Volleyball
SEQUENCE:261110134
LOCATION:Sporthalle, Schulstraße, 84558 Kirchweidach
GEO:48.08788101307478000000;12.64368537301629700000
SUMMARY:U12 KL2 CH w: SV Forsting-Pfaffing - TSV Winhöring III
CLASS:PUBLIC
DTSTART:20251207T120000Z
DTSTAMP:20251207T120400Z
END:VEVENT
BEGIN:VEVENT
UID:397464-0b1cb5f82de24c98f11e829bddb1f0f9
X-WR-RELCALID:397464-0b1cb5f82de24c98f11e829bddb1f0f9
ORGANIZER:Volleyball
SEQUENCE:261110134
LOCATION:Schulturnhalle, Schulstraße 7, 83539 Pfaffing
GEO:48.05785800000000000000;12.11237050000000000000
SUMMARY:U12 KL2 CH w: SV Forsting-Pfaffing - TSV Winhöring
CLASS:PUBLIC
DTSTART:20260118T095900Z
DTSTAMP:20260118T104400Z
END:VEVENT
END:VCALENDAR