BEGIN:VCALENDAR
VERSION:2.0
PRODID:VSD-Portal-www.volley.de
METHOD:PUBLISH
BEGIN:VEVENT
UID:88307-2da69939ed67427dc6bf3daba21059e9
X-WR-RELCALID:88307-2da69939ed67427dc6bf3daba21059e9
ORGANIZER:Volleyball
SEQUENCE:261101357
SUMMARY:B1 Mä.: BSG Immenstaad - SV Unlingen 3
CLASS:PUBLIC
DTSTART;VALUE=DATE:20041002
DTSTAMP:20140607T181300Z
DTEND;VALUE=DATE:20041003
END:VEVENT
BEGIN:VEVENT
UID:88301-2da69939ed67427dc6bf3daba21059e9
X-WR-RELCALID:88301-2da69939ed67427dc6bf3daba21059e9
ORGANIZER:Volleyball
SEQUENCE:261101357
SUMMARY:B1 Mä.: TV Langenargen - SV Unlingen 3
CLASS:PUBLIC
DTSTART;VALUE=DATE:20041017
DTSTAMP:20140607T181300Z
DTEND;VALUE=DATE:20041018
END:VEVENT
BEGIN:VEVENT
UID:88298-2da69939ed67427dc6bf3daba21059e9
X-WR-RELCALID:88298-2da69939ed67427dc6bf3daba21059e9
ORGANIZER:Volleyball
SEQUENCE:261101357
SUMMARY:B1 Mä.: SV Unlingen 3 - TSV Langenau
CLASS:PUBLIC
DTSTART;VALUE=DATE:20041031
DTSTAMP:20140607T181300Z
DTEND;VALUE=DATE:20041101
END:VEVENT
BEGIN:VEVENT
UID:88293-2da69939ed67427dc6bf3daba21059e9
X-WR-RELCALID:88293-2da69939ed67427dc6bf3daba21059e9
ORGANIZER:Volleyball
SEQUENCE:261101357
SUMMARY:B1 Mä.: SV Unlingen 3 - SSV Wilhelmsdorf
CLASS:PUBLIC
DTSTART;VALUE=DATE:20041204
DTSTAMP:20140607T181300Z
DTEND;VALUE=DATE:20041205
END:VEVENT
BEGIN:VEVENT
UID:88294-2da69939ed67427dc6bf3daba21059e9
X-WR-RELCALID:88294-2da69939ed67427dc6bf3daba21059e9
ORGANIZER:Volleyball
SEQUENCE:261101357
SUMMARY:B1 Mä.: SV Unlingen 3 - TSV Bad Saulgau 3
CLASS:PUBLIC
DTSTART;VALUE=DATE:20041204
DTSTAMP:20140607T181300Z
DTEND;VALUE=DATE:20041205
END:VEVENT
BEGIN:VEVENT
UID:88290-2da69939ed67427dc6bf3daba21059e9
X-WR-RELCALID:88290-2da69939ed67427dc6bf3daba21059e9
ORGANIZER:Volleyball
SEQUENCE:261101357
SUMMARY:B1 Mä.: TSV Langenau - SV Unlingen 3
CLASS:PUBLIC
DTSTART;VALUE=DATE:20050218
DTSTAMP:20140607T181300Z
DTEND;VALUE=DATE:20050219
END:VEVENT
BEGIN:VEVENT
UID:88286-2da69939ed67427dc6bf3daba21059e9
X-WR-RELCALID:88286-2da69939ed67427dc6bf3daba21059e9
ORGANIZER:Volleyball
SEQUENCE:261101357
SUMMARY:B1 Mä.: SSV Wilhelmsdorf - SV Unlingen 3
CLASS:PUBLIC
DTSTART;VALUE=DATE:20050228
DTSTAMP:20140607T181300Z
DTEND;VALUE=DATE:20050301
END:VEVENT
BEGIN:VEVENT
UID:88282-2da69939ed67427dc6bf3daba21059e9
X-WR-RELCALID:88282-2da69939ed67427dc6bf3daba21059e9
ORGANIZER:Volleyball
SEQUENCE:261101357
SUMMARY:B1 Mä.: TSV Bad Saulgau 3 - SV Unlingen 3
CLASS:PUBLIC
DTSTART;VALUE=DATE:20050304
DTSTAMP:20140607T181300Z
DTEND;VALUE=DATE:20050305
END:VEVENT
BEGIN:VEVENT
UID:88278-2da69939ed67427dc6bf3daba21059e9
X-WR-RELCALID:88278-2da69939ed67427dc6bf3daba21059e9
ORGANIZER:Volleyball
SEQUENCE:261101357
SUMMARY:B1 Mä.: SV Unlingen 3 - TV Langenargen
CLASS:PUBLIC
DTSTART;VALUE=DATE:20050305
DTSTAMP:20140607T181300Z
DTEND;VALUE=DATE:20050306
END:VEVENT
BEGIN:VEVENT
UID:88281-2da69939ed67427dc6bf3daba21059e9
X-WR-RELCALID:88281-2da69939ed67427dc6bf3daba21059e9
ORGANIZER:Volleyball
SEQUENCE:261101357
SUMMARY:B1 Mä.: SV Unlingen 3 - BSG Immenstaad
CLASS:PUBLIC
DTSTART;VALUE=DATE:20050305
DTSTAMP:20140607T181300Z
DTEND;VALUE=DATE:20050306
END:VEVENT
END:VCALENDAR