BEGIN:VCALENDAR
VERSION:2.0
PRODID:VSD-Portal-www.volley.de
METHOD:PUBLISH
BEGIN:VEVENT
UID:114137-0b1cb5f82de24c98f11e829bddb1f0f9
X-WR-RELCALID:114137-0b1cb5f82de24c98f11e829bddb1f0f9
ORGANIZER:Volleyball
SEQUENCE:261141046
SUMMARY:KL O Fr.: TUS Mitterteich - TSV Konnersreuth
CLASS:PUBLIC
DTSTART:20141011T120000Z
DTSTAMP:20141011T151400Z
END:VEVENT
BEGIN:VEVENT
UID:114140-0b1cb5f82de24c98f11e829bddb1f0f9
X-WR-RELCALID:114140-0b1cb5f82de24c98f11e829bddb1f0f9
ORGANIZER:Volleyball
SEQUENCE:261141046
SUMMARY:KL O Fr.: TSV Hof Vipers II - TSV Konnersreuth
CLASS:PUBLIC
DTSTART:20141108T130000Z
DTSTAMP:20141108T164500Z
END:VEVENT
BEGIN:VEVENT
UID:114142-0b1cb5f82de24c98f11e829bddb1f0f9
X-WR-RELCALID:114142-0b1cb5f82de24c98f11e829bddb1f0f9
ORGANIZER:Volleyball
SEQUENCE:261141046
SUMMARY:KL O Fr.: TSV Konnersreuth - ATSV Oberkotzau II
CLASS:PUBLIC
DTSTART:20141108T130000Z
DTSTAMP:20141108T164600Z
END:VEVENT
BEGIN:VEVENT
UID:114149-0b1cb5f82de24c98f11e829bddb1f0f9
X-WR-RELCALID:114149-0b1cb5f82de24c98f11e829bddb1f0f9
ORGANIZER:Volleyball
SEQUENCE:261141046
SUMMARY:KL O Fr.: TSV Konnersreuth - VG Hof III
CLASS:PUBLIC
DTSTART:20141122T130000Z
DTSTAMP:20141122T171700Z
END:VEVENT
BEGIN:VEVENT
UID:114150-0b1cb5f82de24c98f11e829bddb1f0f9
X-WR-RELCALID:114150-0b1cb5f82de24c98f11e829bddb1f0f9
ORGANIZER:Volleyball
SEQUENCE:261141046
SUMMARY:KL O Fr.: TSV Konnersreuth - ATSV Oberkotzau II
CLASS:PUBLIC
DTSTART:20141122T130000Z
DTSTAMP:20141122T171700Z
END:VEVENT
BEGIN:VEVENT
UID:114155-0b1cb5f82de24c98f11e829bddb1f0f9
X-WR-RELCALID:114155-0b1cb5f82de24c98f11e829bddb1f0f9
ORGANIZER:Volleyball
SEQUENCE:261141046
SUMMARY:KL O Fr.: VGF Marktredwitz III - TSV Konnersreuth
CLASS:PUBLIC
DTSTART:20141213T130000Z
DTSTAMP:20141213T195900Z
END:VEVENT
BEGIN:VEVENT
UID:114157-0b1cb5f82de24c98f11e829bddb1f0f9
X-WR-RELCALID:114157-0b1cb5f82de24c98f11e829bddb1f0f9
ORGANIZER:Volleyball
SEQUENCE:261141046
SUMMARY:KL O Fr.: TSV Konnersreuth - TSV Hof Vipers II
CLASS:PUBLIC
DTSTART:20141213T130000Z
DTSTAMP:20141213T200000Z
END:VEVENT
BEGIN:VEVENT
UID:114161-0b1cb5f82de24c98f11e829bddb1f0f9
X-WR-RELCALID:114161-0b1cb5f82de24c98f11e829bddb1f0f9
ORGANIZER:Volleyball
SEQUENCE:261141046
SUMMARY:KL O Fr.: TSV Konnersreuth - VGF Marktredwitz III
CLASS:PUBLIC
DTSTART:20150117T130000Z
DTSTAMP:20150117T180800Z
END:VEVENT
BEGIN:VEVENT
UID:114162-0b1cb5f82de24c98f11e829bddb1f0f9
X-WR-RELCALID:114162-0b1cb5f82de24c98f11e829bddb1f0f9
ORGANIZER:Volleyball
SEQUENCE:261141046
SUMMARY:KL O Fr.: TSV Konnersreuth - VG Hof III
CLASS:PUBLIC
DTSTART:20150117T130000Z
DTSTAMP:20150117T180900Z
END:VEVENT
BEGIN:VEVENT
UID:114165-0b1cb5f82de24c98f11e829bddb1f0f9
X-WR-RELCALID:114165-0b1cb5f82de24c98f11e829bddb1f0f9
ORGANIZER:Volleyball
SEQUENCE:261141046
SUMMARY:KL O Fr.: TSV Konnersreuth - TUS Mitterteich
CLASS:PUBLIC
DTSTART:20150131T130000Z
DTSTAMP:20150131T205500Z
END:VEVENT
END:VCALENDAR