BEGIN:VCALENDAR
VERSION:2.0
PRODID:VSD-Portal-www.volley.de
METHOD:PUBLISH
BEGIN:VEVENT
UID:269641-2da69939ed67427dc6bf3daba21059e9
X-WR-RELCALID:269641-2da69939ed67427dc6bf3daba21059e9
ORGANIZER:Volleyball
SEQUENCE:261101025
SUMMARY:RL N Mä.: Lübecker TS - VG Elmshorn
CLASS:PUBLIC
DTSTART:20131005T130000Z
DTSTAMP:20140607T184800Z
END:VEVENT
END:VCALENDAR