BEGIN:VCALENDAR
VERSION:2.0
PRODID:VSD-Portal-www.volley.de
METHOD:PUBLISH
BEGIN:VEVENT
UID:269573-2da69939ed67427dc6bf3daba21059e9
X-WR-RELCALID:269573-2da69939ed67427dc6bf3daba21059e9
ORGANIZER:Volleyball
SEQUENCE:261121815
SUMMARY:RL N Mä.: HSV Neubrandenburg - KMTV Eagles
CLASS:PUBLIC
DTSTART:20130921T160000Z
DTSTAMP:20140607T184800Z
END:VEVENT
BEGIN:VEVENT
UID:269640-2da69939ed67427dc6bf3daba21059e9
X-WR-RELCALID:269640-2da69939ed67427dc6bf3daba21059e9
ORGANIZER:Volleyball
SEQUENCE:261121815
SUMMARY:RL N Mä.: Kieler TV - HSV Neubrandenburg
CLASS:PUBLIC
DTSTART:20130928T160000Z
DTSTAMP:20140607T184800Z
END:VEVENT
BEGIN:VEVENT
UID:269632-2da69939ed67427dc6bf3daba21059e9
X-WR-RELCALID:269632-2da69939ed67427dc6bf3daba21059e9
ORGANIZER:Volleyball
SEQUENCE:261121815
SUMMARY:RL N Mä.: HSV Neubrandenburg - PSV Eutin
CLASS:PUBLIC
DTSTART:20130929T130000Z
DTSTAMP:20140607T184800Z
END:VEVENT
BEGIN:VEVENT
UID:269526-2da69939ed67427dc6bf3daba21059e9
X-WR-RELCALID:269526-2da69939ed67427dc6bf3daba21059e9
ORGANIZER:Volleyball
SEQUENCE:261121815
SUMMARY:RL N Mä.: HSG Uni Rostock - HSV Neubrandenburg
CLASS:PUBLIC
DTSTART:20131019T160000Z
DTSTAMP:20140607T184800Z
END:VEVENT
BEGIN:VEVENT
UID:269527-2da69939ed67427dc6bf3daba21059e9
X-WR-RELCALID:269527-2da69939ed67427dc6bf3daba21059e9
ORGANIZER:Volleyball
SEQUENCE:261121815
SUMMARY:RL N Mä.: HSV Neubrandenburg - 1. VC Norderstedt
CLASS:PUBLIC
DTSTART:20131102T170000Z
DTSTAMP:20140607T184800Z
END:VEVENT
BEGIN:VEVENT
UID:269604-2da69939ed67427dc6bf3daba21059e9
X-WR-RELCALID:269604-2da69939ed67427dc6bf3daba21059e9
ORGANIZER:Volleyball
SEQUENCE:261121815
SUMMARY:RL N Mä.: Eimsbütteler TV - HSV Neubrandenburg
CLASS:PUBLIC
DTSTART:20131109T180000Z
DTSTAMP:20140607T184800Z
END:VEVENT
BEGIN:VEVENT
UID:269570-2da69939ed67427dc6bf3daba21059e9
X-WR-RELCALID:269570-2da69939ed67427dc6bf3daba21059e9
ORGANIZER:Volleyball
SEQUENCE:261121815
SUMMARY:RL N Mä.: HSV Neubrandenburg - Lübecker TS
CLASS:PUBLIC
DTSTART:20131116T170000Z
DTSTAMP:20140607T184800Z
END:VEVENT
BEGIN:VEVENT
UID:269650-2da69939ed67427dc6bf3daba21059e9
X-WR-RELCALID:269650-2da69939ed67427dc6bf3daba21059e9
ORGANIZER:Volleyball
SEQUENCE:261121815
SUMMARY:RL N Mä.: Niendorfer TSV - HSV Neubrandenburg
CLASS:PUBLIC
DTSTART:20131123T190000Z
DTSTAMP:20140607T184800Z
END:VEVENT
BEGIN:VEVENT
UID:269644-2da69939ed67427dc6bf3daba21059e9
X-WR-RELCALID:269644-2da69939ed67427dc6bf3daba21059e9
ORGANIZER:Volleyball
SEQUENCE:261121815
SUMMARY:RL N Mä.: HSV Neubrandenburg - VCO Hamburg
CLASS:PUBLIC
DTSTART:20131130T170000Z
DTSTAMP:20140607T184800Z
END:VEVENT
BEGIN:VEVENT
UID:269574-2da69939ed67427dc6bf3daba21059e9
X-WR-RELCALID:269574-2da69939ed67427dc6bf3daba21059e9
ORGANIZER:Volleyball
SEQUENCE:261121815
SUMMARY:RL N Mä.: HSV Neubrandenburg - VG Elmshorn
CLASS:PUBLIC
DTSTART:20131207T170000Z
DTSTAMP:20140607T184800Z
END:VEVENT
BEGIN:VEVENT
UID:269626-2da69939ed67427dc6bf3daba21059e9
X-WR-RELCALID:269626-2da69939ed67427dc6bf3daba21059e9
ORGANIZER:Volleyball
SEQUENCE:261121815
SUMMARY:RL N Mä.: PSV Neustrelitz Team Wesenberg - HSV Neubrandenburg
CLASS:PUBLIC
DTSTART:20131214T170000Z
DTSTAMP:20140607T184800Z
END:VEVENT
BEGIN:VEVENT
UID:269635-2da69939ed67427dc6bf3daba21059e9
X-WR-RELCALID:269635-2da69939ed67427dc6bf3daba21059e9
ORGANIZER:Volleyball
SEQUENCE:261121815
SUMMARY:RL N Mä.: PSV Eutin - HSV Neubrandenburg
CLASS:PUBLIC
DTSTART:20140111T140000Z
DTSTAMP:20140607T184800Z
END:VEVENT
BEGIN:VEVENT
UID:269541-2da69939ed67427dc6bf3daba21059e9
X-WR-RELCALID:269541-2da69939ed67427dc6bf3daba21059e9
ORGANIZER:Volleyball
SEQUENCE:261121815
SUMMARY:RL N Mä.: HSV Neubrandenburg - HSG Uni Rostock
CLASS:PUBLIC
DTSTART:20140118T170000Z
DTSTAMP:20140607T184800Z
END:VEVENT
BEGIN:VEVENT
UID:269586-2da69939ed67427dc6bf3daba21059e9
X-WR-RELCALID:269586-2da69939ed67427dc6bf3daba21059e9
ORGANIZER:Volleyball
SEQUENCE:261121815
SUMMARY:RL N Mä.: 1. VC Norderstedt - HSV Neubrandenburg
CLASS:PUBLIC
DTSTART:20140125T150000Z
DTSTAMP:20140607T184800Z
END:VEVENT
BEGIN:VEVENT
UID:269606-2da69939ed67427dc6bf3daba21059e9
X-WR-RELCALID:269606-2da69939ed67427dc6bf3daba21059e9
ORGANIZER:Volleyball
SEQUENCE:261121815
SUMMARY:RL N Mä.: HSV Neubrandenburg - Eimsbütteler TV
CLASS:PUBLIC
DTSTART:20140201T170000Z
DTSTAMP:20140607T184800Z
END:VEVENT
BEGIN:VEVENT
UID:269602-2da69939ed67427dc6bf3daba21059e9
X-WR-RELCALID:269602-2da69939ed67427dc6bf3daba21059e9
ORGANIZER:Volleyball
SEQUENCE:261121815
SUMMARY:RL N Mä.: Lübecker TS - HSV Neubrandenburg
CLASS:PUBLIC
DTSTART:20140208T140000Z
DTSTAMP:20140607T184800Z
END:VEVENT
BEGIN:VEVENT
UID:269596-2da69939ed67427dc6bf3daba21059e9
X-WR-RELCALID:269596-2da69939ed67427dc6bf3daba21059e9
ORGANIZER:Volleyball
SEQUENCE:261121815
SUMMARY:RL N Mä.: HSV Neubrandenburg - Niendorfer TSV
CLASS:PUBLIC
DTSTART:20140222T170000Z
DTSTAMP:20140607T184800Z
END:VEVENT
BEGIN:VEVENT
UID:269578-2da69939ed67427dc6bf3daba21059e9
X-WR-RELCALID:269578-2da69939ed67427dc6bf3daba21059e9
ORGANIZER:Volleyball
SEQUENCE:261121815
SUMMARY:RL N Mä.: VG Elmshorn - HSV Neubrandenburg
CLASS:PUBLIC
DTSTART:20140315T140000Z
DTSTAMP:20140607T184800Z
END:VEVENT
BEGIN:VEVENT
UID:269566-2da69939ed67427dc6bf3daba21059e9
X-WR-RELCALID:269566-2da69939ed67427dc6bf3daba21059e9
ORGANIZER:Volleyball
SEQUENCE:261121815
SUMMARY:RL N Mä.: VCO Hamburg - HSV Neubrandenburg
CLASS:PUBLIC
DTSTART:20140316T140000Z
DTSTAMP:20140607T184800Z
END:VEVENT
BEGIN:VEVENT
UID:269564-2da69939ed67427dc6bf3daba21059e9
X-WR-RELCALID:269564-2da69939ed67427dc6bf3daba21059e9
ORGANIZER:Volleyball
SEQUENCE:261121815
SUMMARY:RL N Mä.: HSV Neubrandenburg - PSV Neustrelitz Team Wesenberg
CLASS:PUBLIC
DTSTART:20140322T170000Z
DTSTAMP:20140607T184800Z
END:VEVENT
BEGIN:VEVENT
UID:269553-2da69939ed67427dc6bf3daba21059e9
X-WR-RELCALID:269553-2da69939ed67427dc6bf3daba21059e9
ORGANIZER:Volleyball
SEQUENCE:261121815
SUMMARY:RL N Mä.: KMTV Eagles - HSV Neubrandenburg
CLASS:PUBLIC
DTSTART:20140406T130000Z
DTSTAMP:20140607T184800Z
END:VEVENT
BEGIN:VEVENT
UID:269550-2da69939ed67427dc6bf3daba21059e9
X-WR-RELCALID:269550-2da69939ed67427dc6bf3daba21059e9
ORGANIZER:Volleyball
SEQUENCE:261121815
SUMMARY:RL N Mä.: HSV Neubrandenburg - Kieler TV
CLASS:PUBLIC
DTSTART:20140412T160000Z
DTSTAMP:20140607T184800Z
END:VEVENT
END:VCALENDAR