BEGIN:VCALENDAR
VERSION:2.0
PRODID:VSD-Portal-www.volley.de
METHOD:PUBLISH
BEGIN:VEVENT
UID:125001-0b1cb5f82de24c98f11e829bddb1f0f9
X-WR-RELCALID:125001-0b1cb5f82de24c98f11e829bddb1f0f9
ORGANIZER:Volleyball
SEQUENCE:261141242
LOCATION:Rothenberghalle, Rothenbergstr. 5, 86316 Friedberg
GEO:48.36057505303723000000;10.98914903173829300000
SUMMARY:SBM Fr.: TSV Friedberg - SV Lohhof
CLASS:PUBLIC
DTSTART;VALUE=DATE:20150222
DTSTAMP:20150222T165600Z
DTEND;VALUE=DATE:20150223
END:VEVENT
END:VCALENDAR