BEGIN:VCALENDAR
VERSION:2.0
PRODID:VSD-Portal-www.volley.de
METHOD:PUBLISH
BEGIN:VEVENT
UID:297803-2da69939ed67427dc6bf3daba21059e9
X-WR-RELCALID:297803-2da69939ed67427dc6bf3daba21059e9
ORGANIZER:Volleyball
SEQUENCE:261132144
LOCATION:Gymnasium Hummelsbüttel, Hummelsbütteler Hauptstr. 107, 22339
  Hamburg
GEO:53.64719000000000000000;10.03999000000000000000
SUMMARY:RLN Fr.: Hummelsbütteler SV - SV Warnemünde
CLASS:PUBLIC
DTSTART:20141018T140000Z
DTSTAMP:20150422T161500Z
END:VEVENT
BEGIN:VEVENT
UID:297806-2da69939ed67427dc6bf3daba21059e9
X-WR-RELCALID:297806-2da69939ed67427dc6bf3daba21059e9
ORGANIZER:Volleyball
SEQUENCE:261132144
LOCATION:Gymnasium Hummelsbüttel, Hummelsbütteler Hauptstr. 107, 22339
  Hamburg
GEO:53.64719000000000000000;10.03999000000000000000
SUMMARY:RLN Fr.: Hummelsbütteler SV - SC Alstertal-Langenhorn
CLASS:PUBLIC
DTSTART:20141025T140000Z
DTSTAMP:20150422T161500Z
END:VEVENT
BEGIN:VEVENT
UID:297813-2da69939ed67427dc6bf3daba21059e9
X-WR-RELCALID:297813-2da69939ed67427dc6bf3daba21059e9
ORGANIZER:Volleyball
SEQUENCE:261132144
LOCATION:Gymnasium Hummelsbüttel, Hummelsbütteler Hauptstr. 107, 22339
  Hamburg
GEO:53.64719000000000000000;10.03999000000000000000
SUMMARY:RLN Fr.: Hummelsbütteler SV - JSV Grimmen
CLASS:PUBLIC
DTSTART:20141108T150000Z
DTSTAMP:20150422T161500Z
END:VEVENT
BEGIN:VEVENT
UID:297821-2da69939ed67427dc6bf3daba21059e9
X-WR-RELCALID:297821-2da69939ed67427dc6bf3daba21059e9
ORGANIZER:Volleyball
SEQUENCE:261132144
LOCATION:Gymnasium Hummelsbüttel, Hummelsbütteler Hauptstr. 107, 22339
  Hamburg
GEO:53.64719000000000000000;10.03999000000000000000
SUMMARY:RLN Fr.: Hummelsbütteler SV - VG WiWa Hamburg 2
CLASS:PUBLIC
DTSTART:20141122T150000Z
DTSTAMP:20150422T161500Z
END:VEVENT
BEGIN:VEVENT
UID:297837-2da69939ed67427dc6bf3daba21059e9
X-WR-RELCALID:297837-2da69939ed67427dc6bf3daba21059e9
ORGANIZER:Volleyball
SEQUENCE:261132144
LOCATION:Gymnasium Hummelsbüttel, Hummelsbütteler Hauptstr. 107, 22339
  Hamburg
GEO:53.64719000000000000000;10.03999000000000000000
SUMMARY:RLN Fr.: Hummelsbütteler SV - Kieler TV 2
CLASS:PUBLIC
DTSTART:20141213T150000Z
DTSTAMP:20150422T161500Z
END:VEVENT
BEGIN:VEVENT
UID:297843-2da69939ed67427dc6bf3daba21059e9
X-WR-RELCALID:297843-2da69939ed67427dc6bf3daba21059e9
ORGANIZER:Volleyball
SEQUENCE:261132144
LOCATION:Gymnasium Hummelsbüttel, Hummelsbütteler Hauptstr. 107, 22339
  Hamburg
GEO:53.64719000000000000000;10.03999000000000000000
SUMMARY:RLN Fr.: Hummelsbütteler SV - Oststeinbeker SV
CLASS:PUBLIC
DTSTART:20150110T150000Z
DTSTAMP:20150422T161500Z
END:VEVENT
BEGIN:VEVENT
UID:297853-2da69939ed67427dc6bf3daba21059e9
X-WR-RELCALID:297853-2da69939ed67427dc6bf3daba21059e9
ORGANIZER:Volleyball
SEQUENCE:261132144
LOCATION:Gymnasium Hummelsbüttel, Hummelsbütteler Hauptstr. 107, 22339
  Hamburg
GEO:53.64719000000000000000;10.03999000000000000000
SUMMARY:RLN Fr.: Hummelsbütteler SV - PSV Neustrelitz
CLASS:PUBLIC
DTSTART:20150124T150000Z
DTSTAMP:20150422T161500Z
END:VEVENT
BEGIN:VEVENT
UID:297860-2da69939ed67427dc6bf3daba21059e9
X-WR-RELCALID:297860-2da69939ed67427dc6bf3daba21059e9
ORGANIZER:Volleyball
SEQUENCE:261132144
LOCATION:Gymnasium Hummelsbüttel, Hummelsbütteler Hauptstr. 107, 22339
  Hamburg
GEO:53.64719000000000000000;10.03999000000000000000
SUMMARY:RLN Fr.: Hummelsbütteler SV - Schweriner SC 3
CLASS:PUBLIC
DTSTART:20150207T150000Z
DTSTAMP:20150422T161500Z
END:VEVENT
BEGIN:VEVENT
UID:297872-2da69939ed67427dc6bf3daba21059e9
X-WR-RELCALID:297872-2da69939ed67427dc6bf3daba21059e9
ORGANIZER:Volleyball
SEQUENCE:261132144
LOCATION:Gymnasium Hummelsbüttel, Hummelsbütteler Hauptstr. 107, 22339
  Hamburg
GEO:53.64719000000000000000;10.03999000000000000000
SUMMARY:RLN Fr.: Hummelsbütteler SV - SpVg Eidertal Molfsee
CLASS:PUBLIC
DTSTART:20150307T140000Z
DTSTAMP:20150422T161500Z
END:VEVENT
BEGIN:VEVENT
UID:297884-2da69939ed67427dc6bf3daba21059e9
X-WR-RELCALID:297884-2da69939ed67427dc6bf3daba21059e9
ORGANIZER:Volleyball
SEQUENCE:261132144
LOCATION:Gymnasium Hummelsbüttel, Hummelsbütteler Hauptstr. 107, 22339
  Hamburg
GEO:53.64719000000000000000;10.03999000000000000000
SUMMARY:RLN Fr.: Hummelsbütteler SV - 1. VC Parchim
CLASS:PUBLIC
DTSTART:20150321T150000Z
DTSTAMP:20150422T161500Z
END:VEVENT
END:VCALENDAR