BEGIN:VCALENDAR
VERSION:2.0
PRODID:VSD-Portal-www.volley.de
METHOD:PUBLISH
BEGIN:VEVENT
UID:299699-2da69939ed67427dc6bf3daba21059e9
X-WR-RELCALID:299699-2da69939ed67427dc6bf3daba21059e9
ORGANIZER:Volleyball
SEQUENCE:261141055
LOCATION:HRS Salzbergen, Bruchweg, 48499 Salzbergen
GEO:52.31428510000000000000;7.34697140000000000000
SUMMARY:LL 2 Fr.: SV Alemannia Salzbergen - SV Olympia Uelsen II
CLASS:PUBLIC
DTSTART:20141018T130000Z
DTSTAMP:20150331T141500Z
END:VEVENT
BEGIN:VEVENT
UID:299700-2da69939ed67427dc6bf3daba21059e9
X-WR-RELCALID:299700-2da69939ed67427dc6bf3daba21059e9
ORGANIZER:Volleyball
SEQUENCE:261141055
LOCATION:HRS Salzbergen, Bruchweg, 48499 Salzbergen
GEO:52.31428510000000000000;7.34697140000000000000
SUMMARY:LL 2 Fr.: SV Alemannia Salzbergen - FC 47 Leschede II
CLASS:PUBLIC
DTSTART:20141018T130000Z
DTSTAMP:20150331T141500Z
END:VEVENT
BEGIN:VEVENT
UID:299727-2da69939ed67427dc6bf3daba21059e9
X-WR-RELCALID:299727-2da69939ed67427dc6bf3daba21059e9
ORGANIZER:Volleyball
SEQUENCE:261141055
LOCATION:HRS Salzbergen, Bruchweg, 48499 Salzbergen
GEO:52.31428510000000000000;7.34697140000000000000
SUMMARY:LL 2 Fr.: SV Alemannia Salzbergen - SC Union Emlichheim IV
CLASS:PUBLIC
DTSTART:20141206T140000Z
DTSTAMP:20150331T141500Z
END:VEVENT
BEGIN:VEVENT
UID:299728-2da69939ed67427dc6bf3daba21059e9
X-WR-RELCALID:299728-2da69939ed67427dc6bf3daba21059e9
ORGANIZER:Volleyball
SEQUENCE:261141055
LOCATION:HRS Salzbergen, Bruchweg, 48499 Salzbergen
GEO:52.31428510000000000000;7.34697140000000000000
SUMMARY:LL 2 Fr.: SV Alemannia Salzbergen - SV Union Lohne III
CLASS:PUBLIC
DTSTART:20141206T140000Z
DTSTAMP:20150331T141500Z
END:VEVENT
BEGIN:VEVENT
UID:299749-2da69939ed67427dc6bf3daba21059e9
X-WR-RELCALID:299749-2da69939ed67427dc6bf3daba21059e9
ORGANIZER:Volleyball
SEQUENCE:261141055
LOCATION:HRS Salzbergen, Bruchweg, 48499 Salzbergen
GEO:52.31428510000000000000;7.34697140000000000000
SUMMARY:LL 2 Fr.: SV Alemannia Salzbergen - TV Meppen
CLASS:PUBLIC
DTSTART:20150207T140000Z
DTSTAMP:20150331T141500Z
END:VEVENT
BEGIN:VEVENT
UID:299750-2da69939ed67427dc6bf3daba21059e9
X-WR-RELCALID:299750-2da69939ed67427dc6bf3daba21059e9
ORGANIZER:Volleyball
SEQUENCE:261141055
LOCATION:HRS Salzbergen, Bruchweg, 48499 Salzbergen
GEO:52.31428510000000000000;7.34697140000000000000
SUMMARY:LL 2 Fr.: SV Alemannia Salzbergen - SV Union Lohne II
CLASS:PUBLIC
DTSTART:20150207T140000Z
DTSTAMP:20150331T141500Z
END:VEVENT
BEGIN:VEVENT
UID:299759-2da69939ed67427dc6bf3daba21059e9
X-WR-RELCALID:299759-2da69939ed67427dc6bf3daba21059e9
ORGANIZER:Volleyball
SEQUENCE:261141055
LOCATION:HRS Salzbergen, Bruchweg, 48499 Salzbergen
GEO:52.31428510000000000000;7.34697140000000000000
SUMMARY:LL 2 Fr.: SV Alemannia Salzbergen - Raspo Lathen
CLASS:PUBLIC
DTSTART:20150314T130000Z
DTSTAMP:20150331T141500Z
END:VEVENT
BEGIN:VEVENT
UID:299760-2da69939ed67427dc6bf3daba21059e9
X-WR-RELCALID:299760-2da69939ed67427dc6bf3daba21059e9
ORGANIZER:Volleyball
SEQUENCE:261141055
LOCATION:HRS Salzbergen, Bruchweg, 48499 Salzbergen
GEO:52.31428510000000000000;7.34697140000000000000
SUMMARY:LL 2 Fr.: SV Alemannia Salzbergen - FC 47 Leschede III
CLASS:PUBLIC
DTSTART:20150314T130000Z
DTSTAMP:20150331T141500Z
END:VEVENT
END:VCALENDAR