BEGIN:VCALENDAR
VERSION:2.0
PRODID:VSD-Portal-www.volley.de
METHOD:PUBLISH
BEGIN:VEVENT
UID:301155-2da69939ed67427dc6bf3daba21059e9
X-WR-RELCALID:301155-2da69939ed67427dc6bf3daba21059e9
ORGANIZER:Volleyball
SEQUENCE:261131802
LOCATION:Schulzentrum Embsen (gr. Halle), Bahnhofstr. 62, 21409 Embsen
 
GEO:53.18029000000000000000;10.35174000000000000000
SUMMARY:BL 07 Mä.: MTV Embsen - TSV Winsen/Luhe II
CLASS:PUBLIC
DTSTART:20141004T130000Z
DTSTAMP:20150331T143000Z
END:VEVENT
BEGIN:VEVENT
UID:301156-2da69939ed67427dc6bf3daba21059e9
X-WR-RELCALID:301156-2da69939ed67427dc6bf3daba21059e9
ORGANIZER:Volleyball
SEQUENCE:261131802
LOCATION:Schulzentrum Embsen (gr. Halle), Bahnhofstr. 62, 21409 Embsen
 
GEO:53.18029000000000000000;10.35174000000000000000
SUMMARY:BL 07 Mä.: MTV Embsen - SV Altencelle II
CLASS:PUBLIC
DTSTART:20141004T130000Z
DTSTAMP:20150331T143000Z
END:VEVENT
BEGIN:VEVENT
UID:301165-2da69939ed67427dc6bf3daba21059e9
X-WR-RELCALID:301165-2da69939ed67427dc6bf3daba21059e9
ORGANIZER:Volleyball
SEQUENCE:261131802
LOCATION:Johanneum, Theodor-Heuss-Str. 1, 21335 Lüneburg
GEO:53.24550000000000000000;10.42995000000000000000
SUMMARY:BL 07 Mä.: SVG Lüneburg III - MTV Embsen
CLASS:PUBLIC
DTSTART:20141115T140000Z
DTSTAMP:20150331T143000Z
END:VEVENT
BEGIN:VEVENT
UID:301167-2da69939ed67427dc6bf3daba21059e9
X-WR-RELCALID:301167-2da69939ed67427dc6bf3daba21059e9
ORGANIZER:Volleyball
SEQUENCE:261131802
LOCATION:Schulzentrum Embsen (gr. Halle), Bahnhofstr. 62, 21409 Embsen
 
GEO:53.18029000000000000000;10.35174000000000000000
SUMMARY:BL 07 Mä.: MTV Embsen - SG Lachendorf/Eschede II
CLASS:PUBLIC
DTSTART:20141122T140000Z
DTSTAMP:20150331T143000Z
END:VEVENT
BEGIN:VEVENT
UID:301168-2da69939ed67427dc6bf3daba21059e9
X-WR-RELCALID:301168-2da69939ed67427dc6bf3daba21059e9
ORGANIZER:Volleyball
SEQUENCE:261131802
LOCATION:Schulzentrum Embsen (gr. Halle), Bahnhofstr. 62, 21409 Embsen
 
GEO:53.18029000000000000000;10.35174000000000000000
SUMMARY:BL 07 Mä.: MTV Embsen - TSV Auetal
CLASS:PUBLIC
DTSTART:20141122T140000Z
DTSTAMP:20150331T143000Z
END:VEVENT
BEGIN:VEVENT
UID:301174-2da69939ed67427dc6bf3daba21059e9
X-WR-RELCALID:301174-2da69939ed67427dc6bf3daba21059e9
ORGANIZER:Volleyball
SEQUENCE:261131802
LOCATION:Winarena, Bürgerweide, 21423 Winsen/Luhe
GEO:53.36488970000000000000;10.22594920000000000000
SUMMARY:BL 07 Mä.: TSV Winsen/Luhe - MTV Embsen
CLASS:PUBLIC
DTSTART:20141129T140000Z
DTSTAMP:20150331T143000Z
END:VEVENT
BEGIN:VEVENT
UID:301183-2da69939ed67427dc6bf3daba21059e9
X-WR-RELCALID:301183-2da69939ed67427dc6bf3daba21059e9
ORGANIZER:Volleyball
SEQUENCE:261131802
LOCATION:Schulzentrum Embsen (gr. Halle), Bahnhofstr. 62, 21409 Embsen
 
GEO:53.18029000000000000000;10.35174000000000000000
SUMMARY:BL 07 Mä.: MTV Embsen - SV Holdenstedt II
CLASS:PUBLIC
DTSTART:20150110T140000Z
DTSTAMP:20150331T143000Z
END:VEVENT
BEGIN:VEVENT
UID:301184-2da69939ed67427dc6bf3daba21059e9
X-WR-RELCALID:301184-2da69939ed67427dc6bf3daba21059e9
ORGANIZER:Volleyball
SEQUENCE:261131802
LOCATION:Schulzentrum Embsen (gr. Halle), Bahnhofstr. 62, 21409 Embsen
 
GEO:53.18029000000000000000;10.35174000000000000000
SUMMARY:BL 07 Mä.: MTV Embsen - SG Lachendorf/Eschede II
CLASS:PUBLIC
DTSTART:20150110T140000Z
DTSTAMP:20150331T143000Z
END:VEVENT
BEGIN:VEVENT
UID:301192-2da69939ed67427dc6bf3daba21059e9
X-WR-RELCALID:301192-2da69939ed67427dc6bf3daba21059e9
ORGANIZER:Volleyball
SEQUENCE:261131802
LOCATION:Winarena, Bürgerweide, 21423 Winsen/Luhe
GEO:53.36488970000000000000;10.22594920000000000000
SUMMARY:BL 07 Mä.: TSV Winsen/Luhe II - MTV Embsen
CLASS:PUBLIC
DTSTART:20150124T140000Z
DTSTAMP:20150331T143000Z
END:VEVENT
BEGIN:VEVENT
UID:301196-2da69939ed67427dc6bf3daba21059e9
X-WR-RELCALID:301196-2da69939ed67427dc6bf3daba21059e9
ORGANIZER:Volleyball
SEQUENCE:261131802
LOCATION:Sporthalle Altencelle, Lückenweg, 29227 Altencelle
GEO:52.59754480000000000000;10.11552490000000000000
SUMMARY:BL 07 Mä.: SV Altencelle II - MTV Embsen
CLASS:PUBLIC
DTSTART:20150207T140000Z
DTSTAMP:20150331T143000Z
END:VEVENT
BEGIN:VEVENT
UID:301177-2da69939ed67427dc6bf3daba21059e9
X-WR-RELCALID:301177-2da69939ed67427dc6bf3daba21059e9
ORGANIZER:Volleyball
SEQUENCE:261131802
LOCATION:Apollonia Oberschule, Ebstorfer Straße 1, 29525 Uelzen
GEO:52.97108810000000000000;10.55768270000000000000
SUMMARY:BL 07 Mä.: SV Holdenstedt II - MTV Embsen
CLASS:PUBLIC
DTSTART:20150208T120000Z
DTSTAMP:20150331T143000Z
END:VEVENT
BEGIN:VEVENT
UID:301203-2da69939ed67427dc6bf3daba21059e9
X-WR-RELCALID:301203-2da69939ed67427dc6bf3daba21059e9
ORGANIZER:Volleyball
SEQUENCE:261131802
LOCATION:Vereinssporthalle TSV Auetal, Bahnhofstr. 81a, 21441 Garstedt
 
GEO:53.29575600000000000000;10.14235140000000000000
SUMMARY:BL 07 Mä.: TSV Auetal - MTV Embsen
CLASS:PUBLIC
DTSTART:20150314T140000Z
DTSTAMP:20150331T143000Z
END:VEVENT
BEGIN:VEVENT
UID:301207-2da69939ed67427dc6bf3daba21059e9
X-WR-RELCALID:301207-2da69939ed67427dc6bf3daba21059e9
ORGANIZER:Volleyball
SEQUENCE:261131802
LOCATION:Schulzentrum Embsen (gr. Halle), Bahnhofstr. 62, 21409 Embsen
 
GEO:53.18029000000000000000;10.35174000000000000000
SUMMARY:BL 07 Mä.: MTV Embsen - SVG Lüneburg III
CLASS:PUBLIC
DTSTART:20150321T140000Z
DTSTAMP:20150331T143000Z
END:VEVENT
BEGIN:VEVENT
UID:301208-2da69939ed67427dc6bf3daba21059e9
X-WR-RELCALID:301208-2da69939ed67427dc6bf3daba21059e9
ORGANIZER:Volleyball
SEQUENCE:261131802
LOCATION:Schulzentrum Embsen (gr. Halle), Bahnhofstr. 62, 21409 Embsen
 
GEO:53.18029000000000000000;10.35174000000000000000
SUMMARY:BL 07 Mä.: MTV Embsen - TSV Winsen/Luhe
CLASS:PUBLIC
DTSTART:20150321T140000Z
DTSTAMP:20150331T143000Z
END:VEVENT
END:VCALENDAR