BEGIN:VCALENDAR
VERSION:2.0
PRODID:VSD-Portal-www.volley.de
METHOD:PUBLISH
BEGIN:VEVENT
UID:301277-2da69939ed67427dc6bf3daba21059e9
X-WR-RELCALID:301277-2da69939ed67427dc6bf3daba21059e9
ORGANIZER:Volleyball
SEQUENCE:261141933
LOCATION:Schulsporthalle Sibbesse, Schulstr. 2, 31079 Sibbesse
GEO:52.06842400000000000000;9.87651700000000000000
SUMMARY:BL 09 Mä.: VSG Sibbesse/Bodenburg - TuS Wettbergen
CLASS:PUBLIC
DTSTART:20141108T140000Z
DTSTAMP:20150331T143000Z
END:VEVENT
BEGIN:VEVENT
UID:301278-2da69939ed67427dc6bf3daba21059e9
X-WR-RELCALID:301278-2da69939ed67427dc6bf3daba21059e9
ORGANIZER:Volleyball
SEQUENCE:261141933
LOCATION:Schulsporthalle Sibbesse, Schulstr. 2, 31079 Sibbesse
GEO:52.06842400000000000000;9.87651700000000000000
SUMMARY:BL 09 Mä.: VSG Sibbesse/Bodenburg - SSG Algermissen
CLASS:PUBLIC
DTSTART:20141108T140000Z
DTSTAMP:20150331T143000Z
END:VEVENT
BEGIN:VEVENT
UID:301313-2da69939ed67427dc6bf3daba21059e9
X-WR-RELCALID:301313-2da69939ed67427dc6bf3daba21059e9
ORGANIZER:Volleyball
SEQUENCE:261141933
SUMMARY:BL 09 Mä.: VSG Sibbesse/Bodenburg - SG Hiddestorf/Hemmingen
CLASS:PUBLIC
DTSTART:20141220T140000Z
DTSTAMP:20141003T145500Z
END:VEVENT
BEGIN:VEVENT
UID:332007-2da69939ed67427dc6bf3daba21059e9
X-WR-RELCALID:332007-2da69939ed67427dc6bf3daba21059e9
ORGANIZER:Volleyball
SEQUENCE:261141933
SUMMARY:BL 09 Mä.: VSG Sibbesse/Bodenburg - SG Hiddestorf/Hemmingen
CLASS:PUBLIC
DTSTART:20141220T140000Z
DTSTAMP:20141003T150500Z
END:VEVENT
BEGIN:VEVENT
UID:332009-2da69939ed67427dc6bf3daba21059e9
X-WR-RELCALID:332009-2da69939ed67427dc6bf3daba21059e9
ORGANIZER:Volleyball
SEQUENCE:261141933
LOCATION:Schulzentrum Bad Salzdetfurth, Birkenweg 38, 31162 Bad Salzde
 tfurth
GEO:52.06855000000000000000;10.01973000000000000000
SUMMARY:BL 09 Mä.: VSG Sibbesse/Bodenburg - SG Hiddestorf/Hemmingen
CLASS:PUBLIC
DTSTART:20141220T140000Z
DTSTAMP:20150331T143000Z
END:VEVENT
BEGIN:VEVENT
UID:301294-2da69939ed67427dc6bf3daba21059e9
X-WR-RELCALID:301294-2da69939ed67427dc6bf3daba21059e9
ORGANIZER:Volleyball
SEQUENCE:261141933
LOCATION:Schulzentrum Bad Salzdetfurth, Birkenweg 38, 31162 Bad Salzde
 tfurth
GEO:52.06855000000000000000;10.01973000000000000000
SUMMARY:BL 09 Mä.: VSG Sibbesse/Bodenburg - GfL Hannover IV
CLASS:PUBLIC
DTSTART:20141220T140100Z
DTSTAMP:20150331T143000Z
END:VEVENT
BEGIN:VEVENT
UID:301301-2da69939ed67427dc6bf3daba21059e9
X-WR-RELCALID:301301-2da69939ed67427dc6bf3daba21059e9
ORGANIZER:Volleyball
SEQUENCE:261141933
LOCATION:Schulsporthalle Sibbesse, Schulstr. 2, 31079 Sibbesse
GEO:52.06842400000000000000;9.87651700000000000000
SUMMARY:BL 09 Mä.: VSG Sibbesse/Bodenburg - TSV Giesen V
CLASS:PUBLIC
DTSTART:20150117T140000Z
DTSTAMP:20150331T143000Z
END:VEVENT
BEGIN:VEVENT
UID:301302-2da69939ed67427dc6bf3daba21059e9
X-WR-RELCALID:301302-2da69939ed67427dc6bf3daba21059e9
ORGANIZER:Volleyball
SEQUENCE:261141933
LOCATION:Schulsporthalle Sibbesse, Schulstr. 2, 31079 Sibbesse
GEO:52.06842400000000000000;9.87651700000000000000
SUMMARY:BL 09 Mä.: VSG Sibbesse/Bodenburg - SG Alfeld/Banteln
CLASS:PUBLIC
DTSTART:20150117T140000Z
DTSTAMP:20150331T143000Z
END:VEVENT
END:VCALENDAR