BEGIN:VCALENDAR
VERSION:2.0
PRODID:VSD-Portal-www.volley.de
METHOD:PUBLISH
BEGIN:VEVENT
UID:302571-2da69939ed67427dc6bf3daba21059e9
X-WR-RELCALID:302571-2da69939ed67427dc6bf3daba21059e9
ORGANIZER:Volleyball
SEQUENCE:261140659
LOCATION:SH Rhein-Wied-Gymnasium Neuwied, Im Weidchen 2, 56564 Neuwied
 
GEO:50.43262000000000000000;7.46035000000000000000
SUMMARY:RPL Fr.: VC Neuwied 2 - SG Kaiserslautern / Enkenbach
CLASS:PUBLIC
DTSTART:20140928T100000Z
DTSTAMP:20150325T181500Z
END:VEVENT
BEGIN:VEVENT
UID:302573-2da69939ed67427dc6bf3daba21059e9
X-WR-RELCALID:302573-2da69939ed67427dc6bf3daba21059e9
ORGANIZER:Volleyball
SEQUENCE:261140659
LOCATION:SH Goetheschule - Kaiserslautern, Goethe Str.35, 67655 Kaiser
 slautern
GEO:49.44083000000000000000;7.75433000000000000000
SUMMARY:RPL Fr.: SG Kaiserslautern / Enkenbach - TSVgg Stadecken-Elshe
 im 2
CLASS:PUBLIC
DTSTART:20141011T120000Z
DTSTAMP:20150325T181500Z
END:VEVENT
BEGIN:VEVENT
UID:302574-2da69939ed67427dc6bf3daba21059e9
X-WR-RELCALID:302574-2da69939ed67427dc6bf3daba21059e9
ORGANIZER:Volleyball
SEQUENCE:261140659
LOCATION:SH Goetheschule - Kaiserslautern, Goethe Str.35, 67655 Kaiser
 slautern
GEO:49.44083000000000000000;7.75433000000000000000
SUMMARY:RPL Fr.: SG Kaiserslautern / Enkenbach - SV Haag
CLASS:PUBLIC
DTSTART:20141011T120000Z
DTSTAMP:20150325T181500Z
END:VEVENT
BEGIN:VEVENT
UID:302582-2da69939ed67427dc6bf3daba21059e9
X-WR-RELCALID:302582-2da69939ed67427dc6bf3daba21059e9
ORGANIZER:Volleyball
SEQUENCE:261140659
LOCATION:SH Niederbieber Neuwied, In der Laach 4, 56567 Neuwied
GEO:50.46551000000000000000;7.46822000000000000000
SUMMARY:RPL Fr.: TV Feldkirchen - SG Kaiserslautern / Enkenbach
CLASS:PUBLIC
DTSTART:20141108T170000Z
DTSTAMP:20150325T181500Z
END:VEVENT
BEGIN:VEVENT
UID:302585-2da69939ed67427dc6bf3daba21059e9
X-WR-RELCALID:302585-2da69939ed67427dc6bf3daba21059e9
ORGANIZER:Volleyball
SEQUENCE:261140659
LOCATION:Heinz-Kerz-Halle Nieder-Olm, Maria-Montessori-Str., 55268 Nie
 der-Olm
GEO:49.90277950000000000000;8.19311280000000000000
SUMMARY:RPL Fr.: SG Schornsheim / Nieder Olm - SG Kaiserslautern / Enk
 enbach
CLASS:PUBLIC
DTSTART:20141122T160000Z
DTSTAMP:20150325T181500Z
END:VEVENT
BEGIN:VEVENT
UID:302592-2da69939ed67427dc6bf3daba21059e9
X-WR-RELCALID:302592-2da69939ed67427dc6bf3daba21059e9
ORGANIZER:Volleyball
SEQUENCE:261140659
LOCATION:SH Weserstraße Mainz, Rektor-Forestier-Str. 2, 55124 Mainz-Go
 nsenheim
GEO:50.00908890000000000000;8.21677330000000000000
SUMMARY:RPL Fr.: TGM Mainz-Gonsenheim 2 - SG Kaiserslautern / Enkenbac
 h
CLASS:PUBLIC
DTSTART:20141129T120000Z
DTSTAMP:20150325T181500Z
END:VEVENT
BEGIN:VEVENT
UID:302597-2da69939ed67427dc6bf3daba21059e9
X-WR-RELCALID:302597-2da69939ed67427dc6bf3daba21059e9
ORGANIZER:Volleyball
SEQUENCE:261140659
LOCATION:SH Goetheschule - Kaiserslautern, Goethe Str.35, 67655 Kaiser
 slautern
GEO:49.44083000000000000000;7.75433000000000000000
SUMMARY:RPL Fr.: SG Kaiserslautern / Enkenbach - TV Vallendar
CLASS:PUBLIC
DTSTART:20141213T140000Z
DTSTAMP:20150325T181500Z
END:VEVENT
BEGIN:VEVENT
UID:302598-2da69939ed67427dc6bf3daba21059e9
X-WR-RELCALID:302598-2da69939ed67427dc6bf3daba21059e9
ORGANIZER:Volleyball
SEQUENCE:261140659
LOCATION:SH Goetheschule - Kaiserslautern, Goethe Str.35, 67655 Kaiser
 slautern
GEO:49.44083000000000000000;7.75433000000000000000
SUMMARY:RPL Fr.: SG Kaiserslautern / Enkenbach - VSC "Spike" Guldental
 
CLASS:PUBLIC
DTSTART:20141213T140000Z
DTSTAMP:20150325T181500Z
END:VEVENT
BEGIN:VEVENT
UID:302605-2da69939ed67427dc6bf3daba21059e9
X-WR-RELCALID:302605-2da69939ed67427dc6bf3daba21059e9
ORGANIZER:Volleyball
SEQUENCE:261140659
LOCATION:Schillerschule, Julius-Küchler-Str. 1-5, 67659 Kaiserslautern
 
GEO:49.44556400000000000000;7.74591970000000000000
SUMMARY:RPL Fr.: SG Kaiserslautern / Enkenbach - TV Feldkirchen
CLASS:PUBLIC
DTSTART:20150111T110000Z
DTSTAMP:20150325T181500Z
END:VEVENT
BEGIN:VEVENT
UID:302606-2da69939ed67427dc6bf3daba21059e9
X-WR-RELCALID:302606-2da69939ed67427dc6bf3daba21059e9
ORGANIZER:Volleyball
SEQUENCE:261140659
LOCATION:Schillerschule, Julius-Küchler-Str. 1-5, 67659 Kaiserslautern
 
GEO:49.44556400000000000000;7.74591970000000000000
SUMMARY:RPL Fr.: SG Kaiserslautern / Enkenbach - TGM Mainz-Gonsenheim 
 2
CLASS:PUBLIC
DTSTART:20150111T110000Z
DTSTAMP:20150325T181500Z
END:VEVENT
BEGIN:VEVENT
UID:302612-2da69939ed67427dc6bf3daba21059e9
X-WR-RELCALID:302612-2da69939ed67427dc6bf3daba21059e9
ORGANIZER:Volleyball
SEQUENCE:261140659
LOCATION:SH RSplus Langenlonsheim, Heddesheimer Str., 55450 Langenlons
 heim
GEO:49.89477160000000000000;7.89820910000000000000
SUMMARY:RPL Fr.: VSC "Spike" Guldental - SG Kaiserslautern / Enkenbach
 
CLASS:PUBLIC
DTSTART:20150125T090000Z
DTSTAMP:20150325T181500Z
END:VEVENT
BEGIN:VEVENT
UID:302619-2da69939ed67427dc6bf3daba21059e9
X-WR-RELCALID:302619-2da69939ed67427dc6bf3daba21059e9
ORGANIZER:Volleyball
SEQUENCE:261140659
LOCATION:Baldenauhalle Morbach, -, 54497 Morbach
GEO:49.80824300000000000000;7.12713800000000000000
SUMMARY:RPL Fr.: SV Haag - SG Kaiserslautern / Enkenbach
CLASS:PUBLIC
DTSTART:20150221T150000Z
DTSTAMP:20150325T181500Z
END:VEVENT
BEGIN:VEVENT
UID:302626-2da69939ed67427dc6bf3daba21059e9
X-WR-RELCALID:302626-2da69939ed67427dc6bf3daba21059e9
ORGANIZER:Volleyball
SEQUENCE:261140659
LOCATION:RS Mallendarer Berg - Vallendar, Albert-Schweitzer-Straße, 56
 179 Vallendar
GEO:50.39010520000000000000;7.62964430000000000000
SUMMARY:RPL Fr.: TV Vallendar - SG Kaiserslautern / Enkenbach
CLASS:PUBLIC
DTSTART:20150301T140000Z
DTSTAMP:20150325T181500Z
END:VEVENT
BEGIN:VEVENT
UID:302627-2da69939ed67427dc6bf3daba21059e9
X-WR-RELCALID:302627-2da69939ed67427dc6bf3daba21059e9
ORGANIZER:Volleyball
SEQUENCE:261140659
LOCATION:SH Goetheschule - Kaiserslautern, Goethe Str.35, 67655 Kaiser
 slautern
GEO:49.44083000000000000000;7.75433000000000000000
SUMMARY:RPL Fr.: SG Kaiserslautern / Enkenbach - VC Neuwied 2
CLASS:PUBLIC
DTSTART:20150307T140000Z
DTSTAMP:20150325T181500Z
END:VEVENT
BEGIN:VEVENT
UID:302628-2da69939ed67427dc6bf3daba21059e9
X-WR-RELCALID:302628-2da69939ed67427dc6bf3daba21059e9
ORGANIZER:Volleyball
SEQUENCE:261140659
LOCATION:SH Goetheschule - Kaiserslautern, Goethe Str.35, 67655 Kaiser
 slautern
GEO:49.44083000000000000000;7.75433000000000000000
SUMMARY:RPL Fr.: SG Kaiserslautern / Enkenbach - SG Schornsheim / Nied
 er Olm
CLASS:PUBLIC
DTSTART:20150307T140000Z
DTSTAMP:20150325T181500Z
END:VEVENT
BEGIN:VEVENT
UID:302637-2da69939ed67427dc6bf3daba21059e9
X-WR-RELCALID:302637-2da69939ed67427dc6bf3daba21059e9
ORGANIZER:Volleyball
SEQUENCE:261140659
LOCATION:Alte SH Gymnasium Nieder-Olm, Karl-Sieben-Straße 39, 55268 Ni
 eder-Olm
GEO:49.90181000000000000000;8.19567000000000000000
SUMMARY:RPL Fr.: TSVgg Stadecken-Elsheim 2 - SG Kaiserslautern / Enken
 bach
CLASS:PUBLIC
DTSTART:20150322T150000Z
DTSTAMP:20150325T181500Z
END:VEVENT
END:VCALENDAR