BEGIN:VCALENDAR
VERSION:2.0
PRODID:VSD-Portal-www.volley.de
METHOD:PUBLISH
BEGIN:VEVENT
UID:318305-2da69939ed67427dc6bf3daba21059e9
X-WR-RELCALID:318305-2da69939ed67427dc6bf3daba21059e9
ORGANIZER:Volleyball
SEQUENCE:261121829
SUMMARY:LL S Fr.: SV Energie Cottbus III - VSV Grün-Weiß 78 Erkner II
CLASS:PUBLIC
DTSTART;VALUE=DATE:20140920
DTSTAMP:20150401T150000Z
DTEND;VALUE=DATE:20140921
END:VEVENT
BEGIN:VEVENT
UID:318306-2da69939ed67427dc6bf3daba21059e9
X-WR-RELCALID:318306-2da69939ed67427dc6bf3daba21059e9
ORGANIZER:Volleyball
SEQUENCE:261121829
SUMMARY:LL S Fr.: SV Energie Cottbus III - VC Storkow 90 
CLASS:PUBLIC
DTSTART;VALUE=DATE:20140920
DTSTAMP:20150401T150000Z
DTEND;VALUE=DATE:20140921
END:VEVENT
BEGIN:VEVENT
UID:318320-2da69939ed67427dc6bf3daba21059e9
X-WR-RELCALID:318320-2da69939ed67427dc6bf3daba21059e9
ORGANIZER:Volleyball
SEQUENCE:261121829
SUMMARY:LL S Fr.: SV Energie Cottbus III - VC Luckenwalder Engel 
CLASS:PUBLIC
DTSTART;VALUE=DATE:20141004
DTSTAMP:20150401T150000Z
DTEND;VALUE=DATE:20141005
END:VEVENT
BEGIN:VEVENT
UID:318321-2da69939ed67427dc6bf3daba21059e9
X-WR-RELCALID:318321-2da69939ed67427dc6bf3daba21059e9
ORGANIZER:Volleyball
SEQUENCE:261121829
SUMMARY:LL S Fr.: SV Energie Cottbus III - BSG Stahl Eisenhüttenstadt 
 
CLASS:PUBLIC
DTSTART;VALUE=DATE:20141004
DTSTAMP:20150401T150000Z
DTEND;VALUE=DATE:20141005
END:VEVENT
BEGIN:VEVENT
UID:318325-2da69939ed67427dc6bf3daba21059e9
X-WR-RELCALID:318325-2da69939ed67427dc6bf3daba21059e9
ORGANIZER:Volleyball
SEQUENCE:261121829
SUMMARY:LL S Fr.: SV Energie Cottbus IV - SV Energie Cottbus III
CLASS:PUBLIC
DTSTART;VALUE=DATE:20141018
DTSTAMP:20150401T150000Z
DTEND;VALUE=DATE:20141019
END:VEVENT
BEGIN:VEVENT
UID:318326-2da69939ed67427dc6bf3daba21059e9
X-WR-RELCALID:318326-2da69939ed67427dc6bf3daba21059e9
ORGANIZER:Volleyball
SEQUENCE:261121829
SUMMARY:LL S Fr.: 1. VC Herzberg II - SV Energie Cottbus III
CLASS:PUBLIC
DTSTART;VALUE=DATE:20141018
DTSTAMP:20150401T150000Z
DTEND;VALUE=DATE:20141019
END:VEVENT
BEGIN:VEVENT
UID:318338-2da69939ed67427dc6bf3daba21059e9
X-WR-RELCALID:318338-2da69939ed67427dc6bf3daba21059e9
ORGANIZER:Volleyball
SEQUENCE:261121829
SUMMARY:LL S Fr.: SV Energie Cottbus III - Saarower VSV 
CLASS:PUBLIC
DTSTART;VALUE=DATE:20141122
DTSTAMP:20150401T150000Z
DTEND;VALUE=DATE:20141123
END:VEVENT
BEGIN:VEVENT
UID:318339-2da69939ed67427dc6bf3daba21059e9
X-WR-RELCALID:318339-2da69939ed67427dc6bf3daba21059e9
ORGANIZER:Volleyball
SEQUENCE:261121829
SUMMARY:LL S Fr.: SV Energie Cottbus III - SV Mühlenberg Strausberg 
CLASS:PUBLIC
DTSTART;VALUE=DATE:20141122
DTSTAMP:20150401T150000Z
DTEND;VALUE=DATE:20141123
END:VEVENT
BEGIN:VEVENT
UID:318340-2da69939ed67427dc6bf3daba21059e9
X-WR-RELCALID:318340-2da69939ed67427dc6bf3daba21059e9
ORGANIZER:Volleyball
SEQUENCE:261121829
SUMMARY:LL S Fr.: VSV Grün-Weiß 78 Erkner II - SV Energie Cottbus III
CLASS:PUBLIC
DTSTART;VALUE=DATE:20141129
DTSTAMP:20150401T150000Z
DTEND;VALUE=DATE:20141130
END:VEVENT
BEGIN:VEVENT
UID:318341-2da69939ed67427dc6bf3daba21059e9
X-WR-RELCALID:318341-2da69939ed67427dc6bf3daba21059e9
ORGANIZER:Volleyball
SEQUENCE:261121829
SUMMARY:LL S Fr.: VC Storkow 90  - SV Energie Cottbus III
CLASS:PUBLIC
DTSTART;VALUE=DATE:20141129
DTSTAMP:20150401T150000Z
DTEND;VALUE=DATE:20141130
END:VEVENT
BEGIN:VEVENT
UID:318355-2da69939ed67427dc6bf3daba21059e9
X-WR-RELCALID:318355-2da69939ed67427dc6bf3daba21059e9
ORGANIZER:Volleyball
SEQUENCE:261121829
SUMMARY:LL S Fr.: SV Energie Cottbus III - BSG Stahl Eisenhüttenstadt 
 
CLASS:PUBLIC
DTSTART;VALUE=DATE:20141213
DTSTAMP:20150401T150000Z
DTEND;VALUE=DATE:20141214
END:VEVENT
BEGIN:VEVENT
UID:318357-2da69939ed67427dc6bf3daba21059e9
X-WR-RELCALID:318357-2da69939ed67427dc6bf3daba21059e9
ORGANIZER:Volleyball
SEQUENCE:261121829
SUMMARY:LL S Fr.: VC Luckenwalder Engel  - SV Energie Cottbus III
CLASS:PUBLIC
DTSTART;VALUE=DATE:20141213
DTSTAMP:20150401T150000Z
DTEND;VALUE=DATE:20141214
END:VEVENT
BEGIN:VEVENT
UID:318361-2da69939ed67427dc6bf3daba21059e9
X-WR-RELCALID:318361-2da69939ed67427dc6bf3daba21059e9
ORGANIZER:Volleyball
SEQUENCE:261121829
SUMMARY:LL S Fr.: SV Energie Cottbus III - 1. VC Herzberg II
CLASS:PUBLIC
DTSTART;VALUE=DATE:20150110
DTSTAMP:20150401T150000Z
DTEND;VALUE=DATE:20150111
END:VEVENT
BEGIN:VEVENT
UID:318363-2da69939ed67427dc6bf3daba21059e9
X-WR-RELCALID:318363-2da69939ed67427dc6bf3daba21059e9
ORGANIZER:Volleyball
SEQUENCE:261121829
SUMMARY:LL S Fr.: SV Energie Cottbus IV - SV Energie Cottbus III
CLASS:PUBLIC
DTSTART;VALUE=DATE:20150110
DTSTAMP:20150401T150000Z
DTEND;VALUE=DATE:20150111
END:VEVENT
BEGIN:VEVENT
UID:318370-2da69939ed67427dc6bf3daba21059e9
X-WR-RELCALID:318370-2da69939ed67427dc6bf3daba21059e9
ORGANIZER:Volleyball
SEQUENCE:261121829
SUMMARY:LL S Fr.: Saarower VSV  - SV Energie Cottbus III
CLASS:PUBLIC
DTSTART;VALUE=DATE:20150124
DTSTAMP:20150401T150000Z
DTEND;VALUE=DATE:20150125
END:VEVENT
BEGIN:VEVENT
UID:318371-2da69939ed67427dc6bf3daba21059e9
X-WR-RELCALID:318371-2da69939ed67427dc6bf3daba21059e9
ORGANIZER:Volleyball
SEQUENCE:261121829
SUMMARY:LL S Fr.: SV Mühlenberg Strausberg  - SV Energie Cottbus III
CLASS:PUBLIC
DTSTART;VALUE=DATE:20150124
DTSTAMP:20150401T150000Z
DTEND;VALUE=DATE:20150125
END:VEVENT
BEGIN:VEVENT
UID:318385-2da69939ed67427dc6bf3daba21059e9
X-WR-RELCALID:318385-2da69939ed67427dc6bf3daba21059e9
ORGANIZER:Volleyball
SEQUENCE:261121829
SUMMARY:LL S Fr.: VC Luckenwalder Engel  - SV Energie Cottbus III
CLASS:PUBLIC
DTSTART;VALUE=DATE:20150221
DTSTAMP:20150401T150000Z
DTEND;VALUE=DATE:20150222
END:VEVENT
BEGIN:VEVENT
UID:318386-2da69939ed67427dc6bf3daba21059e9
X-WR-RELCALID:318386-2da69939ed67427dc6bf3daba21059e9
ORGANIZER:Volleyball
SEQUENCE:261121829
SUMMARY:LL S Fr.: BSG Stahl Eisenhüttenstadt  - SV Energie Cottbus III
 
CLASS:PUBLIC
DTSTART;VALUE=DATE:20150221
DTSTAMP:20150401T150000Z
DTEND;VALUE=DATE:20150222
END:VEVENT
BEGIN:VEVENT
UID:318303-2da69939ed67427dc6bf3daba21059e9
X-WR-RELCALID:318303-2da69939ed67427dc6bf3daba21059e9
ORGANIZER:Volleyball
SEQUENCE:261121829
SUMMARY:LL S Fr.: SV Energie Cottbus III - VC Storkow 90 
CLASS:PUBLIC
DTSTART;VALUE=DATE:20150228
DTSTAMP:20150401T150000Z
DTEND;VALUE=DATE:20150301
END:VEVENT
BEGIN:VEVENT
UID:318301-2da69939ed67427dc6bf3daba21059e9
X-WR-RELCALID:318301-2da69939ed67427dc6bf3daba21059e9
ORGANIZER:Volleyball
SEQUENCE:261121829
SUMMARY:LL S Fr.: VSV Grün-Weiß 78 Erkner II - SV Energie Cottbus III
CLASS:PUBLIC
DTSTART;VALUE=DATE:20150228
DTSTAMP:20150401T150000Z
DTEND;VALUE=DATE:20150301
END:VEVENT
BEGIN:VEVENT
UID:318293-2da69939ed67427dc6bf3daba21059e9
X-WR-RELCALID:318293-2da69939ed67427dc6bf3daba21059e9
ORGANIZER:Volleyball
SEQUENCE:261121829
SUMMARY:LL S Fr.: SV Energie Cottbus III - SV Energie Cottbus IV
CLASS:PUBLIC
DTSTART;VALUE=DATE:20150307
DTSTAMP:20150401T150000Z
DTEND;VALUE=DATE:20150308
END:VEVENT
BEGIN:VEVENT
UID:318289-2da69939ed67427dc6bf3daba21059e9
X-WR-RELCALID:318289-2da69939ed67427dc6bf3daba21059e9
ORGANIZER:Volleyball
SEQUENCE:261121829
SUMMARY:LL S Fr.: SV Energie Cottbus III - 1. VC Herzberg II
CLASS:PUBLIC
DTSTART;VALUE=DATE:20150307
DTSTAMP:20150401T150000Z
DTEND;VALUE=DATE:20150308
END:VEVENT
BEGIN:VEVENT
UID:318282-2da69939ed67427dc6bf3daba21059e9
X-WR-RELCALID:318282-2da69939ed67427dc6bf3daba21059e9
ORGANIZER:Volleyball
SEQUENCE:261121829
SUMMARY:LL S Fr.: SV Energie Cottbus III - SV Mühlenberg Strausberg 
CLASS:PUBLIC
DTSTART;VALUE=DATE:20150321
DTSTAMP:20150401T150000Z
DTEND;VALUE=DATE:20150322
END:VEVENT
BEGIN:VEVENT
UID:318280-2da69939ed67427dc6bf3daba21059e9
X-WR-RELCALID:318280-2da69939ed67427dc6bf3daba21059e9
ORGANIZER:Volleyball
SEQUENCE:261121829
SUMMARY:LL S Fr.: Saarower VSV  - SV Energie Cottbus III
CLASS:PUBLIC
DTSTART;VALUE=DATE:20150321
DTSTAMP:20150401T150000Z
DTEND;VALUE=DATE:20150322
END:VEVENT
END:VCALENDAR