BEGIN:VCALENDAR
VERSION:2.0
PRODID:VSD-Portal-www.volley.de
METHOD:PUBLISH
BEGIN:VEVENT
UID:326556-2da69939ed67427dc6bf3daba21059e9
X-WR-RELCALID:326556-2da69939ed67427dc6bf3daba21059e9
ORGANIZER:Volleyball
SEQUENCE:261152013
SUMMARY:BKl 2 Mä.: Post Südstadt Karlsruhe - VSG Kleinsteinbach3
CLASS:PUBLIC
DTSTART:20141005T090000Z
DTSTAMP:20150222T155000Z
END:VEVENT
BEGIN:VEVENT
UID:326557-2da69939ed67427dc6bf3daba21059e9
X-WR-RELCALID:326557-2da69939ed67427dc6bf3daba21059e9
ORGANIZER:Volleyball
SEQUENCE:261152013
SUMMARY:BKl 2 Mä.: Post Südstadt Karlsruhe - TG Ötigheim2
CLASS:PUBLIC
DTSTART:20141005T090000Z
DTSTAMP:20150222T155000Z
END:VEVENT
BEGIN:VEVENT
UID:326560-2da69939ed67427dc6bf3daba21059e9
X-WR-RELCALID:326560-2da69939ed67427dc6bf3daba21059e9
ORGANIZER:Volleyball
SEQUENCE:261152013
SUMMARY:BKl 2 Mä.: TG Ötigheim2 - Post Südstadt Karlsruhe
CLASS:PUBLIC
DTSTART:20141018T130000Z
DTSTAMP:20150222T155000Z
END:VEVENT
BEGIN:VEVENT
UID:326564-2da69939ed67427dc6bf3daba21059e9
X-WR-RELCALID:326564-2da69939ed67427dc6bf3daba21059e9
ORGANIZER:Volleyball
SEQUENCE:261152013
SUMMARY:BKl 2 Mä.: SSC Karlsruhe4 - Post Südstadt Karlsruhe
CLASS:PUBLIC
DTSTART:20141101T140000Z
DTSTAMP:20150222T155000Z
END:VEVENT
BEGIN:VEVENT
UID:326571-2da69939ed67427dc6bf3daba21059e9
X-WR-RELCALID:326571-2da69939ed67427dc6bf3daba21059e9
ORGANIZER:Volleyball
SEQUENCE:261152013
SUMMARY:BKl 2 Mä.: TV Flehingen3 - Post Südstadt Karlsruhe
CLASS:PUBLIC
DTSTART:20141115T140000Z
DTSTAMP:20150222T155000Z
END:VEVENT
BEGIN:VEVENT
UID:326575-2da69939ed67427dc6bf3daba21059e9
X-WR-RELCALID:326575-2da69939ed67427dc6bf3daba21059e9
ORGANIZER:Volleyball
SEQUENCE:261152013
SUMMARY:BKl 2 Mä.: TS Durlach3 - Post Südstadt Karlsruhe
CLASS:PUBLIC
DTSTART:20141129T140000Z
DTSTAMP:20150222T155000Z
END:VEVENT
BEGIN:VEVENT
UID:326581-2da69939ed67427dc6bf3daba21059e9
X-WR-RELCALID:326581-2da69939ed67427dc6bf3daba21059e9
ORGANIZER:Volleyball
SEQUENCE:261152013
SUMMARY:BKl 2 Mä.: Post Südstadt Karlsruhe - TS Durlach3
CLASS:PUBLIC
DTSTART:20150117T140000Z
DTSTAMP:20150222T155000Z
END:VEVENT
BEGIN:VEVENT
UID:326582-2da69939ed67427dc6bf3daba21059e9
X-WR-RELCALID:326582-2da69939ed67427dc6bf3daba21059e9
ORGANIZER:Volleyball
SEQUENCE:261152013
SUMMARY:BKl 2 Mä.: Post Südstadt Karlsruhe - VSG Ettlingen/Rüppurr3
CLASS:PUBLIC
DTSTART:20150117T140000Z
DTSTAMP:20150222T155000Z
END:VEVENT
BEGIN:VEVENT
UID:326587-2da69939ed67427dc6bf3daba21059e9
X-WR-RELCALID:326587-2da69939ed67427dc6bf3daba21059e9
ORGANIZER:Volleyball
SEQUENCE:261152013
SUMMARY:BKl 2 Mä.: VSG Kleinsteinbach3 - Post Südstadt Karlsruhe
CLASS:PUBLIC
DTSTART:20150125T130000Z
DTSTAMP:20150222T155000Z
END:VEVENT
BEGIN:VEVENT
UID:326591-2da69939ed67427dc6bf3daba21059e9
X-WR-RELCALID:326591-2da69939ed67427dc6bf3daba21059e9
ORGANIZER:Volleyball
SEQUENCE:261152013
SUMMARY:BKl 2 Mä.: Post Südstadt Karlsruhe - SSC Karlsruhe4
CLASS:PUBLIC
DTSTART:20150201T100000Z
DTSTAMP:20150222T155000Z
END:VEVENT
BEGIN:VEVENT
UID:326592-2da69939ed67427dc6bf3daba21059e9
X-WR-RELCALID:326592-2da69939ed67427dc6bf3daba21059e9
ORGANIZER:Volleyball
SEQUENCE:261152013
SUMMARY:BKl 2 Mä.: Post Südstadt Karlsruhe - TV Flehingen3
CLASS:PUBLIC
DTSTART:20150201T100000Z
DTSTAMP:20150222T155000Z
END:VEVENT
BEGIN:VEVENT
UID:326595-2da69939ed67427dc6bf3daba21059e9
X-WR-RELCALID:326595-2da69939ed67427dc6bf3daba21059e9
ORGANIZER:Volleyball
SEQUENCE:261152013
SUMMARY:BKl 2 Mä.: Post Südstadt Karlsruhe - VSG Ettlingen/Rüppurr3
CLASS:PUBLIC
DTSTART:20150221T110000Z
DTSTAMP:20150222T155000Z
END:VEVENT
END:VCALENDAR