BEGIN:VCALENDAR
VERSION:2.0
PRODID:VSD-Portal-www.volley.de
METHOD:PUBLISH
BEGIN:VEVENT
UID:327947-2da69939ed67427dc6bf3daba21059e9
X-WR-RELCALID:327947-2da69939ed67427dc6bf3daba21059e9
ORGANIZER:Volleyball
SEQUENCE:261130216
SUMMARY:LL 2 Fr.: VC Eppingen -  KIT Sport-Club 2010 e.V.
CLASS:PUBLIC
DTSTART:20141018T140000Z
DTSTAMP:20150322T162500Z
END:VEVENT
BEGIN:VEVENT
UID:327948-2da69939ed67427dc6bf3daba21059e9
X-WR-RELCALID:327948-2da69939ed67427dc6bf3daba21059e9
ORGANIZER:Volleyball
SEQUENCE:261130216
SUMMARY:LL 2 Fr.: VC Eppingen - VSG Ettlingen/Rüppurr2
CLASS:PUBLIC
DTSTART:20141018T140000Z
DTSTAMP:20150322T162500Z
END:VEVENT
BEGIN:VEVENT
UID:327973-2da69939ed67427dc6bf3daba21059e9
X-WR-RELCALID:327973-2da69939ed67427dc6bf3daba21059e9
ORGANIZER:Volleyball
SEQUENCE:261130216
SUMMARY:LL 2 Fr.: VC Eppingen - TV Bretten
CLASS:PUBLIC
DTSTART:20141214T110000Z
DTSTAMP:20150322T162500Z
END:VEVENT
BEGIN:VEVENT
UID:327974-2da69939ed67427dc6bf3daba21059e9
X-WR-RELCALID:327974-2da69939ed67427dc6bf3daba21059e9
ORGANIZER:Volleyball
SEQUENCE:261130216
SUMMARY:LL 2 Fr.: VC Eppingen - TV Hochstetten
CLASS:PUBLIC
DTSTART:20141214T110000Z
DTSTAMP:20150322T162500Z
END:VEVENT
BEGIN:VEVENT
UID:327985-2da69939ed67427dc6bf3daba21059e9
X-WR-RELCALID:327985-2da69939ed67427dc6bf3daba21059e9
ORGANIZER:Volleyball
SEQUENCE:261130216
SUMMARY:LL 2 Fr.: VC Eppingen - SV KA-Beiertheim3
CLASS:PUBLIC
DTSTART:20150124T150000Z
DTSTAMP:20150322T162500Z
END:VEVENT
BEGIN:VEVENT
UID:327986-2da69939ed67427dc6bf3daba21059e9
X-WR-RELCALID:327986-2da69939ed67427dc6bf3daba21059e9
ORGANIZER:Volleyball
SEQUENCE:261130216
SUMMARY:LL 2 Fr.: VC Eppingen - DJK Hockenheim
CLASS:PUBLIC
DTSTART:20150124T150000Z
DTSTAMP:20150322T162500Z
END:VEVENT
BEGIN:VEVENT
UID:328009-2da69939ed67427dc6bf3daba21059e9
X-WR-RELCALID:328009-2da69939ed67427dc6bf3daba21059e9
ORGANIZER:Volleyball
SEQUENCE:261130216
SUMMARY:LL 2 Fr.: VC Eppingen - TuS Durmersheim
CLASS:PUBLIC
DTSTART:20150322T110000Z
DTSTAMP:20150322T162500Z
END:VEVENT
BEGIN:VEVENT
UID:328010-2da69939ed67427dc6bf3daba21059e9
X-WR-RELCALID:328010-2da69939ed67427dc6bf3daba21059e9
ORGANIZER:Volleyball
SEQUENCE:261130216
SUMMARY:LL 2 Fr.: VC Eppingen - TV Brötzingen2
CLASS:PUBLIC
DTSTART:20150322T110000Z
DTSTAMP:20150322T162500Z
END:VEVENT
END:VCALENDAR