BEGIN:VCALENDAR
VERSION:2.0
PRODID:VSD-Portal-www.volley.de
METHOD:PUBLISH
BEGIN:VEVENT
UID:341392-2da69939ed67427dc6bf3daba21059e9
X-WR-RELCALID:341392-2da69939ed67427dc6bf3daba21059e9
ORGANIZER:Volleyball
SEQUENCE:261100741
LOCATION:Sporthalle Hämmerlingstraße, Friedenstr. 1/Hämmerlingstraße 8
 0, 12555 Berlin
GEO:52.45975690000000000000;13.57258670000000000000
SUMMARY:2. BL N Fr.: Köpenicker SC II - VCO Schwerin
CLASS:PUBLIC
DTSTART:20150920T130000Z
DTSTAMP:20160415T104500Z
END:VEVENT
BEGIN:VEVENT
UID:341405-2da69939ed67427dc6bf3daba21059e9
X-WR-RELCALID:341405-2da69939ed67427dc6bf3daba21059e9
ORGANIZER:Volleyball
SEQUENCE:261100741
LOCATION:Volleyballhalle Am Lambrechtsgrund, Von-Flotow-Straße 20, 190
 59 Schwerin
GEO:53.62527000000000000000;11.39525000000000000000
SUMMARY:2. BL N Fr.: VCO Schwerin - SCU Emlichheim
CLASS:PUBLIC
DTSTART:20150926T130000Z
DTSTAMP:20160415T104500Z
END:VEVENT
BEGIN:VEVENT
UID:341402-2da69939ed67427dc6bf3daba21059e9
X-WR-RELCALID:341402-2da69939ed67427dc6bf3daba21059e9
ORGANIZER:Volleyball
SEQUENCE:261100741
LOCATION:Volleyballhalle Am Lambrechtsgrund, Von-Flotow-Straße 20, 190
 59 Schwerin
GEO:53.62527000000000000000;11.39525000000000000000
SUMMARY:2. BL N Fr.: VCO Schwerin - USC Münster II
CLASS:PUBLIC
DTSTART:20151004T130000Z
DTSTAMP:20160415T104500Z
END:VEVENT
BEGIN:VEVENT
UID:341413-2da69939ed67427dc6bf3daba21059e9
X-WR-RELCALID:341413-2da69939ed67427dc6bf3daba21059e9
ORGANIZER:Volleyball
SEQUENCE:261100741
LOCATION:Artur-Schirrmacher-Sporthalle, Konrad-Adenauer-Allee 1, 45964
  Gladbeck
GEO:51.57701000000000000000;6.98016000000000000000
SUMMARY:2. BL N Fr.: TV Gladbeck - VCO Schwerin
CLASS:PUBLIC
DTSTART:20151018T140000Z
DTSTAMP:20160415T104500Z
END:VEVENT
BEGIN:VEVENT
UID:341414-2da69939ed67427dc6bf3daba21059e9
X-WR-RELCALID:341414-2da69939ed67427dc6bf3daba21059e9
ORGANIZER:Volleyball
SEQUENCE:261100741
LOCATION:Volleyballhalle Am Lambrechtsgrund, Von-Flotow-Straße 20, 190
 59 Schwerin
GEO:53.62527000000000000000;11.39525000000000000000
SUMMARY:2. BL N Fr.: VCO Schwerin - VfL Oythe
CLASS:PUBLIC
DTSTART:20151024T123000Z
DTSTAMP:20160415T104500Z
END:VEVENT
BEGIN:VEVENT
UID:341418-2da69939ed67427dc6bf3daba21059e9
X-WR-RELCALID:341418-2da69939ed67427dc6bf3daba21059e9
ORGANIZER:Volleyball
SEQUENCE:261100741
LOCATION:Volleyballhalle Am Lambrechtsgrund, Von-Flotow-Straße 20, 190
 59 Schwerin
GEO:53.62527000000000000000;11.39525000000000000000
SUMMARY:2. BL N Fr.: VCO Schwerin - Skurios Volleys Borken
CLASS:PUBLIC
DTSTART:20151101T140000Z
DTSTAMP:20160415T104500Z
END:VEVENT
BEGIN:VEVENT
UID:341422-2da69939ed67427dc6bf3daba21059e9
X-WR-RELCALID:341422-2da69939ed67427dc6bf3daba21059e9
ORGANIZER:Volleyball
SEQUENCE:261100741
LOCATION:Volleyballhalle Am Lambrechtsgrund, Von-Flotow-Straße 20, 190
 59 Schwerin
GEO:53.62527000000000000000;11.39525000000000000000
SUMMARY:2. BL N Fr.: VCO Schwerin - SV Blau-Weiß Dingden
CLASS:PUBLIC
DTSTART:20151107T130000Z
DTSTAMP:20160415T104500Z
END:VEVENT
BEGIN:VEVENT
UID:341434-2da69939ed67427dc6bf3daba21059e9
X-WR-RELCALID:341434-2da69939ed67427dc6bf3daba21059e9
ORGANIZER:Volleyball
SEQUENCE:261100741
LOCATION:Palmberg Arena, Von-Flotow-Str. 20, 19059 Schwerin
GEO:53.62527000000000000000;11.39525000000000000000
SUMMARY:2. BL N Fr.: VCO Schwerin - Stralsunder Wildcats
CLASS:PUBLIC
DTSTART:20151115T140000Z
DTSTAMP:20160415T104500Z
END:VEVENT
BEGIN:VEVENT
UID:341448-2da69939ed67427dc6bf3daba21059e9
X-WR-RELCALID:341448-2da69939ed67427dc6bf3daba21059e9
ORGANIZER:Volleyball
SEQUENCE:261100741
LOCATION:Volleyballhalle Am Lambrechtsgrund, Von-Flotow-Straße 20, 190
 59 Schwerin
GEO:53.62527000000000000000;11.39525000000000000000
SUMMARY:2. BL N Fr.: VCO Schwerin - TV Eiche Horn Bremen
CLASS:PUBLIC
DTSTART:20151129T140000Z
DTSTAMP:20160415T104500Z
END:VEVENT
BEGIN:VEVENT
UID:341453-2da69939ed67427dc6bf3daba21059e9
X-WR-RELCALID:341453-2da69939ed67427dc6bf3daba21059e9
ORGANIZER:Volleyball
SEQUENCE:261100741
LOCATION:Deutsche Sporthochschule Köln, Halle 22, Am Sportpark Müngers
 dorf 6, 50933 Köln
GEO:50.93512870000000000000;6.87009100000000000000
SUMMARY:2. BL N Fr.: DSHS SnowTrex Köln - VCO Schwerin
CLASS:PUBLIC
DTSTART:20151205T180000Z
DTSTAMP:20160415T104500Z
END:VEVENT
BEGIN:VEVENT
UID:341456-2da69939ed67427dc6bf3daba21059e9
X-WR-RELCALID:341456-2da69939ed67427dc6bf3daba21059e9
ORGANIZER:Volleyball
SEQUENCE:261100741
LOCATION:Ostermann-Arena, Bismarckstr. 125, 51373 Leverkusen
GEO:51.03933850000000000000;7.00401210000000000000
SUMMARY:2. BL N Fr.: TSV Bayer 04 Leverkusen - VCO Schwerin
CLASS:PUBLIC
DTSTART:20151206T150000Z
DTSTAMP:20160415T104500Z
END:VEVENT
BEGIN:VEVENT
UID:341459-2da69939ed67427dc6bf3daba21059e9
X-WR-RELCALID:341459-2da69939ed67427dc6bf3daba21059e9
ORGANIZER:Volleyball
SEQUENCE:261100741
LOCATION:Volleyballhalle Am Lambrechtsgrund, Von-Flotow-Straße 20, 190
 59 Schwerin
GEO:53.62527000000000000000;11.39525000000000000000
SUMMARY:2. BL N Fr.: VCO Schwerin - DSHS SnowTrex Köln
CLASS:PUBLIC
DTSTART:20151211T170000Z
DTSTAMP:20160415T104500Z
END:VEVENT
BEGIN:VEVENT
UID:341468-2da69939ed67427dc6bf3daba21059e9
X-WR-RELCALID:341468-2da69939ed67427dc6bf3daba21059e9
ORGANIZER:Volleyball
SEQUENCE:261100741
LOCATION:Schulzentrum Sundern, Berliner Str. 45, 59846 Sundern
GEO:51.31926650000000000000;8.00090180000000000000
SUMMARY:2. BL N Fr.: RC Sorpesee - VCO Schwerin
CLASS:PUBLIC
DTSTART:20151219T180000Z
DTSTAMP:20160415T104500Z
END:VEVENT
BEGIN:VEVENT
UID:341473-2da69939ed67427dc6bf3daba21059e9
X-WR-RELCALID:341473-2da69939ed67427dc6bf3daba21059e9
ORGANIZER:Volleyball
SEQUENCE:261100741
LOCATION:Sporthalle Berg Fidel, Am Berg Fidel 51, 48153 Münster
GEO:51.92894000000000000000;7.62397000000000000000
SUMMARY:2. BL N Fr.: USC Münster II - VCO Schwerin
CLASS:PUBLIC
DTSTART:20151220T150000Z
DTSTAMP:20160415T104500Z
END:VEVENT
BEGIN:VEVENT
UID:341475-2da69939ed67427dc6bf3daba21059e9
X-WR-RELCALID:341475-2da69939ed67427dc6bf3daba21059e9
ORGANIZER:Volleyball
SEQUENCE:261100741
LOCATION:Volleyballhalle Am Lambrechtsgrund, Von-Flotow-Straße 20, 190
 59 Schwerin
GEO:53.62527000000000000000;11.39525000000000000000
SUMMARY:2. BL N Fr.: VCO Schwerin - RC Sorpesee
CLASS:PUBLIC
DTSTART:20160109T150000Z
DTSTAMP:20160415T104500Z
END:VEVENT
BEGIN:VEVENT
UID:341478-2da69939ed67427dc6bf3daba21059e9
X-WR-RELCALID:341478-2da69939ed67427dc6bf3daba21059e9
ORGANIZER:Volleyball
SEQUENCE:261100741
LOCATION:Volleyballhalle Am Lambrechtsgrund, Von-Flotow-Straße 20, 190
 59 Schwerin
GEO:53.62527000000000000000;11.39525000000000000000
SUMMARY:2. BL N Fr.: VCO Schwerin - Köpenicker SC II
CLASS:PUBLIC
DTSTART:20160110T140000Z
DTSTAMP:20160415T104500Z
END:VEVENT
BEGIN:VEVENT
UID:341486-2da69939ed67427dc6bf3daba21059e9
X-WR-RELCALID:341486-2da69939ed67427dc6bf3daba21059e9
ORGANIZER:Volleyball
SEQUENCE:261100741
LOCATION:Sporthalle Dingden, Höingsweg 3, 46499 Hamminkeln
GEO:51.78369000000000000000;6.62077020000000000000
SUMMARY:2. BL N Fr.: SV Blau-Weiß Dingden - VCO Schwerin
CLASS:PUBLIC
DTSTART:20160116T190000Z
DTSTAMP:20160415T104500Z
END:VEVENT
BEGIN:VEVENT
UID:341488-2da69939ed67427dc6bf3daba21059e9
X-WR-RELCALID:341488-2da69939ed67427dc6bf3daba21059e9
ORGANIZER:Volleyball
SEQUENCE:261100741
LOCATION:Mergelsberg Sporthalle, Parkstr. 9, 46325 Borken
GEO:51.83710000000000000000;6.86012000000000000000
SUMMARY:2. BL N Fr.: Skurios Volleys Borken - VCO Schwerin
CLASS:PUBLIC
DTSTART:20160117T150000Z
DTSTAMP:20160415T104500Z
END:VEVENT
BEGIN:VEVENT
UID:341502-2da69939ed67427dc6bf3daba21059e9
X-WR-RELCALID:341502-2da69939ed67427dc6bf3daba21059e9
ORGANIZER:Volleyball
SEQUENCE:261100741
LOCATION:Vechtetalhalle, Deichweg, 49824 Emlichheim
GEO:52.60227590000000000000;6.85461770000000000000
SUMMARY:2. BL N Fr.: SCU Emlichheim - VCO Schwerin
CLASS:PUBLIC
DTSTART:20160131T150000Z
DTSTAMP:20160415T104500Z
END:VEVENT
BEGIN:VEVENT
UID:341507-2da69939ed67427dc6bf3daba21059e9
X-WR-RELCALID:341507-2da69939ed67427dc6bf3daba21059e9
ORGANIZER:Volleyball
SEQUENCE:261100741
LOCATION:Volleyballhalle Am Lambrechtsgrund, Von-Flotow-Straße 20, 190
 59 Schwerin
GEO:53.62527000000000000000;11.39525000000000000000
SUMMARY:2. BL N Fr.: VCO Schwerin - TV Gladbeck
CLASS:PUBLIC
DTSTART:20160207T140000Z
DTSTAMP:20160415T104500Z
END:VEVENT
BEGIN:VEVENT
UID:341510-2da69939ed67427dc6bf3daba21059e9
X-WR-RELCALID:341510-2da69939ed67427dc6bf3daba21059e9
ORGANIZER:Volleyball
SEQUENCE:261100741
LOCATION:Diesterweg-Sporthalle, Rudolf-Virchow-Str. 23, 18435 Stralsun
 d
GEO:54.33009940000000000000;13.07587100000000000000
SUMMARY:2. BL N Fr.: Stralsunder Wildcats - VCO Schwerin
CLASS:PUBLIC
DTSTART:20160213T160000Z
DTSTAMP:20160415T104500Z
END:VEVENT
BEGIN:VEVENT
UID:341512-2da69939ed67427dc6bf3daba21059e9
X-WR-RELCALID:341512-2da69939ed67427dc6bf3daba21059e9
ORGANIZER:Volleyball
SEQUENCE:261100741
LOCATION:Sporthalle Berckstraße, Berckstr. 87, 28359 Bremen
GEO:53.09650000000000000000;8.88156000000000000000
SUMMARY:2. BL N Fr.: TV Eiche Horn Bremen - VCO Schwerin
CLASS:PUBLIC
DTSTART:20160220T150000Z
DTSTAMP:20160415T104500Z
END:VEVENT
BEGIN:VEVENT
UID:341516-2da69939ed67427dc6bf3daba21059e9
X-WR-RELCALID:341516-2da69939ed67427dc6bf3daba21059e9
ORGANIZER:Volleyball
SEQUENCE:261100741
LOCATION:SH Gymnasium Antonianum Vechta, Willohstraße 19, 49377 Vechta
 
GEO:52.72421000000000000000;8.28948000000000000000
SUMMARY:2. BL N Fr.: VfL Oythe - VCO Schwerin
CLASS:PUBLIC
DTSTART:20160221T140000Z
DTSTAMP:20160415T104500Z
END:VEVENT
BEGIN:VEVENT
UID:341519-2da69939ed67427dc6bf3daba21059e9
X-WR-RELCALID:341519-2da69939ed67427dc6bf3daba21059e9
ORGANIZER:Volleyball
SEQUENCE:261100741
LOCATION:Volleyballhalle Am Lambrechtsgrund, Von-Flotow-Straße 20, 190
 59 Schwerin
GEO:53.62527000000000000000;11.39525000000000000000
SUMMARY:2. BL N Fr.: VCO Schwerin - TSV Bayer 04 Leverkusen
CLASS:PUBLIC
DTSTART:20160305T150000Z
DTSTAMP:20160415T104500Z
END:VEVENT
END:VCALENDAR