BEGIN:VCALENDAR
VERSION:2.0
PRODID:VSD-Portal-www.volley.de
METHOD:PUBLISH
BEGIN:VEVENT
UID:342305-2da69939ed67427dc6bf3daba21059e9
X-WR-RELCALID:342305-2da69939ed67427dc6bf3daba21059e9
ORGANIZER:Volleyball
SEQUENCE:261120412
LOCATION:Alte Bezirkshalle Sachsenweg, Sachsenweg 76, 22455 Hamburg
GEO:53.64196000000000000000;9.96027000000000000000
SUMMARY:3. L N Mä.: Niendorfer TSV - TSGL Schöneiche
CLASS:PUBLIC
DTSTART:20150919T180000Z
DTSTAMP:20160413T103000Z
END:VEVENT
BEGIN:VEVENT
UID:342307-2da69939ed67427dc6bf3daba21059e9
X-WR-RELCALID:342307-2da69939ed67427dc6bf3daba21059e9
ORGANIZER:Volleyball
SEQUENCE:261120412
LOCATION:4800 / Lehrer-Paul-Bester-Halle, GS I  , Dorfaue 17-19  , 155
 66 Schöneiche
GEO:52.48101240000000000000;13.70219460000000000000
SUMMARY:3. L N Mä.: TSGL Schöneiche - Oststeinbeker SV
CLASS:PUBLIC
DTSTART:20150926T170000Z
DTSTAMP:20160413T103000Z
END:VEVENT
BEGIN:VEVENT
UID:342314-2da69939ed67427dc6bf3daba21059e9
X-WR-RELCALID:342314-2da69939ed67427dc6bf3daba21059e9
ORGANIZER:Volleyball
SEQUENCE:261120412
LOCATION:ARENA Rostock, Tschaikowskistr. 45, 18069 Rostock
GEO:54.08901900000000000000;12.08770600000000000000
SUMMARY:3. L N Mä.: SV Warnemünde - TSGL Schöneiche
CLASS:PUBLIC
DTSTART:20151004T140000Z
DTSTAMP:20160413T103000Z
END:VEVENT
BEGIN:VEVENT
UID:342318-2da69939ed67427dc6bf3daba21059e9
X-WR-RELCALID:342318-2da69939ed67427dc6bf3daba21059e9
ORGANIZER:Volleyball
SEQUENCE:261120412
LOCATION:4800 / Lehrer-Paul-Bester-Halle, GS I  , Dorfaue 17-19  , 155
 66 Schöneiche
GEO:52.48101240000000000000;13.70219460000000000000
SUMMARY:3. L N Mä.: TSGL Schöneiche - PSV Neustrelitz Team Wesenberg
CLASS:PUBLIC
DTSTART:20151017T170000Z
DTSTAMP:20160413T103000Z
END:VEVENT
BEGIN:VEVENT
UID:342322-2da69939ed67427dc6bf3daba21059e9
X-WR-RELCALID:342322-2da69939ed67427dc6bf3daba21059e9
ORGANIZER:Volleyball
SEQUENCE:261120412
LOCATION:Sporthalle Barnim- Oberschule, Ahrensfelder Chaussee 41, 1305
 7 Berlin
GEO:52.56920070000000000000;13.54930260000000000000
SUMMARY:3. L N Mä.: SV Preußen Berlin - TSGL Schöneiche
CLASS:PUBLIC
DTSTART:20151024T140000Z
DTSTAMP:20160413T103000Z
END:VEVENT
BEGIN:VEVENT
UID:342331-2da69939ed67427dc6bf3daba21059e9
X-WR-RELCALID:342331-2da69939ed67427dc6bf3daba21059e9
ORGANIZER:Volleyball
SEQUENCE:261120412
LOCATION:4800 / Lehrer-Paul-Bester-Halle, GS I  , Dorfaue 17-19  , 155
 66 Schöneiche
GEO:52.48101240000000000000;13.70219460000000000000
SUMMARY:3. L N Mä.: TSGL Schöneiche - VCO Hamburg
CLASS:PUBLIC
DTSTART:20151101T130000Z
DTSTAMP:20160413T103000Z
END:VEVENT
BEGIN:VEVENT
UID:342334-2da69939ed67427dc6bf3daba21059e9
X-WR-RELCALID:342334-2da69939ed67427dc6bf3daba21059e9
ORGANIZER:Volleyball
SEQUENCE:261120412
LOCATION:Turnhalle Am Schützenplatz, Am Schützenplatz, 16269 Wriezen
GEO:52.72003900000000000000;14.13192720000000000000
SUMMARY:3. L N Mä.: TKC Wriezen - TSGL Schöneiche
CLASS:PUBLIC
DTSTART:20151107T173000Z
DTSTAMP:20160413T103000Z
END:VEVENT
BEGIN:VEVENT
UID:342337-2da69939ed67427dc6bf3daba21059e9
X-WR-RELCALID:342337-2da69939ed67427dc6bf3daba21059e9
ORGANIZER:Volleyball
SEQUENCE:261120412
LOCATION:4800 / Lehrer-Paul-Bester-Halle, GS I  , Dorfaue 17-19  , 155
 66 Schöneiche
GEO:52.48101240000000000000;13.70219460000000000000
SUMMARY:3. L N Mä.: TSGL Schöneiche - VfL Pinneberg
CLASS:PUBLIC
DTSTART:20151114T180000Z
DTSTAMP:20160413T103000Z
END:VEVENT
BEGIN:VEVENT
UID:342343-2da69939ed67427dc6bf3daba21059e9
X-WR-RELCALID:342343-2da69939ed67427dc6bf3daba21059e9
ORGANIZER:Volleyball
SEQUENCE:261120412
LOCATION:Anton-Saefkow- Halle, Anton-Saefkow-Platz 5, 10369 Berlin
GEO:52.53007000000000000000;13.47447200000000000000
SUMMARY:3. L N Mä.: Berliner VV - TSGL Schöneiche
CLASS:PUBLIC
DTSTART:20151121T180000Z
DTSTAMP:20160413T103000Z
END:VEVENT
BEGIN:VEVENT
UID:342353-2da69939ed67427dc6bf3daba21059e9
X-WR-RELCALID:342353-2da69939ed67427dc6bf3daba21059e9
ORGANIZER:Volleyball
SEQUENCE:261120412
LOCATION:4800 / Lehrer-Paul-Bester-Halle, GS I  , Dorfaue 17-19  , 155
 66 Schöneiche
GEO:52.48101240000000000000;13.70219460000000000000
SUMMARY:3. L N Mä.: TSGL Schöneiche - KMTV Eagles
CLASS:PUBLIC
DTSTART:20151213T130000Z
DTSTAMP:20160413T103000Z
END:VEVENT
BEGIN:VEVENT
UID:342358-2da69939ed67427dc6bf3daba21059e9
X-WR-RELCALID:342358-2da69939ed67427dc6bf3daba21059e9
ORGANIZER:Volleyball
SEQUENCE:261120412
LOCATION:4800 / Lehrer-Paul-Bester-Halle, GS I  , Dorfaue 17-19  , 155
 66 Schöneiche
GEO:52.48101240000000000000;13.70219460000000000000
SUMMARY:3. L N Mä.: TSGL Schöneiche - SV Warnemünde
CLASS:PUBLIC
DTSTART:20160109T180000Z
DTSTAMP:20160413T103000Z
END:VEVENT
BEGIN:VEVENT
UID:342363-2da69939ed67427dc6bf3daba21059e9
X-WR-RELCALID:342363-2da69939ed67427dc6bf3daba21059e9
ORGANIZER:Volleyball
SEQUENCE:261120412
LOCATION:Strelitzhalle, Louisenstr. 28, 17235 Neustrelitz
GEO:53.36492230000000000000;13.07120710000000000000
SUMMARY:3. L N Mä.: PSV Neustrelitz Team Wesenberg - TSGL Schöneiche
CLASS:PUBLIC
DTSTART:20160116T173000Z
DTSTAMP:20160413T103000Z
END:VEVENT
BEGIN:VEVENT
UID:342369-2da69939ed67427dc6bf3daba21059e9
X-WR-RELCALID:342369-2da69939ed67427dc6bf3daba21059e9
ORGANIZER:Volleyball
SEQUENCE:261120412
LOCATION:4800 / Lehrer-Paul-Bester-Halle, GS I  , Dorfaue 17-19  , 155
 66 Schöneiche
GEO:52.48101240000000000000;13.70219460000000000000
SUMMARY:3. L N Mä.: TSGL Schöneiche - SV Preußen Berlin
CLASS:PUBLIC
DTSTART:20160123T180000Z
DTSTAMP:20160413T103000Z
END:VEVENT
BEGIN:VEVENT
UID:342377-2da69939ed67427dc6bf3daba21059e9
X-WR-RELCALID:342377-2da69939ed67427dc6bf3daba21059e9
ORGANIZER:Volleyball
SEQUENCE:261120412
LOCATION:Sporthalle Alter Teichweg, Alter Teichweg 200, 22049 Hamburg
GEO:53.58749000000000000000;10.06956200000000000000
SUMMARY:3. L N Mä.: VCO Hamburg - TSGL Schöneiche
CLASS:PUBLIC
DTSTART:20160207T140000Z
DTSTAMP:20160413T103000Z
END:VEVENT
BEGIN:VEVENT
UID:342378-2da69939ed67427dc6bf3daba21059e9
X-WR-RELCALID:342378-2da69939ed67427dc6bf3daba21059e9
ORGANIZER:Volleyball
SEQUENCE:261120412
LOCATION:4800 / Lehrer-Paul-Bester-Halle, GS I  , Dorfaue 17-19  , 155
 66 Schöneiche
GEO:52.48101240000000000000;13.70219460000000000000
SUMMARY:3. L N Mä.: TSGL Schöneiche - TKC Wriezen
CLASS:PUBLIC
DTSTART:20160213T180000Z
DTSTAMP:20160413T103000Z
END:VEVENT
BEGIN:VEVENT
UID:342384-2da69939ed67427dc6bf3daba21059e9
X-WR-RELCALID:342384-2da69939ed67427dc6bf3daba21059e9
ORGANIZER:Volleyball
SEQUENCE:261120412
LOCATION:Jahnhalle, Richard-Köhn Str. 75, 25421 Pinneberg
GEO:53.64636000000000000000;9.79387000000000000000
SUMMARY:3. L N Mä.: VfL Pinneberg - TSGL Schöneiche
CLASS:PUBLIC
DTSTART:20160220T170000Z
DTSTAMP:20160413T103000Z
END:VEVENT
BEGIN:VEVENT
UID:342388-2da69939ed67427dc6bf3daba21059e9
X-WR-RELCALID:342388-2da69939ed67427dc6bf3daba21059e9
ORGANIZER:Volleyball
SEQUENCE:261120412
LOCATION:4800 / Lehrer-Paul-Bester-Halle, GS I  , Dorfaue 17-19  , 155
 66 Schöneiche
GEO:52.48101240000000000000;13.70219460000000000000
SUMMARY:3. L N Mä.: TSGL Schöneiche - Berliner VV
CLASS:PUBLIC
DTSTART:20160227T180000Z
DTSTAMP:20160413T103000Z
END:VEVENT
BEGIN:VEVENT
UID:342400-2da69939ed67427dc6bf3daba21059e9
X-WR-RELCALID:342400-2da69939ed67427dc6bf3daba21059e9
ORGANIZER:Volleyball
SEQUENCE:261120412
LOCATION:Hein-Dahlinger-Halle, Geschwister-Scholl-Str. 9, 24143 Kiel
GEO:54.30671200000000000000;10.15992870000000000000
SUMMARY:3. L N Mä.: KMTV Eagles - TSGL Schöneiche
CLASS:PUBLIC
DTSTART:20160319T190000Z
DTSTAMP:20160413T103000Z
END:VEVENT
BEGIN:VEVENT
UID:342403-2da69939ed67427dc6bf3daba21059e9
X-WR-RELCALID:342403-2da69939ed67427dc6bf3daba21059e9
ORGANIZER:Volleyball
SEQUENCE:261120412
LOCATION:4800 / Lehrer-Paul-Bester-Halle, GS I  , Dorfaue 17-19  , 155
 66 Schöneiche
GEO:52.48101240000000000000;13.70219460000000000000
SUMMARY:3. L N Mä.: TSGL Schöneiche - Niendorfer TSV
CLASS:PUBLIC
DTSTART:20160402T170000Z
DTSTAMP:20160413T103000Z
END:VEVENT
BEGIN:VEVENT
UID:342408-2da69939ed67427dc6bf3daba21059e9
X-WR-RELCALID:342408-2da69939ed67427dc6bf3daba21059e9
ORGANIZER:Volleyball
SEQUENCE:261120412
LOCATION:Walter-Ruckert Halle, Meessen 32, 22113 Oststeinbek
GEO:53.54911400000000000000;10.16476280000000000000
SUMMARY:3. L N Mä.: Oststeinbeker SV - TSGL Schöneiche
CLASS:PUBLIC
DTSTART:20160409T160000Z
DTSTAMP:20160413T103000Z
END:VEVENT
END:VCALENDAR