BEGIN:VCALENDAR
VERSION:2.0
PRODID:VSD-Portal-www.volley.de
METHOD:PUBLISH
BEGIN:VEVENT
UID:342315-2da69939ed67427dc6bf3daba21059e9
X-WR-RELCALID:342315-2da69939ed67427dc6bf3daba21059e9
ORGANIZER:Volleyball
SEQUENCE:261111107
LOCATION:Jahnhalle, Richard-Köhn Str. 75, 25421 Pinneberg
GEO:53.64636000000000000000;9.79387000000000000000
SUMMARY:3. L N Mä.: VfL Pinneberg - PSV Neustrelitz Team Wesenberg
CLASS:PUBLIC
DTSTART:20151010T160000Z
DTSTAMP:20160413T103000Z
END:VEVENT
BEGIN:VEVENT
UID:342317-2da69939ed67427dc6bf3daba21059e9
X-WR-RELCALID:342317-2da69939ed67427dc6bf3daba21059e9
ORGANIZER:Volleyball
SEQUENCE:261111107
LOCATION:Jahnhalle, Richard-Köhn Str. 75, 25421 Pinneberg
GEO:53.64636000000000000000;9.79387000000000000000
SUMMARY:3. L N Mä.: VfL Pinneberg - VCO Hamburg
CLASS:PUBLIC
DTSTART:20151017T160000Z
DTSTAMP:20160413T103000Z
END:VEVENT
BEGIN:VEVENT
UID:342336-2da69939ed67427dc6bf3daba21059e9
X-WR-RELCALID:342336-2da69939ed67427dc6bf3daba21059e9
ORGANIZER:Volleyball
SEQUENCE:261111107
LOCATION:Jahnhalle, Richard-Köhn Str. 75, 25421 Pinneberg
GEO:53.64636000000000000000;9.79387000000000000000
SUMMARY:3. L N Mä.: VfL Pinneberg - Berliner VV
CLASS:PUBLIC
DTSTART:20151108T150000Z
DTSTAMP:20160413T103000Z
END:VEVENT
BEGIN:VEVENT
UID:342345-2da69939ed67427dc6bf3daba21059e9
X-WR-RELCALID:342345-2da69939ed67427dc6bf3daba21059e9
ORGANIZER:Volleyball
SEQUENCE:261111107
LOCATION:Jahnhalle, Richard-Köhn Str. 75, 25421 Pinneberg
GEO:53.64636000000000000000;9.79387000000000000000
SUMMARY:3. L N Mä.: VfL Pinneberg - KMTV Eagles
CLASS:PUBLIC
DTSTART:20151122T150000Z
DTSTAMP:20160413T103000Z
END:VEVENT
BEGIN:VEVENT
UID:342346-2da69939ed67427dc6bf3daba21059e9
X-WR-RELCALID:342346-2da69939ed67427dc6bf3daba21059e9
ORGANIZER:Volleyball
SEQUENCE:261111107
LOCATION:Jahnhalle, Richard-Köhn Str. 75, 25421 Pinneberg
GEO:53.64636000000000000000;9.79387000000000000000
SUMMARY:3. L N Mä.: VfL Pinneberg - Niendorfer TSV
CLASS:PUBLIC
DTSTART:20151128T170000Z
DTSTAMP:20160413T103000Z
END:VEVENT
BEGIN:VEVENT
UID:342356-2da69939ed67427dc6bf3daba21059e9
X-WR-RELCALID:342356-2da69939ed67427dc6bf3daba21059e9
ORGANIZER:Volleyball
SEQUENCE:261111107
LOCATION:Jahnhalle, Richard-Köhn Str. 75, 25421 Pinneberg
GEO:53.64636000000000000000;9.79387000000000000000
SUMMARY:3. L N Mä.: VfL Pinneberg - Oststeinbeker SV
CLASS:PUBLIC
DTSTART:20151213T150000Z
DTSTAMP:20160413T103000Z
END:VEVENT
BEGIN:VEVENT
UID:342357-2da69939ed67427dc6bf3daba21059e9
X-WR-RELCALID:342357-2da69939ed67427dc6bf3daba21059e9
ORGANIZER:Volleyball
SEQUENCE:261111107
LOCATION:Jahnhalle, Richard-Köhn Str. 75, 25421 Pinneberg
GEO:53.64636000000000000000;9.79387000000000000000
SUMMARY:3. L N Mä.: VfL Pinneberg - SV Preußen Berlin
CLASS:PUBLIC
DTSTART:20160109T170000Z
DTSTAMP:20160413T103000Z
END:VEVENT
BEGIN:VEVENT
UID:342368-2da69939ed67427dc6bf3daba21059e9
X-WR-RELCALID:342368-2da69939ed67427dc6bf3daba21059e9
ORGANIZER:Volleyball
SEQUENCE:261111107
LOCATION:Jahnhalle, Richard-Köhn Str. 75, 25421 Pinneberg
GEO:53.64636000000000000000;9.79387000000000000000
SUMMARY:3. L N Mä.: VfL Pinneberg - TKC Wriezen
CLASS:PUBLIC
DTSTART:20160123T170000Z
DTSTAMP:20160413T103000Z
END:VEVENT
BEGIN:VEVENT
UID:342384-2da69939ed67427dc6bf3daba21059e9
X-WR-RELCALID:342384-2da69939ed67427dc6bf3daba21059e9
ORGANIZER:Volleyball
SEQUENCE:261111107
LOCATION:Jahnhalle, Richard-Köhn Str. 75, 25421 Pinneberg
GEO:53.64636000000000000000;9.79387000000000000000
SUMMARY:3. L N Mä.: VfL Pinneberg - TSGL Schöneiche
CLASS:PUBLIC
DTSTART:20160220T170000Z
DTSTAMP:20160413T103000Z
END:VEVENT
BEGIN:VEVENT
UID:342406-2da69939ed67427dc6bf3daba21059e9
X-WR-RELCALID:342406-2da69939ed67427dc6bf3daba21059e9
ORGANIZER:Volleyball
SEQUENCE:261111107
LOCATION:Jahnhalle, Richard-Köhn Str. 75, 25421 Pinneberg
GEO:53.64636000000000000000;9.79387000000000000000
SUMMARY:3. L N Mä.: VfL Pinneberg - SV Warnemünde
CLASS:PUBLIC
DTSTART:20160403T140000Z
DTSTAMP:20160413T103000Z
END:VEVENT
END:VCALENDAR