BEGIN:VCALENDAR
VERSION:2.0
PRODID:VSD-Portal-www.volley.de
METHOD:PUBLISH
BEGIN:VEVENT
UID:338600-2da69939ed67427dc6bf3daba21059e9
X-WR-RELCALID:338600-2da69939ed67427dc6bf3daba21059e9
ORGANIZER:Volleyball
SEQUENCE:261091718
LOCATION:Carl von Ossietzky Sporthalle, Georg-Büchner-Str. 15, 27574 B
 remerhaven
GEO:53.53188840000000000000;8.61416940000000000000
SUMMARY:BL 07 Fr.: ESC Geestemünde II - SG Beverstedt
CLASS:PUBLIC
DTSTART:20151107T140000Z
DTSTAMP:20160328T114500Z
END:VEVENT
BEGIN:VEVENT
UID:338601-2da69939ed67427dc6bf3daba21059e9
X-WR-RELCALID:338601-2da69939ed67427dc6bf3daba21059e9
ORGANIZER:Volleyball
SEQUENCE:261091718
LOCATION:Carl von Ossietzky Sporthalle, Georg-Büchner-Str. 15, 27574 B
 remerhaven
GEO:53.53188840000000000000;8.61416940000000000000
SUMMARY:BL 07 Fr.: ESC Geestemünde II - TuS Klein Meckelsen
CLASS:PUBLIC
DTSTART:20151107T140000Z
DTSTAMP:20160328T114500Z
END:VEVENT
BEGIN:VEVENT
UID:338614-2da69939ed67427dc6bf3daba21059e9
X-WR-RELCALID:338614-2da69939ed67427dc6bf3daba21059e9
ORGANIZER:Volleyball
SEQUENCE:261091718
LOCATION:Carl von Ossietzky Sporthalle, Georg-Büchner-Str. 15, 27574 B
 remerhaven
GEO:53.53188840000000000000;8.61416940000000000000
SUMMARY:BL 07 Fr.: ESC Geestemünde II - MTSV Selsingen
CLASS:PUBLIC
DTSTART:20151212T140000Z
DTSTAMP:20160328T114500Z
END:VEVENT
BEGIN:VEVENT
UID:338615-2da69939ed67427dc6bf3daba21059e9
X-WR-RELCALID:338615-2da69939ed67427dc6bf3daba21059e9
ORGANIZER:Volleyball
SEQUENCE:261091718
LOCATION:Carl von Ossietzky Sporthalle, Georg-Büchner-Str. 15, 27574 B
 remerhaven
GEO:53.53188840000000000000;8.61416940000000000000
SUMMARY:BL 07 Fr.: ESC Geestemünde II - SG Karlshöfen/Gnarrenburg II
CLASS:PUBLIC
DTSTART:20151212T140000Z
DTSTAMP:20160328T114500Z
END:VEVENT
BEGIN:VEVENT
UID:338630-2da69939ed67427dc6bf3daba21059e9
X-WR-RELCALID:338630-2da69939ed67427dc6bf3daba21059e9
ORGANIZER:Volleyball
SEQUENCE:261091718
LOCATION:Carl von Ossietzky Sporthalle, Georg-Büchner-Str. 15, 27574 B
 remerhaven
GEO:53.53188840000000000000;8.61416940000000000000
SUMMARY:BL 07 Fr.: ESC Geestemünde II - TV Hambergen
CLASS:PUBLIC
DTSTART:20160206T140000Z
DTSTAMP:20160328T114500Z
END:VEVENT
BEGIN:VEVENT
UID:338631-2da69939ed67427dc6bf3daba21059e9
X-WR-RELCALID:338631-2da69939ed67427dc6bf3daba21059e9
ORGANIZER:Volleyball
SEQUENCE:261091718
LOCATION:Carl von Ossietzky Sporthalle, Georg-Büchner-Str. 15, 27574 B
 remerhaven
GEO:53.53188840000000000000;8.61416940000000000000
SUMMARY:BL 07 Fr.: ESC Geestemünde II - VfL Sittensen
CLASS:PUBLIC
DTSTART:20160206T140000Z
DTSTAMP:20160328T114500Z
END:VEVENT
END:VCALENDAR