BEGIN:VCALENDAR
VERSION:2.0
PRODID:VSD-Portal-www.volley.de
METHOD:PUBLISH
BEGIN:VEVENT
UID:338597-2da69939ed67427dc6bf3daba21059e9
X-WR-RELCALID:338597-2da69939ed67427dc6bf3daba21059e9
ORGANIZER:Volleyball
SEQUENCE:261120559
LOCATION:Sporthalle Selsingen, Oberochtenhausener Straße, 27446 Selsin
 gen
GEO:53.36666700000000000000;9.21666700000000000000
SUMMARY:BL 07 Fr.: MTSV Selsingen - SG Beverstedt
CLASS:PUBLIC
DTSTART:20151011T080000Z
DTSTAMP:20160328T114500Z
END:VEVENT
BEGIN:VEVENT
UID:338598-2da69939ed67427dc6bf3daba21059e9
X-WR-RELCALID:338598-2da69939ed67427dc6bf3daba21059e9
ORGANIZER:Volleyball
SEQUENCE:261120559
LOCATION:Grundschule Beverstedt, An der Brake, 27616 Beverstedt
GEO:53.43228620000000000000;8.81348840000000000000
SUMMARY:BL 07 Fr.: SG Beverstedt - VfL Sittensen
CLASS:PUBLIC
DTSTART:20151017T110000Z
DTSTAMP:20160328T114500Z
END:VEVENT
BEGIN:VEVENT
UID:338599-2da69939ed67427dc6bf3daba21059e9
X-WR-RELCALID:338599-2da69939ed67427dc6bf3daba21059e9
ORGANIZER:Volleyball
SEQUENCE:261120559
LOCATION:Grundschule Beverstedt, An der Brake, 27616 Beverstedt
GEO:53.43228620000000000000;8.81348840000000000000
SUMMARY:BL 07 Fr.: SG Beverstedt - TuS Klein Meckelsen
CLASS:PUBLIC
DTSTART:20151017T110000Z
DTSTAMP:20160328T114500Z
END:VEVENT
BEGIN:VEVENT
UID:338600-2da69939ed67427dc6bf3daba21059e9
X-WR-RELCALID:338600-2da69939ed67427dc6bf3daba21059e9
ORGANIZER:Volleyball
SEQUENCE:261120559
LOCATION:Carl von Ossietzky Sporthalle, Georg-Büchner-Str. 15, 27574 B
 remerhaven
GEO:53.53188840000000000000;8.61416940000000000000
SUMMARY:BL 07 Fr.: ESC Geestemünde II - SG Beverstedt
CLASS:PUBLIC
DTSTART:20151107T140000Z
DTSTAMP:20160328T114500Z
END:VEVENT
BEGIN:VEVENT
UID:338605-2da69939ed67427dc6bf3daba21059e9
X-WR-RELCALID:338605-2da69939ed67427dc6bf3daba21059e9
ORGANIZER:Volleyball
SEQUENCE:261120559
LOCATION:Schulzentrum Gnarrenburg, Brilliter Weg, 27442 Gnarrenburg
GEO:53.38964360000000000000;9.00001930000000000000
SUMMARY:BL 07 Fr.: SG Karlshöfen/Gnarrenburg II - SG Beverstedt
CLASS:PUBLIC
DTSTART:20151114T140000Z
DTSTAMP:20160328T114500Z
END:VEVENT
BEGIN:VEVENT
UID:338610-2da69939ed67427dc6bf3daba21059e9
X-WR-RELCALID:338610-2da69939ed67427dc6bf3daba21059e9
ORGANIZER:Volleyball
SEQUENCE:261120559
LOCATION:Grundschule Beverstedt, An der Brake, 27616 Beverstedt
GEO:53.43228620000000000000;8.81348840000000000000
SUMMARY:BL 07 Fr.: SG Beverstedt - SV Hüttenbusch
CLASS:PUBLIC
DTSTART:20151128T140000Z
DTSTAMP:20160328T114500Z
END:VEVENT
BEGIN:VEVENT
UID:338611-2da69939ed67427dc6bf3daba21059e9
X-WR-RELCALID:338611-2da69939ed67427dc6bf3daba21059e9
ORGANIZER:Volleyball
SEQUENCE:261120559
LOCATION:Grundschule Beverstedt, An der Brake, 27616 Beverstedt
GEO:53.43228620000000000000;8.81348840000000000000
SUMMARY:BL 07 Fr.: SG Beverstedt - TV Hambergen
CLASS:PUBLIC
DTSTART:20151128T140000Z
DTSTAMP:20160328T114500Z
END:VEVENT
BEGIN:VEVENT
UID:338622-2da69939ed67427dc6bf3daba21059e9
X-WR-RELCALID:338622-2da69939ed67427dc6bf3daba21059e9
ORGANIZER:Volleyball
SEQUENCE:261120559
LOCATION:Grundschule Beverstedt, An der Brake, 27616 Beverstedt
GEO:53.43228620000000000000;8.81348840000000000000
SUMMARY:BL 07 Fr.: SG Beverstedt - ESC Geestemünde II
CLASS:PUBLIC
DTSTART:20160116T130000Z
DTSTAMP:20160328T114500Z
END:VEVENT
BEGIN:VEVENT
UID:338623-2da69939ed67427dc6bf3daba21059e9
X-WR-RELCALID:338623-2da69939ed67427dc6bf3daba21059e9
ORGANIZER:Volleyball
SEQUENCE:261120559
LOCATION:Grundschule Beverstedt, An der Brake, 27616 Beverstedt
GEO:53.43228620000000000000;8.81348840000000000000
SUMMARY:BL 07 Fr.: SG Beverstedt - MTSV Selsingen
CLASS:PUBLIC
DTSTART:20160116T130000Z
DTSTAMP:20160328T114500Z
END:VEVENT
BEGIN:VEVENT
UID:338627-2da69939ed67427dc6bf3daba21059e9
X-WR-RELCALID:338627-2da69939ed67427dc6bf3daba21059e9
ORGANIZER:Volleyball
SEQUENCE:261120559
LOCATION:Mehrzweckhalle Hambergen, Bahnhofstraße, 27729 Hambergen
GEO:53.29849170000000000000;8.81941250000000000000
SUMMARY:BL 07 Fr.: TV Hambergen - SG Beverstedt
CLASS:PUBLIC
DTSTART:20160123T140000Z
DTSTAMP:20160328T114500Z
END:VEVENT
BEGIN:VEVENT
UID:338634-2da69939ed67427dc6bf3daba21059e9
X-WR-RELCALID:338634-2da69939ed67427dc6bf3daba21059e9
ORGANIZER:Volleyball
SEQUENCE:261120559
LOCATION:Grundschule Beverstedt, An der Brake, 27616 Beverstedt
GEO:53.43228620000000000000;8.81348840000000000000
SUMMARY:BL 07 Fr.: SG Beverstedt - SG Karlshöfen/Gnarrenburg II
CLASS:PUBLIC
DTSTART:20160213T140000Z
DTSTAMP:20160328T114500Z
END:VEVENT
BEGIN:VEVENT
UID:338635-2da69939ed67427dc6bf3daba21059e9
X-WR-RELCALID:338635-2da69939ed67427dc6bf3daba21059e9
ORGANIZER:Volleyball
SEQUENCE:261120559
LOCATION:Grundschule Beverstedt, An der Brake, 27616 Beverstedt
GEO:53.43228620000000000000;8.81348840000000000000
SUMMARY:BL 07 Fr.: SG Beverstedt - TuS Klein Meckelsen
CLASS:PUBLIC
DTSTART:20160213T140000Z
DTSTAMP:20160328T114500Z
END:VEVENT
BEGIN:VEVENT
UID:338638-2da69939ed67427dc6bf3daba21059e9
X-WR-RELCALID:338638-2da69939ed67427dc6bf3daba21059e9
ORGANIZER:Volleyball
SEQUENCE:261120559
LOCATION:Sporthalle Sittensen, Am Sportplatz, 27419 Sittensen
GEO:53.28749000000000000000;9.50399800000000000000
SUMMARY:BL 07 Fr.: VfL Sittensen - SG Beverstedt
CLASS:PUBLIC
DTSTART:20160220T140000Z
DTSTAMP:20160328T114500Z
END:VEVENT
BEGIN:VEVENT
UID:338644-2da69939ed67427dc6bf3daba21059e9
X-WR-RELCALID:338644-2da69939ed67427dc6bf3daba21059e9
ORGANIZER:Volleyball
SEQUENCE:261120559
LOCATION:Sporthalle Hüttenbusch, Schulstr. 35, 27726 Worpswede
GEO:53.27442000000000000000;8.96565000000000000000
SUMMARY:BL 07 Fr.: SV Hüttenbusch - SG Beverstedt
CLASS:PUBLIC
DTSTART:20160312T140000Z
DTSTAMP:20160328T114500Z
END:VEVENT
END:VCALENDAR